| Back to Multiple platform build/check report for BioC 3.19: simplified long | 
 | 
This page was generated on 2024-10-18 20:39 -0400 (Fri, 18 Oct 2024).
| Hostname | OS | Arch (*) | R version | Installed pkgs | 
|---|---|---|---|---|
| nebbiolo1 | Linux (Ubuntu 22.04.3 LTS) | x86_64 | 4.4.1 (2024-06-14) -- "Race for Your Life" | 4763 | 
| palomino7 | Windows Server 2022 Datacenter | x64 | 4.4.1 (2024-06-14 ucrt) -- "Race for Your Life" | 4500 | 
| merida1 | macOS 12.7.5 Monterey | x86_64 | 4.4.1 (2024-06-14) -- "Race for Your Life" | 4530 | 
| kjohnson1 | macOS 13.6.6 Ventura | arm64 | 4.4.1 (2024-06-14) -- "Race for Your Life" | 4480 | 
| Click on any hostname to see more info about the system (e.g. compilers) (*) as reported by 'uname -p', except on Windows and Mac OS X | ||||
| Package 170/2300 | Hostname | OS / Arch | INSTALL | BUILD | CHECK | BUILD BIN | ||||||||
| Biobase 2.64.0  (landing page) Bioconductor Package Maintainer 
 | nebbiolo1 | Linux (Ubuntu 22.04.3 LTS) / x86_64 | OK | OK | OK |  | ||||||||
| palomino7 | Windows Server 2022 Datacenter / x64 | OK | OK | OK | OK |  | ||||||||
| merida1 | macOS 12.7.5 Monterey / x86_64 | OK | OK | OK | OK |  | ||||||||
| kjohnson1 | macOS 13.6.6 Ventura / arm64 | OK | OK | OK | OK |  | ||||||||
| To the developers/maintainers of the Biobase package: - Allow up to 24 hours (and sometimes 48 hours) for your latest push to git@git.bioconductor.org:packages/Biobase.git to reflect on this report. See Troubleshooting Build Report for more information. - Use the following Renviron settings to reproduce errors and warnings. - If 'R CMD check' started to fail recently on the Linux builder(s) over a missing dependency, add the missing dependency to 'Suggests:' in your DESCRIPTION file. See Renviron.bioc for more information. | 
| Package: Biobase | 
| Version: 2.64.0 | 
| Command: E:\biocbuild\bbs-3.19-bioc\R\bin\R.exe CMD check --no-multiarch --install=check:Biobase.install-out.txt --library=E:\biocbuild\bbs-3.19-bioc\R\library --no-vignettes --timings Biobase_2.64.0.tar.gz | 
| StartedAt: 2024-10-16 23:11:18 -0400 (Wed, 16 Oct 2024) | 
| EndedAt: 2024-10-16 23:13:06 -0400 (Wed, 16 Oct 2024) | 
| EllapsedTime: 107.5 seconds | 
| RetCode: 0 | 
| Status: OK | 
| CheckDir: Biobase.Rcheck | 
| Warnings: 0 | 
##############################################################################
##############################################################################
###
### Running command:
###
###   E:\biocbuild\bbs-3.19-bioc\R\bin\R.exe CMD check --no-multiarch --install=check:Biobase.install-out.txt --library=E:\biocbuild\bbs-3.19-bioc\R\library --no-vignettes --timings Biobase_2.64.0.tar.gz
###
##############################################################################
##############################################################################
* using log directory 'E:/biocbuild/bbs-3.19-bioc/meat/Biobase.Rcheck'
* using R version 4.4.1 (2024-06-14 ucrt)
* using platform: x86_64-w64-mingw32
* R was compiled by
    gcc.exe (GCC) 13.2.0
    GNU Fortran (GCC) 13.2.0
* running under: Windows Server 2022 x64 (build 20348)
* using session charset: UTF-8
* using option '--no-vignettes'
* checking for file 'Biobase/DESCRIPTION' ... OK
* this is package 'Biobase' version '2.64.0'
* checking package namespace information ... OK
* checking package dependencies ... OK
* checking if this is a source package ... OK
* checking if there is a namespace ... OK
* checking for hidden files and directories ... OK
* checking for portable file names ... OK
* checking whether package 'Biobase' can be installed ... OK
* used C compiler: 'gcc.exe (GCC) 13.2.0'
* checking installed package size ... OK
* checking package directory ... OK
* checking 'build' directory ... OK
* checking DESCRIPTION meta-information ... OK
* checking top-level files ... OK
* checking for left-over files ... OK
* checking index information ... OK
* checking package subdirectories ... OK
* checking code files for non-ASCII characters ... OK
* checking R files for syntax errors ... OK
* checking whether the package can be loaded ... OK
* checking whether the package can be loaded with stated dependencies ... OK
* checking whether the package can be unloaded cleanly ... OK
* checking whether the namespace can be loaded with stated dependencies ... OK
* checking whether the namespace can be unloaded cleanly ... OK
* checking whether startup messages can be suppressed ... OK
* checking dependencies in R code ... OK
* checking S3 generic/method consistency ... OK
* checking replacement functions ... OK
* checking foreign function calls ... OK
* checking R code for possible problems ... NOTE
addVigs2WinMenu: no visible global function definition for
  'winMenuNames'
addVigs2WinMenu: no visible global function definition for 'winMenuAdd'
addVigs2WinMenu: no visible global function definition for
  'winMenuAddItem'
Undefined global functions or variables:
  winMenuAdd winMenuAddItem winMenuNames
Consider adding
  importFrom("utils", "winMenuAdd", "winMenuAddItem", "winMenuNames")
to your NAMESPACE file.
* checking Rd files ... OK
* checking Rd metadata ... OK
* checking Rd cross-references ... OK
* checking for missing documentation entries ... OK
* checking for code/documentation mismatches ... OK
* checking Rd \usage sections ... OK
* checking Rd contents ... OK
* checking for unstated dependencies in examples ... OK
* checking contents of 'data' directory ... OK
* checking data for non-ASCII characters ... OK
* checking data for ASCII and uncompressed saves ... OK
* checking line endings in C/C++/Fortran sources/headers ... OK
* checking compiled code ... NOTE
Note: information on .o files for x64 is not available
File 'E:/biocbuild/bbs-3.19-bioc/R/library/Biobase/libs/x64/Biobase.dll':
  Found '_exit', possibly from '_exit' (C)
  Found 'abort', possibly from 'abort' (C), 'runtime' (Fortran)
Compiled code should not call entry points which might terminate R nor
write to stdout/stderr instead of to the console, nor use Fortran I/O
nor system RNGs nor [v]sprintf. The detected symbols are linked into
the code but might come from libraries and not actually be called.
See 'Writing portable packages' in the 'Writing R Extensions' manual.
* checking sizes of PDF files under 'inst/doc' ... OK
* checking files in 'vignettes' ... OK
* checking examples ... OK
* checking for unstated dependencies in 'tests' ... OK
* checking tests ...
  Running 'test-all.R'
  Running 'test-rowMedians.R'
 OK
* checking for unstated dependencies in vignettes ... OK
* checking package vignettes ... OK
* checking running R code from vignettes ... SKIPPED
* checking re-building of vignette outputs ... SKIPPED
* checking PDF version of manual ... OK
* DONE
Status: 2 NOTEs
See
  'E:/biocbuild/bbs-3.19-bioc/meat/Biobase.Rcheck/00check.log'
for details.
Biobase.Rcheck/00install.out
############################################################################## ############################################################################## ### ### Running command: ### ### E:\biocbuild\bbs-3.19-bioc\R\bin\R.exe CMD INSTALL Biobase ### ############################################################################## ############################################################################## * installing to library 'E:/biocbuild/bbs-3.19-bioc/R/library' * installing *source* package 'Biobase' ... ** using staged installation ** libs using C compiler: 'gcc.exe (GCC) 13.2.0' gcc -I"E:/biocbuild/bbs-3.19-bioc/R/include" -DNDEBUG -I"C:/rtools44/x86_64-w64-mingw32.static.posix/include" -O2 -Wall -mfpmath=sse -msse2 -mstackrealign -c Rinit.c -o Rinit.o gcc -I"E:/biocbuild/bbs-3.19-bioc/R/include" -DNDEBUG -I"C:/rtools44/x86_64-w64-mingw32.static.posix/include" -O2 -Wall -mfpmath=sse -msse2 -mstackrealign -c anyMissing.c -o anyMissing.o gcc -I"E:/biocbuild/bbs-3.19-bioc/R/include" -DNDEBUG -I"C:/rtools44/x86_64-w64-mingw32.static.posix/include" -O2 -Wall -mfpmath=sse -msse2 -mstackrealign -c envir.c -o envir.o gcc -I"E:/biocbuild/bbs-3.19-bioc/R/include" -DNDEBUG -I"C:/rtools44/x86_64-w64-mingw32.static.posix/include" -O2 -Wall -mfpmath=sse -msse2 -mstackrealign -c matchpt.c -o matchpt.o gcc -I"E:/biocbuild/bbs-3.19-bioc/R/include" -DNDEBUG -I"C:/rtools44/x86_64-w64-mingw32.static.posix/include" -O2 -Wall -mfpmath=sse -msse2 -mstackrealign -c rowMedians.c -o rowMedians.o gcc -I"E:/biocbuild/bbs-3.19-bioc/R/include" -DNDEBUG -I"C:/rtools44/x86_64-w64-mingw32.static.posix/include" -O2 -Wall -mfpmath=sse -msse2 -mstackrealign -c sublist_extract.c -o sublist_extract.o gcc -shared -s -static-libgcc -o Biobase.dll tmp.def Rinit.o anyMissing.o envir.o matchpt.o rowMedians.o sublist_extract.o -LC:/rtools44/x86_64-w64-mingw32.static.posix/lib/x64 -LC:/rtools44/x86_64-w64-mingw32.static.posix/lib -LE:/biocbuild/bbs-3.19-bioc/R/bin/x64 -lR installing to E:/biocbuild/bbs-3.19-bioc/R/library/00LOCK-Biobase/00new/Biobase/libs/x64 ** R ** data ** inst ** byte-compile and prepare package for lazy loading ** help *** installing help indices ** building package indices ** installing vignettes ** testing if installed package can be loaded from temporary location ** testing if installed package can be loaded from final location ** testing if installed package keeps a record of temporary installation path * DONE (Biobase)
Biobase.Rcheck/tests/test-all.Rout
R version 4.4.1 (2024-06-14 ucrt) -- "Race for Your Life"
Copyright (C) 2024 The R Foundation for Statistical Computing
Platform: x86_64-w64-mingw32/x64
R is free software and comes with ABSOLUTELY NO WARRANTY.
You are welcome to redistribute it under certain conditions.
Type 'license()' or 'licence()' for distribution details.
R is a collaborative project with many contributors.
Type 'contributors()' for more information and
'citation()' on how to cite R or R packages in publications.
Type 'demo()' for some demos, 'help()' for on-line help, or
'help.start()' for an HTML browser interface to help.
Type 'q()' to quit R.
> BiocGenerics:::testPackage("Biobase")
Attaching package: 'BiocGenerics'
The following objects are masked from 'package:stats':
    IQR, mad, sd, var, xtabs
The following objects are masked from 'package:base':
    Filter, Find, Map, Position, Reduce, anyDuplicated, aperm, append,
    as.data.frame, basename, cbind, colnames, dirname, do.call,
    duplicated, eval, evalq, get, grep, grepl, intersect, is.unsorted,
    lapply, mapply, match, mget, order, paste, pmax, pmax.int, pmin,
    pmin.int, rank, rbind, rownames, sapply, setdiff, table, tapply,
    union, unique, unsplit, which.max, which.min
Welcome to Bioconductor
    Vignettes contain introductory material; view with
    'browseVignettes()'. To cite Bioconductor, see
    'citation("Biobase")', and for packages 'citation("pkgname")'.
RUNIT TEST PROTOCOL -- Wed Oct 16 23:12:23 2024 
*********************************************** 
Number of test functions: 101 
Number of errors: 0 
Number of failures: 0 
 
1 Test Suite : 
Biobase RUnit Tests - 101 test functions, 0 errors, 0 failures
Number of test functions: 101 
Number of errors: 0 
Number of failures: 0 
> 
> proc.time()
   user  system elapsed 
  13.15    0.45   13.64 
Biobase.Rcheck/tests/test-rowMedians.Rout
R version 4.4.1 (2024-06-14 ucrt) -- "Race for Your Life"
Copyright (C) 2024 The R Foundation for Statistical Computing
Platform: x86_64-w64-mingw32/x64
R is free software and comes with ABSOLUTELY NO WARRANTY.
You are welcome to redistribute it under certain conditions.
Type 'license()' or 'licence()' for distribution details.
R is a collaborative project with many contributors.
Type 'contributors()' for more information and
'citation()' on how to cite R or R packages in publications.
Type 'demo()' for some demos, 'help()' for on-line help, or
'help.start()' for an HTML browser interface to help.
Type 'q()' to quit R.
> library(Biobase)
Loading required package: BiocGenerics
Attaching package: 'BiocGenerics'
The following objects are masked from 'package:stats':
    IQR, mad, sd, var, xtabs
The following objects are masked from 'package:base':
    Filter, Find, Map, Position, Reduce, anyDuplicated, aperm, append,
    as.data.frame, basename, cbind, colnames, dirname, do.call,
    duplicated, eval, evalq, get, grep, grepl, intersect, is.unsorted,
    lapply, mapply, match, mget, order, paste, pmax, pmax.int, pmin,
    pmin.int, rank, rbind, rownames, sapply, setdiff, table, tapply,
    union, unique, unsplit, which.max, which.min
Welcome to Bioconductor
    Vignettes contain introductory material; view with
    'browseVignettes()'. To cite Bioconductor, see
    'citation("Biobase")', and for packages 'citation("pkgname")'.
> set.seed(1)
> 
> # - - - - - - - - - - - - - - - - - - - - - - - - - - - -
> # Consistency checks
> # - - - - - - - - - - - - - - - - - - - - - - - - - - - -
> 
> # rowMedians() by rowQ()
> rowMedians2 <- function(imat) {
+   nr <- ncol(imat)
+   half <- (nr + 1)/2
+   if (nr%%2 == 1) {
+     return(rowQ(imat, half))
+   } else {
+     return((rowQ(imat, half) + rowQ(imat, half+1))/2)
+   }
+ }
> 
> cat("Consistency checks:\n")
Consistency checks:
> set.seed(1)
> for (kk in 1:20) {
+   cat("Random test #", kk, "\n", sep="")
+ 
+   # Simulate data in a matrix of any shape
+   nrow <- sample(2000, size=1)
+   ncol <- sample(2000, size=1)
+   x <- rnorm(nrow*ncol)
+   dim(x) <- c(nrow, ncol)
+ 
+   # Add NAs?
+   nas <- sample(c(TRUE,FALSE), size=1)
+   if (nas) {
+     nna <- sample(nrow*ncol, size=1)
+     x[sample(length(x), size=nna)] <- NA
+   }
+ 
+   na.rm <- nas
+   t1 <- system.time({
+     y1 <- rowMedians(x, na.rm=na.rm)
+   })
+   t2 <- system.time({
+     y2 <- apply(x, MARGIN=1, FUN=median, na.rm=na.rm)
+   })
+   # When all values of 'y2' are NA, 'y2' is logical
+   if (is.logical(y2)) y2 <- as.double(y2)
+   stopifnot(all.equal(y1,y2))
+   cat(sprintf("rowMedians()/apply(): %.3g\n", (t1/t2)[3]))
+ 
+   if (!nas) {
+     t3 <- system.time({
+       y3 <- rowMedians2(x)
+     })
+     stopifnot(all.equal(y1,y3))
+     cat(sprintf("rowMedians()/rowMedians2(): %.3g\n", (t1/t3)[3]))
+   }
+ }
Random test #1
rowMedians()/apply(): 0.32
Random test #2
rowMedians()/apply(): 0.143
rowMedians()/rowMedians2(): 0.5
Random test #3
rowMedians()/apply(): 0
Random test #4
rowMedians()/apply(): 0.2
rowMedians()/rowMedians2(): 0.6
Random test #5
rowMedians()/apply(): 0.381
rowMedians()/rowMedians2(): 0.5
Random test #6
rowMedians()/apply(): 0.75
rowMedians()/rowMedians2(): 1
Random test #7
rowMedians()/apply(): 0.242
Random test #8
rowMedians()/apply(): 0
rowMedians()/rowMedians2(): NaN
Random test #9
rowMedians()/apply(): 0
Random test #10
rowMedians()/apply(): 0.167
Random test #11
rowMedians()/apply(): 0
Random test #12
rowMedians()/apply(): 0
Random test #13
rowMedians()/apply(): 2
rowMedians()/rowMedians2(): Inf
Random test #14
rowMedians()/apply(): 0.158
Random test #15
rowMedians()/apply(): 0.316
Random test #16
rowMedians()/apply(): 0.111
rowMedians()/rowMedians2(): 0.333
Random test #17
rowMedians()/apply(): 0.187
Random test #18
rowMedians()/apply(): 0.167
rowMedians()/rowMedians2(): 1
Random test #19
rowMedians()/apply(): 0.429
rowMedians()/rowMedians2(): 1
Random test #20
rowMedians()/apply(): 0.275
rowMedians()/rowMedians2(): 0.5
> 
> 
> # - - - - - - - - - - - - - - - - - - - - - - - - - - - -
> # Benchmarking
> # - - - - - - - - - - - - - - - - - - - - - - - - - - - -
> cat("Benchmarking:\n")
Benchmarking:
> 
> # Simulate data in a matrix of any shape
> nrow <- 1000
> ncol <- 1000
> x <- rnorm(nrow*ncol)
> dim(x) <- c(nrow, ncol)
> 
> gc()
          used (Mb) gc trigger (Mb) max used (Mb)
Ncells  593811 31.8    1187037 63.4  1057500 56.5
Vcells 2075044 15.9   12255594 93.6 12303152 93.9
> t0 <- system.time({
+   for (rr in 1:20)
+     y0 <- apply(x, MARGIN=1, FUN=median, na.rm=FALSE)
+ })
> gc()
          used (Mb) gc trigger (Mb) max used (Mb)
Ncells  593827 31.8    1187037 63.4  1187037 63.4
Vcells 2076061 15.9   12255594 93.6 12303152 93.9
> t1 <- system.time({
+   for (rr in 1:20)
+     y1 <- rowMedians(x, na.rm=FALSE)
+ })
> gc()
          used (Mb) gc trigger (Mb) max used (Mb)
Ncells  593827 31.8    1187037 63.4  1187037 63.4
Vcells 2075186 15.9   12255594 93.6 12303152 93.9
> stopifnot(all.equal(y0,y1))
> cat(sprintf("rowMedians()/apply(): %.3g\n", (t1/t0)[3]))
rowMedians()/apply(): 0.273
> 
> 
> # - - - - - - - - - - - - - - - - - - - - - - - - - - - -
> # Consistency checks
> # - - - - - - - - - - - - - - - - - - - - - - - - - - - -
> cat("Consistency checks without NAs:\n")
Consistency checks without NAs:
> for (kk in 1:20) {
+   cat("Random test #", kk, "\n", sep="")
+ 
+   # Simulate data in a matrix of any shape
+   nrow <- sample(1000, size=1)
+   ncol <- sample(1000, size=1)
+   x <- rnorm(nrow*ncol)
+   dim(x) <- c(nrow, ncol)
+ 
+   t0 <- system.time({
+     y0 <- apply(x, MARGIN=1, FUN=median, na.rm=FALSE)
+   })
+   t1 <- system.time({
+     y1 <- rowMedians(x, na.rm=FALSE)
+   })
+   stopifnot(all.equal(y0,y1))
+ } # for (kk in ...)
Random test #1
Random test #2
Random test #3
Random test #4
Random test #5
Random test #6
Random test #7
Random test #8
Random test #9
Random test #10
Random test #11
Random test #12
Random test #13
Random test #14
Random test #15
Random test #16
Random test #17
Random test #18
Random test #19
Random test #20
> 
> 
> 
> cat("Consistency checks with NAs:\n")
Consistency checks with NAs:
> for (kk in 1:20) {
+   cat("Random test #", kk, "\n", sep="")
+ 
+   # Simulate data in a matrix of any shape
+   nrow <- sample(1000, size=1)
+   ncol <- sample(1000, size=1)
+   x <- rnorm(nrow*ncol)
+   dim(x) <- c(nrow, ncol)
+ 
+   # Add NAs
+   nna <- sample(nrow*ncol-1, size=1)
+   x[sample(length(x), size=nna)] <- NA
+ 
+   t0 <- system.time({
+     y0 <- apply(x, MARGIN=1, FUN=median, na.rm=TRUE)
+     y0[is.na(y0)] <- NA
+   })
+   t1 <- system.time({
+     y1 <- rowMedians(x, na.rm=TRUE)
+   })
+   stopifnot(all.equal(y0,y1))
+ } # for (kk in ...)
Random test #1
Random test #2
Random test #3
Random test #4
Random test #5
Random test #6
Random test #7
Random test #8
Random test #9
Random test #10
Random test #11
Random test #12
Random test #13
Random test #14
Random test #15
Random test #16
Random test #17
Random test #18
Random test #19
Random test #20
> 
> proc.time()
   user  system elapsed 
  22.09    1.20   23.29 
Biobase.Rcheck/Biobase-Ex.timings
| name | user | system | elapsed | |
| Aggregate | 0 | 0 | 0 | |
| ScalarObject-class | 0.08 | 0.00 | 0.08 | |
| addVig2Menu | 0 | 0 | 0 | |
| anyMissing | 0 | 0 | 0 | |
| cache | 0.02 | 0.00 | 0.02 | |
| channel | 0.20 | 0.01 | 0.21 | |
| channelNames | 0.05 | 0.00 | 0.05 | |
| class.AnnotatedDataFrame | 0.03 | 0.02 | 0.05 | |
| class.ExpressionSet | 0.11 | 0.03 | 0.14 | |
| class.MIAxE | 0.01 | 0.00 | 0.01 | |
| class.MultiSet | 0.02 | 0.00 | 0.02 | |
| class.NChannelSet | 0.11 | 0.00 | 0.10 | |
| class.Versioned | 0.05 | 0.00 | 0.05 | |
| class.VersionedBiobase | 0.02 | 0.00 | 0.02 | |
| class.Versions | 0 | 0 | 0 | |
| class.VersionsNull | 0 | 0 | 0 | |
| class.container | 0.01 | 0.00 | 0.01 | |
| class.eSet | 0.08 | 0.00 | 0.08 | |
| classVersion | 0.02 | 0.00 | 0.02 | |
| contents | 0 | 0 | 0 | |
| copyEnv | 0 | 0 | 0 | |
| copySubstitute | 0.00 | 0.00 | 0.09 | |
| createPackage | 0.00 | 0.02 | 0.02 | |
| data.aaMap | 0.00 | 0.00 | 0.01 | |
| data.geneData | 0.04 | 0.00 | 0.05 | |
| data.reporter | 0 | 0 | 0 | |
| data.sample.ExpressionSet | 0.02 | 0.01 | 0.03 | |
| data.sample.MultiSet | 0.01 | 0.00 | 0.02 | |
| dumpPackTxt | 0.00 | 0.00 | 0.03 | |
| esApply | 1.05 | 0.02 | 1.06 | |
| getPkgVigs | 0.00 | 0.00 | 0.01 | |
| isCurrent | 0.03 | 0.00 | 0.04 | |
| isUnique | 0 | 0 | 0 | |
| isVersioned | 0.02 | 0.00 | 0.01 | |
| lcSuffix | 0 | 0 | 0 | |
| listLen | 0 | 0 | 0 | |
| makeDataPackage | 0.06 | 0.01 | 0.08 | |
| matchpt | 0.02 | 0.00 | 0.02 | |
| multiassign | 0 | 0 | 0 | |
| note | 0 | 0 | 0 | |
| openPDF | 0 | 0 | 0 | |
| openVignette | 0 | 0 | 0 | |
| package.version | 0 | 0 | 0 | |
| read.AnnotatedDataFrame | 0.00 | 0.02 | 0.01 | |
| read.MIAME | 0 | 0 | 0 | |
| readExpressionSet | 0.06 | 0.00 | 0.06 | |
| reverseSplit | 0 | 0 | 0 | |
| rowMedians | 0.05 | 0.00 | 0.05 | |
| rowQ | 0.01 | 0.01 | 0.03 | |
| selectChannels | 0.05 | 0.00 | 0.04 | |
| selectSome | 0 | 0 | 0 | |
| strbreak | 0 | 0 | 0 | |
| subListExtract | 0.86 | 0.02 | 0.88 | |
| testBioCConnection | 0.00 | 0.00 | 0.34 | |
| updateOldESet | 0 | 0 | 0 | |
| validMsg | 0 | 0 | 0 | |