| Back to Multiple platform build/check report for BioC 3.19: simplified long |
|
This page was generated on 2024-10-18 20:38 -0400 (Fri, 18 Oct 2024).
| Hostname | OS | Arch (*) | R version | Installed pkgs |
|---|---|---|---|---|
| nebbiolo1 | Linux (Ubuntu 22.04.3 LTS) | x86_64 | 4.4.1 (2024-06-14) -- "Race for Your Life" | 4763 |
| palomino7 | Windows Server 2022 Datacenter | x64 | 4.4.1 (2024-06-14 ucrt) -- "Race for Your Life" | 4500 |
| merida1 | macOS 12.7.5 Monterey | x86_64 | 4.4.1 (2024-06-14) -- "Race for Your Life" | 4530 |
| kjohnson1 | macOS 13.6.6 Ventura | arm64 | 4.4.1 (2024-06-14) -- "Race for Your Life" | 4480 |
| Click on any hostname to see more info about the system (e.g. compilers) (*) as reported by 'uname -p', except on Windows and Mac OS X | ||||
| Package 187/2300 | Hostname | OS / Arch | INSTALL | BUILD | CHECK | BUILD BIN | ||||||||
| BioCor 1.28.0 (landing page) Lluís Revilla Sancho
| nebbiolo1 | Linux (Ubuntu 22.04.3 LTS) / x86_64 | OK | OK | OK | |||||||||
| palomino7 | Windows Server 2022 Datacenter / x64 | OK | OK | OK | OK | |||||||||
| merida1 | macOS 12.7.5 Monterey / x86_64 | OK | OK | OK | OK | |||||||||
| kjohnson1 | macOS 13.6.6 Ventura / arm64 | OK | OK | OK | OK | |||||||||
|
To the developers/maintainers of the BioCor package: - Allow up to 24 hours (and sometimes 48 hours) for your latest push to git@git.bioconductor.org:packages/BioCor.git to reflect on this report. See Troubleshooting Build Report for more information. - Use the following Renviron settings to reproduce errors and warnings. - If 'R CMD check' started to fail recently on the Linux builder(s) over a missing dependency, add the missing dependency to 'Suggests:' in your DESCRIPTION file. See Renviron.bioc for more information. |
| Package: BioCor |
| Version: 1.28.0 |
| Command: /home/biocbuild/bbs-3.19-bioc/R/bin/R CMD check --install=check:BioCor.install-out.txt --library=/home/biocbuild/bbs-3.19-bioc/R/site-library --timings BioCor_1.28.0.tar.gz |
| StartedAt: 2024-10-16 22:04:16 -0400 (Wed, 16 Oct 2024) |
| EndedAt: 2024-10-16 22:10:47 -0400 (Wed, 16 Oct 2024) |
| EllapsedTime: 390.8 seconds |
| RetCode: 0 |
| Status: OK |
| CheckDir: BioCor.Rcheck |
| Warnings: 0 |
##############################################################################
##############################################################################
###
### Running command:
###
### /home/biocbuild/bbs-3.19-bioc/R/bin/R CMD check --install=check:BioCor.install-out.txt --library=/home/biocbuild/bbs-3.19-bioc/R/site-library --timings BioCor_1.28.0.tar.gz
###
##############################################################################
##############################################################################
* using log directory ‘/home/biocbuild/bbs-3.19-bioc/meat/BioCor.Rcheck’
* using R version 4.4.1 (2024-06-14)
* using platform: x86_64-pc-linux-gnu
* R was compiled by
gcc (Ubuntu 11.4.0-1ubuntu1~22.04) 11.4.0
GNU Fortran (Ubuntu 11.4.0-1ubuntu1~22.04) 11.4.0
* running under: Ubuntu 22.04.5 LTS
* using session charset: UTF-8
* checking for file ‘BioCor/DESCRIPTION’ ... OK
* this is package ‘BioCor’ version ‘1.28.0’
* package encoding: UTF-8
* checking package namespace information ... OK
* checking package dependencies ... OK
* checking if this is a source package ... OK
* checking if there is a namespace ... OK
* checking for hidden files and directories ... OK
* checking for portable file names ... OK
* checking for sufficient/correct file permissions ... OK
* checking whether package ‘BioCor’ can be installed ... OK
* checking installed package size ... OK
* checking package directory ... OK
* checking ‘build’ directory ... OK
* checking DESCRIPTION meta-information ... OK
* checking top-level files ... OK
* checking for left-over files ... OK
* checking index information ... OK
* checking package subdirectories ... OK
* checking code files for non-ASCII characters ... OK
* checking R files for syntax errors ... OK
* checking whether the package can be loaded ... OK
* checking whether the package can be loaded with stated dependencies ... OK
* checking whether the package can be unloaded cleanly ... OK
* checking whether the namespace can be loaded with stated dependencies ... OK
* checking whether the namespace can be unloaded cleanly ... OK
* checking loading without being on the library search path ... OK
* checking dependencies in R code ... OK
* checking S3 generic/method consistency ... OK
* checking replacement functions ... OK
* checking foreign function calls ... OK
* checking R code for possible problems ... OK
* checking Rd files ... NOTE
checkRd: (-1) mclusterSim.Rd:28: Lost braces
28 | cluster are found they are combined using code{\link{combineScores}}.
| ^
* checking Rd metadata ... OK
* checking Rd cross-references ... OK
* checking for missing documentation entries ... OK
* checking for code/documentation mismatches ... OK
* checking Rd \usage sections ... OK
* checking Rd contents ... OK
* checking for unstated dependencies in examples ... OK
* checking files in ‘vignettes’ ... OK
* checking examples ... OK
* checking for unstated dependencies in ‘tests’ ... OK
* checking tests ...
Running ‘spelling.R’
Running ‘testthat.R’
OK
* checking for unstated dependencies in vignettes ... OK
* checking package vignettes ... OK
* checking re-building of vignette outputs ... OK
* checking PDF version of manual ... OK
* DONE
Status: 1 NOTE
See
‘/home/biocbuild/bbs-3.19-bioc/meat/BioCor.Rcheck/00check.log’
for details.
BioCor.Rcheck/00install.out
############################################################################## ############################################################################## ### ### Running command: ### ### /home/biocbuild/bbs-3.19-bioc/R/bin/R CMD INSTALL BioCor ### ############################################################################## ############################################################################## * installing to library ‘/home/biocbuild/bbs-3.19-bioc/R/site-library’ * installing *source* package ‘BioCor’ ... ** using staged installation ** R ** inst ** byte-compile and prepare package for lazy loading Creating a generic function from function ‘clusterGeneSim’ in package ‘BioCor’ Creating a generic function from function ‘clusterSim’ in package ‘BioCor’ Creating a generic function from function ‘geneSim’ in package ‘BioCor’ Creating a generic function from function ‘mclusterGeneSim’ in package ‘BioCor’ Creating a generic function from function ‘mclusterSim’ in package ‘BioCor’ Creating a generic function from function ‘mgeneSim’ in package ‘BioCor’ Creating a generic function from function ‘mpathSim’ in package ‘BioCor’ Creating a generic function from function ‘pathSim’ in package ‘BioCor’ ** help *** installing help indices *** copying figures ** building package indices ** installing vignettes ** testing if installed package can be loaded from temporary location ** testing if installed package can be loaded from final location ** testing if installed package keeps a record of temporary installation path * DONE (BioCor)
BioCor.Rcheck/tests/spelling.Rout
R version 4.4.1 (2024-06-14) -- "Race for Your Life"
Copyright (C) 2024 The R Foundation for Statistical Computing
Platform: x86_64-pc-linux-gnu
R is free software and comes with ABSOLUTELY NO WARRANTY.
You are welcome to redistribute it under certain conditions.
Type 'license()' or 'licence()' for distribution details.
R is a collaborative project with many contributors.
Type 'contributors()' for more information and
'citation()' on how to cite R or R packages in publications.
Type 'demo()' for some demos, 'help()' for on-line help, or
'help.start()' for an HTML browser interface to help.
Type 'q()' to quit R.
> if(requireNamespace('spelling', quietly = TRUE))
+ spelling::spell_check_test(vignettes = TRUE, error = FALSE,
+ skip_on_cran = TRUE)
NULL
>
> proc.time()
user system elapsed
0.124 0.066 0.177
BioCor.Rcheck/tests/testthat.Rout
R version 4.4.1 (2024-06-14) -- "Race for Your Life"
Copyright (C) 2024 The R Foundation for Statistical Computing
Platform: x86_64-pc-linux-gnu
R is free software and comes with ABSOLUTELY NO WARRANTY.
You are welcome to redistribute it under certain conditions.
Type 'license()' or 'licence()' for distribution details.
R is a collaborative project with many contributors.
Type 'contributors()' for more information and
'citation()' on how to cite R or R packages in publications.
Type 'demo()' for some demos, 'help()' for on-line help, or
'help.start()' for an HTML browser interface to help.
Type 'q()' to quit R.
> library("BioCor")
>
> if (requireNamespace("testthat", quietly = TRUE)) {
+ library("testthat")
+ test_check("BioCor")
+ }
Loading required package: AnnotationDbi
Loading required package: stats4
Loading required package: BiocGenerics
Attaching package: 'BiocGenerics'
The following objects are masked from 'package:stats':
IQR, mad, sd, var, xtabs
The following objects are masked from 'package:base':
Filter, Find, Map, Position, Reduce, anyDuplicated, aperm, append,
as.data.frame, basename, cbind, colnames, dirname, do.call,
duplicated, eval, evalq, get, grep, grepl, intersect, is.unsorted,
lapply, mapply, match, mget, order, paste, pmax, pmax.int, pmin,
pmin.int, rank, rbind, rownames, sapply, setdiff, table, tapply,
union, unique, unsplit, which.max, which.min
Loading required package: Biobase
Welcome to Bioconductor
Vignettes contain introductory material; view with
'browseVignettes()'. To cite Bioconductor, see
'citation("Biobase")', and for packages 'citation("pkgname")'.
Loading required package: IRanges
Loading required package: S4Vectors
Attaching package: 'S4Vectors'
The following object is masked from 'package:utils':
findMatches
The following objects are masked from 'package:base':
I, expand.grid, unname
[ FAIL 0 | WARN 16 | SKIP 0 | PASS 314 ]
[ FAIL 0 | WARN 16 | SKIP 0 | PASS 314 ]
>
> proc.time()
user system elapsed
14.213 0.663 14.870
BioCor.Rcheck/BioCor-Ex.timings
| name | user | system | elapsed | |
| AintoB | 0.003 | 0.000 | 0.002 | |
| addSimilarities | 0.008 | 0.000 | 0.007 | |
| clusterGeneSim | 2.391 | 0.147 | 2.539 | |
| clusterSim | 1.540 | 0.048 | 1.588 | |
| combinadic | 0.001 | 0.000 | 0.001 | |
| combineScores | 0.006 | 0.000 | 0.005 | |
| combineSources | 0.002 | 0.000 | 0.002 | |
| conversions | 0.001 | 0.001 | 0.000 | |
| diceSim | 0.000 | 0.001 | 0.000 | |
| duplicateIndices | 0.000 | 0.001 | 0.000 | |
| geneSim | 3.704 | 0.161 | 3.865 | |
| mclusterGeneSim | 1.902 | 0.024 | 1.925 | |
| mclusterSim | 1.546 | 0.048 | 1.595 | |
| mgeneSim | 2.991 | 0.092 | 3.083 | |
| mpathSim | 3.203 | 0.080 | 3.284 | |
| pathSim | 2.680 | 0.100 | 2.779 | |
| plot_similarity | 2.496 | 0.032 | 2.530 | |
| removeDup | 0.003 | 0.000 | 0.004 | |
| seq2mat | 0.001 | 0.000 | 0.000 | |
| similarities | 0.000 | 0.004 | 0.004 | |
| weighted | 0.001 | 0.000 | 0.001 | |