| Back to Multiple platform build/check report for BioC 3.19: simplified long |
|
This page was generated on 2024-10-18 20:38 -0400 (Fri, 18 Oct 2024).
| Hostname | OS | Arch (*) | R version | Installed pkgs |
|---|---|---|---|---|
| nebbiolo1 | Linux (Ubuntu 22.04.3 LTS) | x86_64 | 4.4.1 (2024-06-14) -- "Race for Your Life" | 4763 |
| palomino7 | Windows Server 2022 Datacenter | x64 | 4.4.1 (2024-06-14 ucrt) -- "Race for Your Life" | 4500 |
| merida1 | macOS 12.7.5 Monterey | x86_64 | 4.4.1 (2024-06-14) -- "Race for Your Life" | 4530 |
| kjohnson1 | macOS 13.6.6 Ventura | arm64 | 4.4.1 (2024-06-14) -- "Race for Your Life" | 4480 |
| Click on any hostname to see more info about the system (e.g. compilers) (*) as reported by 'uname -p', except on Windows and Mac OS X | ||||
| Package 256/2300 | Hostname | OS / Arch | INSTALL | BUILD | CHECK | BUILD BIN | ||||||||
| BUScorrect 1.22.0 (landing page) Xiangyu Luo
| nebbiolo1 | Linux (Ubuntu 22.04.3 LTS) / x86_64 | OK | OK | OK | |||||||||
| palomino7 | Windows Server 2022 Datacenter / x64 | OK | OK | OK | OK | |||||||||
| merida1 | macOS 12.7.5 Monterey / x86_64 | OK | OK | OK | OK | |||||||||
| kjohnson1 | macOS 13.6.6 Ventura / arm64 | OK | OK | OK | OK | |||||||||
|
To the developers/maintainers of the BUScorrect package: - Allow up to 24 hours (and sometimes 48 hours) for your latest push to git@git.bioconductor.org:packages/BUScorrect.git to reflect on this report. See Troubleshooting Build Report for more information. - Use the following Renviron settings to reproduce errors and warnings. - If 'R CMD check' started to fail recently on the Linux builder(s) over a missing dependency, add the missing dependency to 'Suggests:' in your DESCRIPTION file. See Renviron.bioc for more information. |
| Package: BUScorrect |
| Version: 1.22.0 |
| Command: /home/biocbuild/bbs-3.19-bioc/R/bin/R CMD check --install=check:BUScorrect.install-out.txt --library=/home/biocbuild/bbs-3.19-bioc/R/site-library --timings BUScorrect_1.22.0.tar.gz |
| StartedAt: 2024-10-16 22:21:50 -0400 (Wed, 16 Oct 2024) |
| EndedAt: 2024-10-16 22:26:24 -0400 (Wed, 16 Oct 2024) |
| EllapsedTime: 273.5 seconds |
| RetCode: 0 |
| Status: OK |
| CheckDir: BUScorrect.Rcheck |
| Warnings: 0 |
##############################################################################
##############################################################################
###
### Running command:
###
### /home/biocbuild/bbs-3.19-bioc/R/bin/R CMD check --install=check:BUScorrect.install-out.txt --library=/home/biocbuild/bbs-3.19-bioc/R/site-library --timings BUScorrect_1.22.0.tar.gz
###
##############################################################################
##############################################################################
* using log directory ‘/home/biocbuild/bbs-3.19-bioc/meat/BUScorrect.Rcheck’
* using R version 4.4.1 (2024-06-14)
* using platform: x86_64-pc-linux-gnu
* R was compiled by
gcc (Ubuntu 11.4.0-1ubuntu1~22.04) 11.4.0
GNU Fortran (Ubuntu 11.4.0-1ubuntu1~22.04) 11.4.0
* running under: Ubuntu 22.04.5 LTS
* using session charset: UTF-8
* checking for file ‘BUScorrect/DESCRIPTION’ ... OK
* checking extension type ... Package
* this is package ‘BUScorrect’ version ‘1.22.0’
* checking package namespace information ... OK
* checking package dependencies ... OK
* checking if this is a source package ... OK
* checking if there is a namespace ... OK
* checking for hidden files and directories ... OK
* checking for portable file names ... OK
* checking for sufficient/correct file permissions ... OK
* checking whether package ‘BUScorrect’ can be installed ... OK
* used C compiler: ‘gcc (Ubuntu 11.4.0-1ubuntu1~22.04) 11.4.0’
* checking installed package size ... OK
* checking package directory ... OK
* checking ‘build’ directory ... OK
* checking DESCRIPTION meta-information ... OK
* checking top-level files ... OK
* checking for left-over files ... OK
* checking index information ... OK
* checking package subdirectories ... OK
* checking code files for non-ASCII characters ... OK
* checking R files for syntax errors ... OK
* checking whether the package can be loaded ... OK
* checking whether the package can be loaded with stated dependencies ... OK
* checking whether the package can be unloaded cleanly ... OK
* checking whether the namespace can be loaded with stated dependencies ... OK
* checking whether the namespace can be unloaded cleanly ... OK
* checking loading without being on the library search path ... OK
* checking dependencies in R code ... OK
* checking S3 generic/method consistency ... OK
* checking replacement functions ... OK
* checking foreign function calls ... OK
* checking R code for possible problems ... OK
* checking Rd files ... NOTE
checkRd: (-1) NEWS.Rd:12: Escaped LaTeX specials: \_ \_ \_
checkRd: (-1) BUSgibbs.Rd:34: Lost braces; missing escapes or markup?
34 | \code{a_inv_gamma}: the shape of the gamma prior for 1/sigma^2_{bg};
| ^
checkRd: (-1) BUSgibbs.Rd:35: Lost braces; missing escapes or markup?
35 | \code{b_inv_gamma}: the rate of the gamma prior for 1/sigma^2_{bg};
| ^
checkRd: (-1) BUSgibbs.Rd:36: Lost braces; missing escapes or markup?
36 | \code{a_tau0}: the shape of the gamma prior for 1/tau^2_{mu 0};
| ^
checkRd: (-1) BUSgibbs.Rd:39: Lost braces; missing escapes or markup?
39 | \code{tau_{mu1}}: the standard deviation of the normal prior of mu_{gk} (k >= 2) when the gene expression level in subtype k is different from that in subtype one.
| ^
checkRd: (-1) BUSgibbs.Rd:52: Lost braces; missing escapes or markup?
52 | \item{tau_mu_zero}{The estimated tau_{mu 0}, which is the prior normal distribution's standard deviation of the subtype effects when there is no differential expression.}
| ^
checkRd: (-1) BUSgibbs.Rd:57: Lost braces; missing escapes or markup?
57 | \item{gamma}{The estimated location batch effects, a G by B matrix, where gamma_{gb} is the ``location'' batch effect on gene g in the batch b. Note that the first column is zero as the first batch is taken as the reference batch without batch effects.}
| ^
* checking Rd metadata ... OK
* checking Rd cross-references ... OK
* checking for missing documentation entries ... OK
* checking for code/documentation mismatches ... OK
* checking Rd \usage sections ... OK
* checking Rd contents ... OK
* checking for unstated dependencies in examples ... OK
* checking contents of ‘data’ directory ... OK
* checking data for non-ASCII characters ... OK
* checking data for ASCII and uncompressed saves ... OK
* checking line endings in C/C++/Fortran sources/headers ... OK
* checking compiled code ... NOTE
Note: information on .o files is not available
* checking files in ‘vignettes’ ... OK
* checking examples ... OK
Examples with CPU (user + system) or elapsed time > 5s
user system elapsed
BUScorrect-package 15.152 0.132 15.284
BUSgibbs 14.844 0.095 14.939
* checking for unstated dependencies in ‘tests’ ... OK
* checking tests ...
Running ‘runTests.R’
OK
* checking for unstated dependencies in vignettes ... OK
* checking package vignettes ... OK
* checking re-building of vignette outputs ... OK
* checking PDF version of manual ... OK
* DONE
Status: 2 NOTEs
See
‘/home/biocbuild/bbs-3.19-bioc/meat/BUScorrect.Rcheck/00check.log’
for details.
BUScorrect.Rcheck/00install.out
############################################################################## ############################################################################## ### ### Running command: ### ### /home/biocbuild/bbs-3.19-bioc/R/bin/R CMD INSTALL BUScorrect ### ############################################################################## ############################################################################## * installing to library ‘/home/biocbuild/bbs-3.19-bioc/R/site-library’ * installing *source* package ‘BUScorrect’ ... ** using staged installation ** libs using C compiler: ‘gcc (Ubuntu 11.4.0-1ubuntu1~22.04) 11.4.0’ gcc -I"/home/biocbuild/bbs-3.19-bioc/R/include" -DNDEBUG -I/usr/local/include -fpic -g -O2 -Wall -c BUS_Cfunctions.c -o BUS_Cfunctions.o gcc -shared -L/home/biocbuild/bbs-3.19-bioc/R/lib -L/usr/local/lib -o BUScorrect.so BUS_Cfunctions.o -L/home/biocbuild/bbs-3.19-bioc/R/lib -lR installing to /home/biocbuild/bbs-3.19-bioc/R/site-library/00LOCK-BUScorrect/00new/BUScorrect/libs ** R ** data ** inst ** byte-compile and prepare package for lazy loading ** help *** installing help indices ** building package indices ** installing vignettes ** testing if installed package can be loaded from temporary location ** checking absolute paths in shared objects and dynamic libraries ** testing if installed package can be loaded from final location ** testing if installed package keeps a record of temporary installation path * DONE (BUScorrect)
BUScorrect.Rcheck/tests/runTests.Rout
R version 4.4.1 (2024-06-14) -- "Race for Your Life"
Copyright (C) 2024 The R Foundation for Statistical Computing
Platform: x86_64-pc-linux-gnu
R is free software and comes with ABSOLUTELY NO WARRANTY.
You are welcome to redistribute it under certain conditions.
Type 'license()' or 'licence()' for distribution details.
R is a collaborative project with many contributors.
Type 'contributors()' for more information and
'citation()' on how to cite R or R packages in publications.
Type 'demo()' for some demos, 'help()' for on-line help, or
'help.start()' for an HTML browser interface to help.
Type 'q()' to quit R.
> BiocGenerics:::testPackage("BUScorrect")
running the Gibbs sampler ...
The Gibbs sampler takes: 0.001 mins
calculating posterior means and posterior modes...
calculating BIC...
RUNIT TEST PROTOCOL -- Wed Oct 16 22:24:41 2024
***********************************************
Number of test functions: 1
Number of errors: 0
Number of failures: 0
1 Test Suite :
BUScorrect RUnit Tests - 1 test function, 0 errors, 0 failures
Number of test functions: 1
Number of errors: 0
Number of failures: 0
>
> proc.time()
user system elapsed
6.540 0.402 6.931
BUScorrect.Rcheck/BUScorrect-Ex.timings
| name | user | system | elapsed | |
| BIC_BUS | 0.061 | 0.000 | 0.061 | |
| BUScorrect-package | 15.152 | 0.132 | 15.284 | |
| BUSexample_data | 0.000 | 0.001 | 0.001 | |
| BUSgibbs | 14.844 | 0.095 | 14.939 | |
| IG_index | 0.062 | 0.004 | 0.066 | |
| Subtypes | 0.061 | 0.008 | 0.069 | |
| adjusted_values | 0.066 | 0.012 | 0.077 | |
| baseline_expression_values | 0.058 | 0.000 | 0.057 | |
| calculate_EPSR_gamma | 0.003 | 0.000 | 0.003 | |
| calculate_EPSR_mu | 0.002 | 0.000 | 0.003 | |
| calculate_EPSR_sigma_sq | 0.003 | 0.000 | 0.004 | |
| estimate_IG_indicators | 0.061 | 0.000 | 0.060 | |
| location_batch_effects | 0.06 | 0.00 | 0.06 | |
| postprob_DE | 0.060 | 0.004 | 0.064 | |
| postprob_DE_thr_fun | 0.068 | 0.008 | 0.077 | |
| print.BUSfits | 0.064 | 0.021 | 0.085 | |
| scale_batch_effects | 0.066 | 0.010 | 0.076 | |
| subtype_effects | 0.082 | 0.016 | 0.099 | |
| summary.BUSfits | 0.059 | 0.000 | 0.059 | |
| visualize_data | 0.027 | 0.003 | 0.029 | |