| Back to Multiple platform build/check report for BioC 3.19: simplified long | 
 | 
This page was generated on 2024-10-18 20:41 -0400 (Fri, 18 Oct 2024).
| Hostname | OS | Arch (*) | R version | Installed pkgs | 
|---|---|---|---|---|
| nebbiolo1 | Linux (Ubuntu 22.04.3 LTS) | x86_64 | 4.4.1 (2024-06-14) -- "Race for Your Life" | 4763 | 
| palomino7 | Windows Server 2022 Datacenter | x64 | 4.4.1 (2024-06-14 ucrt) -- "Race for Your Life" | 4500 | 
| merida1 | macOS 12.7.5 Monterey | x86_64 | 4.4.1 (2024-06-14) -- "Race for Your Life" | 4530 | 
| kjohnson1 | macOS 13.6.6 Ventura | arm64 | 4.4.1 (2024-06-14) -- "Race for Your Life" | 4480 | 
| Click on any hostname to see more info about the system (e.g. compilers) (*) as reported by 'uname -p', except on Windows and Mac OS X | ||||
| Package 242/2300 | Hostname | OS / Arch | INSTALL | BUILD | CHECK | BUILD BIN | ||||||||
| BRGenomics 1.16.1  (landing page) Mike DeBerardine 
 | nebbiolo1 | Linux (Ubuntu 22.04.3 LTS) / x86_64 | OK | OK | TIMEOUT | |||||||||
| palomino7 | Windows Server 2022 Datacenter / x64 | OK | OK | TIMEOUT | OK | |||||||||
| merida1 | macOS 12.7.5 Monterey / x86_64 | OK | OK | TIMEOUT | OK | |||||||||
| kjohnson1 | macOS 13.6.6 Ventura / arm64 | OK | OK | TIMEOUT | OK | |||||||||
| To the developers/maintainers of the BRGenomics package: - Allow up to 24 hours (and sometimes 48 hours) for your latest push to git@git.bioconductor.org:packages/BRGenomics.git to reflect on this report. See Troubleshooting Build Report for more information. - Use the following Renviron settings to reproduce errors and warnings. - If 'R CMD check' started to fail recently on the Linux builder(s) over a missing dependency, add the missing dependency to 'Suggests:' in your DESCRIPTION file. See Renviron.bioc for more information. | 
| Package: BRGenomics | 
| Version: 1.16.1 | 
| Command: /Library/Frameworks/R.framework/Resources/bin/R CMD check --install=check:BRGenomics.install-out.txt --library=/Library/Frameworks/R.framework/Resources/library --no-vignettes --timings BRGenomics_1.16.1.tar.gz | 
| StartedAt: 2024-10-17 14:35:14 -0400 (Thu, 17 Oct 2024) | 
| EndedAt: 2024-10-17 15:15:15 -0400 (Thu, 17 Oct 2024) | 
| EllapsedTime: 2400.1 seconds | 
| RetCode: None | 
| Status: TIMEOUT | 
| CheckDir: BRGenomics.Rcheck | 
| Warnings: NA | 
##############################################################################
##############################################################################
###
### Running command:
###
###   /Library/Frameworks/R.framework/Resources/bin/R CMD check --install=check:BRGenomics.install-out.txt --library=/Library/Frameworks/R.framework/Resources/library --no-vignettes --timings BRGenomics_1.16.1.tar.gz
###
##############################################################################
##############################################################################
* using log directory ‘/Users/biocbuild/bbs-3.19-bioc/meat/BRGenomics.Rcheck’
* using R version 4.4.1 (2024-06-14)
* using platform: aarch64-apple-darwin20
* R was compiled by
    Apple clang version 14.0.0 (clang-1400.0.29.202)
    GNU Fortran (GCC) 12.2.0
* running under: macOS Ventura 13.6.6
* using session charset: UTF-8
* using option ‘--no-vignettes’
* checking for file ‘BRGenomics/DESCRIPTION’ ... OK
* checking extension type ... Package
* this is package ‘BRGenomics’ version ‘1.16.1’
* package encoding: UTF-8
* checking package namespace information ... OK
* checking package dependencies ... OK
* checking if this is a source package ... OK
* checking if there is a namespace ... OK
* checking for hidden files and directories ... NOTE
Found the following hidden files and directories:
  .travis.yml
These were most likely included in error. See section ‘Package
structure’ in the ‘Writing R Extensions’ manual.
* checking for portable file names ... OK
* checking for sufficient/correct file permissions ... OK
* checking whether package ‘BRGenomics’ can be installed ... OK
* checking installed package size ... OK
* checking package directory ... OK
* checking ‘build’ directory ... OK
* checking DESCRIPTION meta-information ... OK
* checking top-level files ... OK
* checking for left-over files ... OK
* checking index information ... OK
* checking package subdirectories ... OK
* checking code files for non-ASCII characters ... OK
* checking R files for syntax errors ... OK
* checking whether the package can be loaded ... OK
* checking whether the package can be loaded with stated dependencies ... OK
* checking whether the package can be unloaded cleanly ... OK
* checking whether the namespace can be loaded with stated dependencies ... OK
* checking whether the namespace can be unloaded cleanly ... OK
* checking dependencies in R code ... OK
* checking S3 generic/method consistency ... OK
* checking replacement functions ... OK
* checking foreign function calls ... OK
* checking R code for possible problems ... OK
* checking Rd files ... NOTE
checkRd: (-1) binNdimensions.Rd:95: Lost braces
    95 |   code{use_bin_numbers = FALSE}, the center points of the bins are returned
       |       ^
checkRd: (-1) mergeGRangesData.Rd:38: Lost braces
    38 | makeGRangesBRG}}. This is always set to code{FALSE} if
       |                                             ^
* checking Rd metadata ... OK
* checking Rd cross-references ... OK
* checking for missing documentation entries ... OK
* checking for code/documentation mismatches ... OK
* checking Rd \usage sections ... OK
* checking Rd contents ... OK
* checking for unstated dependencies in examples ... OK
* checking contents of ‘data’ directory ... OK
* checking data for non-ASCII characters ... OK
* checking data for ASCII and uncompressed saves ... OK
* checking files in ‘vignettes’ ... OK
* checking examples ... OK
Examples with CPU (user + system) or elapsed time > 5s
                  user system elapsed
getDESeqResults 12.009   0.51  13.216
* checking for unstated dependencies in ‘tests’ ... OK
* checking tests ...
  Running ‘testthat.R’
BRGenomics.Rcheck/00install.out
############################################################################## ############################################################################## ### ### Running command: ### ### /Library/Frameworks/R.framework/Resources/bin/R CMD INSTALL BRGenomics ### ############################################################################## ############################################################################## * installing to library ‘/Library/Frameworks/R.framework/Versions/4.4-arm64/Resources/library’ * installing *source* package ‘BRGenomics’ ... ** using staged installation ** R ** data ** inst ** byte-compile and prepare package for lazy loading ** help *** installing help indices ** building package indices ** installing vignettes ** testing if installed package can be loaded from temporary location ** testing if installed package can be loaded from final location ** testing if installed package keeps a record of temporary installation path * DONE (BRGenomics)
BRGenomics.Rcheck/tests/testthat.Rout
R version 4.4.1 (2024-06-14) -- "Race for Your Life"
Copyright (C) 2024 The R Foundation for Statistical Computing
Platform: aarch64-apple-darwin20
R is free software and comes with ABSOLUTELY NO WARRANTY.
You are welcome to redistribute it under certain conditions.
Type 'license()' or 'licence()' for distribution details.
R is a collaborative project with many contributors.
Type 'contributors()' for more information and
'citation()' on how to cite R or R packages in publications.
Type 'demo()' for some demos, 'help()' for on-line help, or
'help.start()' for an HTML browser interface to help.
Type 'q()' to quit R.
> Sys.setenv("R_TESTS" = "")
> library(testthat)
> library(BRGenomics)
Loading required package: rtracklayer
Loading required package: GenomicRanges
Loading required package: stats4
Loading required package: BiocGenerics
Attaching package: 'BiocGenerics'
The following objects are masked from 'package:stats':
    IQR, mad, sd, var, xtabs
The following objects are masked from 'package:base':
    Filter, Find, Map, Position, Reduce, anyDuplicated, aperm, append,
    as.data.frame, basename, cbind, colnames, dirname, do.call,
    duplicated, eval, evalq, get, grep, grepl, intersect, is.unsorted,
    lapply, mapply, match, mget, order, paste, pmax, pmax.int, pmin,
    pmin.int, rank, rbind, rownames, sapply, setdiff, table, tapply,
    union, unique, unsplit, which.max, which.min
Loading required package: S4Vectors
Attaching package: 'S4Vectors'
The following object is masked from 'package:utils':
    findMatches
The following objects are masked from 'package:base':
    I, expand.grid, unname
Loading required package: IRanges
Loading required package: GenomeInfoDb
> 
> test_check("BRGenomics")
BRGenomics.Rcheck/BRGenomics-Ex.timings
| name | user | system | elapsed | |
| applyNFsGRanges | 0.241 | 0.008 | 0.255 | |
| binNdimensions | 0.589 | 0.020 | 0.637 | |
| bootstrap-signal-by-position | 1.323 | 0.023 | 1.385 | |
| genebodies | 0.175 | 0.017 | 0.198 | |
| getCountsByPositions | 0.491 | 0.061 | 0.573 | |
| getCountsByRegions | 0.184 | 0.018 | 0.219 | |
| getDESeqDataSet | 0.682 | 0.034 | 0.730 | |
| getDESeqResults | 12.009 | 0.510 | 13.216 | |
| getMaxPositionsBySignal | 0.282 | 0.008 | 0.303 | |
| getPausingIndices | 0.744 | 0.102 | 0.884 | |
| getSpikeInCounts | 0.336 | 0.400 | 0.593 | |
| getSpikeInNFs | 0.562 | 0.257 | 0.804 | |
| getStrandedCoverage | 1.146 | 0.140 | 1.366 | |
| import-functions | 1.041 | 0.105 | 1.206 | |
| import_bam | 0.686 | 0.057 | 0.769 | |
| intersectByGene | 1.004 | 0.033 | 1.064 | |
| makeGRangesBRG | 0.380 | 0.038 | 0.432 | |
| mergeGRangesData | 1.128 | 0.032 | 1.200 | |
| mergeReplicates | 0.688 | 0.019 | 0.729 | |
| subsampleBySpikeIn | 0.745 | 0.347 | 1.049 | |
| subsampleGRanges | 0.077 | 0.024 | 0.107 | |
| subsetRegionsBySignal | 1.879 | 0.460 | 2.440 | |
| tidyChromosomes | 0.699 | 0.068 | 0.798 | |