| Back to Multiple platform build/check report for BioC 3.19: simplified long |
|
This page was generated on 2024-10-18 20:38 -0400 (Fri, 18 Oct 2024).
| Hostname | OS | Arch (*) | R version | Installed pkgs |
|---|---|---|---|---|
| nebbiolo1 | Linux (Ubuntu 22.04.3 LTS) | x86_64 | 4.4.1 (2024-06-14) -- "Race for Your Life" | 4763 |
| palomino7 | Windows Server 2022 Datacenter | x64 | 4.4.1 (2024-06-14 ucrt) -- "Race for Your Life" | 4500 |
| merida1 | macOS 12.7.5 Monterey | x86_64 | 4.4.1 (2024-06-14) -- "Race for Your Life" | 4530 |
| kjohnson1 | macOS 13.6.6 Ventura | arm64 | 4.4.1 (2024-06-14) -- "Race for Your Life" | 4480 |
| Click on any hostname to see more info about the system (e.g. compilers) (*) as reported by 'uname -p', except on Windows and Mac OS X | ||||
| Package 80/2300 | Hostname | OS / Arch | INSTALL | BUILD | CHECK | BUILD BIN | ||||||||
| AnVIL 1.16.2 (landing page) Marcel Ramos
| nebbiolo1 | Linux (Ubuntu 22.04.3 LTS) / x86_64 | OK | OK | WARNINGS | |||||||||
| palomino7 | Windows Server 2022 Datacenter / x64 | OK | OK | WARNINGS | OK | |||||||||
| merida1 | macOS 12.7.5 Monterey / x86_64 | OK | OK | WARNINGS | OK | |||||||||
| kjohnson1 | macOS 13.6.6 Ventura / arm64 | OK | OK | WARNINGS | OK | |||||||||
|
To the developers/maintainers of the AnVIL package: - Allow up to 24 hours (and sometimes 48 hours) for your latest push to git@git.bioconductor.org:packages/AnVIL.git to reflect on this report. See Troubleshooting Build Report for more information. - Use the following Renviron settings to reproduce errors and warnings. - If 'R CMD check' started to fail recently on the Linux builder(s) over a missing dependency, add the missing dependency to 'Suggests:' in your DESCRIPTION file. See Renviron.bioc for more information. |
| Package: AnVIL |
| Version: 1.16.2 |
| Command: /home/biocbuild/bbs-3.19-bioc/R/bin/R CMD check --install=check:AnVIL.install-out.txt --library=/home/biocbuild/bbs-3.19-bioc/R/site-library --timings AnVIL_1.16.2.tar.gz |
| StartedAt: 2024-10-16 21:38:20 -0400 (Wed, 16 Oct 2024) |
| EndedAt: 2024-10-16 21:39:12 -0400 (Wed, 16 Oct 2024) |
| EllapsedTime: 52.1 seconds |
| RetCode: 0 |
| Status: WARNINGS |
| CheckDir: AnVIL.Rcheck |
| Warnings: 1 |
##############################################################################
##############################################################################
###
### Running command:
###
### /home/biocbuild/bbs-3.19-bioc/R/bin/R CMD check --install=check:AnVIL.install-out.txt --library=/home/biocbuild/bbs-3.19-bioc/R/site-library --timings AnVIL_1.16.2.tar.gz
###
##############################################################################
##############################################################################
* using log directory ‘/home/biocbuild/bbs-3.19-bioc/meat/AnVIL.Rcheck’
* using R version 4.4.1 (2024-06-14)
* using platform: x86_64-pc-linux-gnu
* R was compiled by
gcc (Ubuntu 11.4.0-1ubuntu1~22.04) 11.4.0
GNU Fortran (Ubuntu 11.4.0-1ubuntu1~22.04) 11.4.0
* running under: Ubuntu 22.04.5 LTS
* using session charset: UTF-8
* checking for file ‘AnVIL/DESCRIPTION’ ... OK
* this is package ‘AnVIL’ version ‘1.16.2’
* package encoding: UTF-8
* checking package namespace information ... OK
* checking package dependencies ... OK
* checking if this is a source package ... OK
* checking if there is a namespace ... OK
* checking for hidden files and directories ... OK
* checking for portable file names ... OK
* checking for sufficient/correct file permissions ... OK
* checking whether package ‘AnVIL’ can be installed ... OK
* checking installed package size ... OK
* checking package directory ... OK
* checking ‘build’ directory ... OK
* checking DESCRIPTION meta-information ... OK
* checking top-level files ... OK
* checking for left-over files ... OK
* checking index information ... OK
* checking package subdirectories ... OK
* checking code files for non-ASCII characters ... OK
* checking R files for syntax errors ... OK
* checking whether the package can be loaded ... OK
* checking whether the package can be loaded with stated dependencies ... OK
* checking whether the package can be unloaded cleanly ... OK
* checking whether the namespace can be loaded with stated dependencies ... OK
* checking whether the namespace can be unloaded cleanly ... OK
* checking loading without being on the library search path ... OK
* checking whether startup messages can be suppressed ... OK
* checking dependencies in R code ... NOTE
Unexported objects imported by ':::' calls:
‘rapiclient:::build_op_url’ ‘rapiclient:::get_parameters’
See the note in ?`:::` about the use of this operator.
* checking S3 generic/method consistency ... OK
* checking replacement functions ... OK
* checking foreign function calls ... OK
* checking R code for possible problems ... OK
* checking Rd files ... OK
* checking Rd metadata ... OK
* checking Rd cross-references ... OK
* checking for missing documentation entries ... OK
* checking for code/documentation mismatches ... OK
* checking Rd \usage sections ... OK
* checking Rd contents ... OK
* checking for unstated dependencies in examples ... OK
* checking R/sysdata.rda ... OK
* checking files in ‘vignettes’ ... OK
* checking examples ... WARNING
Found the following significant warnings:
Warning in repository_stats() : 'repository_stats' is deprecated.
Deprecated functions may be defunct as soon as of the next release of
R.
See ?Deprecated.
* checking for unstated dependencies in ‘tests’ ... OK
* checking tests ...
Running ‘testthat.R’
OK
* checking for unstated dependencies in vignettes ... OK
* checking package vignettes ... OK
* checking re-building of vignette outputs ... OK
* checking PDF version of manual ... OK
* DONE
Status: 1 WARNING, 1 NOTE
See
‘/home/biocbuild/bbs-3.19-bioc/meat/AnVIL.Rcheck/00check.log’
for details.
AnVIL.Rcheck/00install.out
############################################################################## ############################################################################## ### ### Running command: ### ### /home/biocbuild/bbs-3.19-bioc/R/bin/R CMD INSTALL AnVIL ### ############################################################################## ############################################################################## * installing to library ‘/home/biocbuild/bbs-3.19-bioc/R/site-library’ * installing *source* package ‘AnVIL’ ... ** using staged installation ** R ** inst ** byte-compile and prepare package for lazy loading ** help *** installing help indices ** building package indices ** installing vignettes ** testing if installed package can be loaded from temporary location ** testing if installed package can be loaded from final location ** testing if installed package keeps a record of temporary installation path * DONE (AnVIL)
AnVIL.Rcheck/tests/testthat.Rout
R version 4.4.1 (2024-06-14) -- "Race for Your Life"
Copyright (C) 2024 The R Foundation for Statistical Computing
Platform: x86_64-pc-linux-gnu
R is free software and comes with ABSOLUTELY NO WARRANTY.
You are welcome to redistribute it under certain conditions.
Type 'license()' or 'licence()' for distribution details.
R is a collaborative project with many contributors.
Type 'contributors()' for more information and
'citation()' on how to cite R or R packages in publications.
Type 'demo()' for some demos, 'help()' for on-line help, or
'help.start()' for an HTML browser interface to help.
Type 'q()' to quit R.
> library(testthat)
> library(AnVIL)
Loading required package: dplyr
Attaching package: 'dplyr'
The following object is masked from 'package:testthat':
matches
The following objects are masked from 'package:stats':
filter, lag
The following objects are masked from 'package:base':
intersect, setdiff, setequal, union
>
> test_check("AnVIL")
[ FAIL 0 | WARN 7 | SKIP 4 | PASS 48 ]
══ Skipped tests (4) ═══════════════════════════════════════════════════════════
• !gcloud_exists() is TRUE (4): 'test_Services.R:2:5', 'test_api.R:2:5',
'test_api.R:38:5', 'test_gcloud_sdk.R:17:5'
[ FAIL 0 | WARN 7 | SKIP 4 | PASS 48 ]
>
> proc.time()
user system elapsed
2.423 0.219 5.435
AnVIL.Rcheck/AnVIL-Ex.timings
| name | user | system | elapsed | |
| AnVIL-deprecated | 0.182 | 0.016 | 0.342 | |
| Response | 0.007 | 0.001 | 0.008 | |
| Service | 0.011 | 0.004 | 0.015 | |
| Services | 0.381 | 0.004 | 0.979 | |
| av | 0.009 | 0.002 | 0.011 | |
| avnotebooks | 0.007 | 0.000 | 0.006 | |
| avworkflow | 0.009 | 0.001 | 0.010 | |
| avworkflow_configuration | 0.011 | 0.003 | 0.014 | |
| avworkspace | 0.000 | 0.000 | 0.001 | |
| drs | 0.003 | 0.000 | 0.003 | |
| gadgets | 0.001 | 0.000 | 0.001 | |
| gadgets_developer | 0 | 0 | 0 | |
| gcloud | 0.006 | 0.000 | 0.006 | |
| gsutil | 0.010 | 0.001 | 0.012 | |
| utilities | 0.000 | 0.001 | 0.000 | |