| Back to Build/check report for BioC 3.18 experimental data | 
 | 
This page was generated on 2024-04-16 14:51:29 -0400 (Tue, 16 Apr 2024).
| Hostname | OS | Arch (*) | R version | Installed pkgs | 
|---|---|---|---|---|
| nebbiolo2 | Linux (Ubuntu 22.04.3 LTS) | x86_64 | 4.3.3 (2024-02-29) -- "Angel Food Cake" | 4676 | 
| Click on any hostname to see more info about the system (e.g. compilers) (*) as reported by 'uname -p', except on Windows and Mac OS X | ||||
| Package 296/429 | Hostname | OS / Arch | INSTALL | BUILD | CHECK | ||||||||
| ProData 1.40.0  (landing page) Xiaochun Li 
 | nebbiolo2 | Linux (Ubuntu 22.04.3 LTS) / x86_64 | OK | OK | OK |  | |||||||
| To the developers/maintainers of the ProData package: - Use the following Renviron settings to reproduce errors and warnings. - If 'R CMD check' started to fail recently on the Linux builder(s) over a missing dependency, add the missing dependency to 'Suggests:' in your DESCRIPTION file. See Renviron.bioc for more information. | 
| Package: ProData | 
| Version: 1.40.0 | 
| Command: /home/biocbuild/bbs-3.18-bioc/R/bin/R CMD build --keep-empty-dirs --no-resave-data ProData | 
| StartedAt: 2024-04-16 10:46:48 -0400 (Tue, 16 Apr 2024) | 
| EndedAt: 2024-04-16 10:46:50 -0400 (Tue, 16 Apr 2024) | 
| EllapsedTime: 2.3 seconds | 
| RetCode: 0 | 
| Status: OK | 
| PackageFile: ProData_1.40.0.tar.gz | 
| PackageFileSize: 19.05 MiB | 
############################################################################## ############################################################################## ### ### Running command: ### ### /home/biocbuild/bbs-3.18-bioc/R/bin/R CMD build --keep-empty-dirs --no-resave-data ProData ### ############################################################################## ############################################################################## * checking for file ‘ProData/DESCRIPTION’ ... OK * preparing ‘ProData’: * checking DESCRIPTION meta-information ... OK * checking for LF line-endings in source and make files and shell scripts * checking for empty or unneeded directories * looking to see if a ‘data/datalist’ file should be added * building ‘ProData_1.40.0.tar.gz’