| Back to Mac ARM64 build report for BioC 3.18 |
|
This page was generated on 2024-04-18 11:32:21 -0400 (Thu, 18 Apr 2024).
| Hostname | OS | Arch (*) | R version | Installed pkgs |
|---|---|---|---|---|
| kjohnson1 | macOS 13.6.1 Ventura | arm64 | 4.3.3 (2024-02-29) -- "Angel Food Cake" | 4388 |
| Click on any hostname to see more info about the system (e.g. compilers) (*) as reported by 'uname -p', except on Windows and Mac OS X | ||||
| Package 2232/2266 | Hostname | OS / Arch | INSTALL | BUILD | CHECK | BUILD BIN | ||||||||
| vissE 1.10.0 (landing page) Dharmesh D. Bhuva
| kjohnson1 | macOS 13.6.1 Ventura / arm64 | OK | OK | OK | NA | ||||||||
|
To the developers/maintainers of the vissE package: - Use the following Renviron settings to reproduce errors and warnings. - If 'R CMD check' started to fail recently on the Linux builder(s) over a missing dependency, add the missing dependency to 'Suggests:' in your DESCRIPTION file. See Renviron.bioc for more information. |
| Package: vissE |
| Version: 1.10.0 |
| Command: /Library/Frameworks/R.framework/Resources/bin/R CMD check --install=check:vissE.install-out.txt --library=/Library/Frameworks/R.framework/Resources/library --no-vignettes --timings vissE_1.10.0.tar.gz |
| StartedAt: 2024-04-18 07:30:10 -0400 (Thu, 18 Apr 2024) |
| EndedAt: 2024-04-18 07:33:52 -0400 (Thu, 18 Apr 2024) |
| EllapsedTime: 221.1 seconds |
| RetCode: 0 |
| Status: OK |
| CheckDir: vissE.Rcheck |
| Warnings: 0 |
##############################################################################
##############################################################################
###
### Running command:
###
### /Library/Frameworks/R.framework/Resources/bin/R CMD check --install=check:vissE.install-out.txt --library=/Library/Frameworks/R.framework/Resources/library --no-vignettes --timings vissE_1.10.0.tar.gz
###
##############################################################################
##############################################################################
* using log directory ‘/Users/biocbuild/bbs-3.18-bioc-mac-arm64/meat/vissE.Rcheck’
* using R version 4.3.3 (2024-02-29)
* using platform: aarch64-apple-darwin20 (64-bit)
* R was compiled by
Apple clang version 14.0.0 (clang-1400.0.29.202)
GNU Fortran (GCC) 12.2.0
* running under: macOS Ventura 13.6.1
* using session charset: UTF-8
* using option ‘--no-vignettes’
* checking for file ‘vissE/DESCRIPTION’ ... OK
* this is package ‘vissE’ version ‘1.10.0’
* package encoding: UTF-8
* checking package namespace information ... OK
* checking package dependencies ... OK
* checking if this is a source package ... OK
* checking if there is a namespace ... OK
* checking for hidden files and directories ... OK
* checking for portable file names ... OK
* checking for sufficient/correct file permissions ... OK
* checking whether package ‘vissE’ can be installed ... OK
* checking installed package size ... OK
* checking package directory ... OK
* checking ‘build’ directory ... OK
* checking DESCRIPTION meta-information ... OK
* checking top-level files ... OK
* checking for left-over files ... OK
* checking index information ... OK
* checking package subdirectories ... OK
* checking R files for non-ASCII characters ... OK
* checking R files for syntax errors ... OK
* checking whether the package can be loaded ... OK
* checking whether the package can be loaded with stated dependencies ... OK
* checking whether the package can be unloaded cleanly ... OK
* checking whether the namespace can be loaded with stated dependencies ... OK
* checking whether the namespace can be unloaded cleanly ... OK
* checking dependencies in R code ... OK
* checking S3 generic/method consistency ... OK
* checking replacement functions ... OK
* checking foreign function calls ... OK
* checking R code for possible problems ... NOTE
checkGroups: no visible global function definition for ‘na.omit’
plotGeneStats: no visible binding for global variable ‘Count’
plotGeneStats: no visible binding for global variable ‘GeneStat’
plotGeneStats: no visible binding for global variable ‘Gene’
plotMsigNetwork: no visible binding for global variable ‘Size’
plotMsigNetwork: no visible binding for global variable ‘Category’
plotMsigNetwork: no visible binding for global variable ‘x’
plotMsigNetwork: no visible binding for global variable ‘y’
plotMsigNetwork: no visible binding for global variable ‘NodeGroup’
plotMsigPPI: no visible binding for global variable ‘weight’
plotMsigPPI: no visible binding for global variable ‘Degree’
plotMsigPPI: no visible binding for global variable ‘label’
plotMsigPPI: no visible binding for global variable ‘Label’
plotMsigWordcloud: no visible binding for global variable ‘word’
plotMsigWordcloud: no visible binding for global variable ‘freq’
plotMsigWordcloud: no visible binding for global variable ‘angle’
Undefined global functions or variables:
Category Count Degree Gene GeneStat Label NodeGroup Size angle freq
label na.omit weight word x y
Consider adding
importFrom("stats", "na.omit")
to your NAMESPACE file.
* checking Rd files ... OK
* checking Rd metadata ... OK
* checking Rd cross-references ... OK
* checking for missing documentation entries ... OK
* checking for code/documentation mismatches ... OK
* checking Rd \usage sections ... OK
* checking Rd contents ... OK
* checking for unstated dependencies in examples ... OK
* checking contents of ‘data’ directory ... OK
* checking data for non-ASCII characters ... OK
* checking LazyData ... NOTE
'LazyDataCompression' is specified without 'LazyData'
* checking data for ASCII and uncompressed saves ... OK
* checking R/sysdata.rda ... OK
* checking files in ‘vignettes’ ... OK
* checking examples ... OK
Examples with CPU (user + system) or elapsed time > 5s
user system elapsed
plotMsigPPI 18.386 1.085 21.664
characteriseGeneset 5.789 0.244 6.344
* checking for unstated dependencies in ‘tests’ ... OK
* checking tests ...
Running ‘testthat.R’
OK
* checking for unstated dependencies in vignettes ... OK
* checking package vignettes in ‘inst/doc’ ... OK
* checking running R code from vignettes ... SKIPPED
* checking re-building of vignette outputs ... SKIPPED
* checking PDF version of manual ... OK
* DONE
Status: 2 NOTEs
See
‘/Users/biocbuild/bbs-3.18-bioc-mac-arm64/meat/vissE.Rcheck/00check.log’
for details.
vissE.Rcheck/00install.out
############################################################################## ############################################################################## ### ### Running command: ### ### /Library/Frameworks/R.framework/Resources/bin/R CMD INSTALL vissE ### ############################################################################## ############################################################################## * installing to library ‘/Library/Frameworks/R.framework/Versions/4.3-arm64/Resources/library’ * installing *source* package ‘vissE’ ... ** using staged installation ** R ** data ** inst ** byte-compile and prepare package for lazy loading ** help *** installing help indices ** building package indices ** installing vignettes ** testing if installed package can be loaded from temporary location ** testing if installed package can be loaded from final location ** testing if installed package keeps a record of temporary installation path * DONE (vissE)
vissE.Rcheck/tests/testthat.Rout
R version 4.3.3 (2024-02-29) -- "Angel Food Cake"
Copyright (C) 2024 The R Foundation for Statistical Computing
Platform: aarch64-apple-darwin20 (64-bit)
R is free software and comes with ABSOLUTELY NO WARRANTY.
You are welcome to redistribute it under certain conditions.
Type 'license()' or 'licence()' for distribution details.
R is a collaborative project with many contributors.
Type 'contributors()' for more information and
'citation()' on how to cite R or R packages in publications.
Type 'demo()' for some demos, 'help()' for on-line help, or
'help.start()' for an HTML browser interface to help.
Type 'q()' to quit R.
> library(testthat)
> library(vissE)
>
> test_check("vissE")
[ FAIL 0 | WARN 9 | SKIP 0 | PASS 64 ]
[ FAIL 0 | WARN 9 | SKIP 0 | PASS 64 ]
>
> proc.time()
user system elapsed
41.840 2.050 47.076
vissE.Rcheck/vissE-Ex.timings
| name | user | system | elapsed | |
| bhuvad_theme | 0.134 | 0.008 | 0.146 | |
| characteriseGeneset | 5.789 | 0.244 | 6.344 | |
| computeMsigNetwork | 0.190 | 0.027 | 0.228 | |
| computeMsigOverlap | 0.061 | 0.008 | 0.070 | |
| computeMsigWordFreq | 4.528 | 0.184 | 4.840 | |
| findMsigClusters | 0.094 | 0.007 | 0.102 | |
| getMsigBlacklist | 0.000 | 0.001 | 0.000 | |
| plotGeneStats | 0.636 | 0.048 | 0.690 | |
| plotMsigNetwork | 0.967 | 0.056 | 1.049 | |
| plotMsigPPI | 18.386 | 1.085 | 21.664 | |
| plotMsigWordcloud | 4.141 | 0.286 | 4.687 | |