| Back to Mac ARM64 build report for BioC 3.18 |
|
This page was generated on 2024-04-18 11:32:21 -0400 (Thu, 18 Apr 2024).
| Hostname | OS | Arch (*) | R version | Installed pkgs |
|---|---|---|---|---|
| kjohnson1 | macOS 13.6.1 Ventura | arm64 | 4.3.3 (2024-02-29) -- "Angel Food Cake" | 4388 |
| Click on any hostname to see more info about the system (e.g. compilers) (*) as reported by 'uname -p', except on Windows and Mac OS X | ||||
| Package 2195/2266 | Hostname | OS / Arch | INSTALL | BUILD | CHECK | BUILD BIN | ||||||||
| twilight 1.78.0 (landing page) Stefanie Scheid
| kjohnson1 | macOS 13.6.1 Ventura / arm64 | OK | OK | WARNINGS | NA | ||||||||
|
To the developers/maintainers of the twilight package: - Use the following Renviron settings to reproduce errors and warnings. - If 'R CMD check' started to fail recently on the Linux builder(s) over a missing dependency, add the missing dependency to 'Suggests:' in your DESCRIPTION file. See Renviron.bioc for more information. |
| Package: twilight |
| Version: 1.78.0 |
| Command: /Library/Frameworks/R.framework/Resources/bin/R CMD INSTALL twilight |
| StartedAt: 2024-04-16 10:08:14 -0400 (Tue, 16 Apr 2024) |
| EndedAt: 2024-04-16 10:08:23 -0400 (Tue, 16 Apr 2024) |
| EllapsedTime: 8.7 seconds |
| RetCode: 0 |
| Status: OK |
##############################################################################
##############################################################################
###
### Running command:
###
### /Library/Frameworks/R.framework/Resources/bin/R CMD INSTALL twilight
###
##############################################################################
##############################################################################
* installing to library ‘/Library/Frameworks/R.framework/Versions/4.3-arm64/Resources/library’
* installing *source* package ‘twilight’ ...
** using staged installation
** libs
using C compiler: ‘Apple clang version 15.0.0 (clang-1500.0.40.1)’
using SDK: ‘MacOSX11.3.sdk’
clang -arch arm64 -I"/Library/Frameworks/R.framework/Resources/include" -DNDEBUG -I/opt/R/arm64/include -fPIC -falign-functions=64 -Wall -g -O2 -c confidence.line.c -o confidence.line.o
clang -arch arm64 -I"/Library/Frameworks/R.framework/Resources/include" -DNDEBUG -I/opt/R/arm64/include -fPIC -falign-functions=64 -Wall -g -O2 -c correlation.c -o correlation.o
clang -arch arm64 -I"/Library/Frameworks/R.framework/Resources/include" -DNDEBUG -I/opt/R/arm64/include -fPIC -falign-functions=64 -Wall -g -O2 -c kstest.c -o kstest.o
clang -arch arm64 -I"/Library/Frameworks/R.framework/Resources/include" -DNDEBUG -I/opt/R/arm64/include -fPIC -falign-functions=64 -Wall -g -O2 -c sep.c -o sep.o
sep.c:70:16: warning: using floating point absolute value function 'fabs' when argument is of integer type [-Wabsolute-value]
ix[randnum]=fabs(1-ix[randnum]);
^
sep.c:70:16: note: use function 'abs' instead
ix[randnum]=fabs(1-ix[randnum]);
^~~~
abs
sep.c:97:20: warning: using floating point absolute value function 'fabs' when argument is of integer type [-Wabsolute-value]
ix[randnum]=fabs(1-ix[randnum]);
^
sep.c:97:20: note: use function 'abs' instead
ix[randnum]=fabs(1-ix[randnum]);
^~~~
abs
sep.c:116:19: warning: using floating point absolute value function 'fabs' when argument is of integer type [-Wabsolute-value]
ix[randnum]=fabs(1-ix[randnum]);
^
sep.c:116:19: note: use function 'abs' instead
ix[randnum]=fabs(1-ix[randnum]);
^~~~
abs
sep.c:143:16: warning: using floating point absolute value function 'fabs' when argument is of integer type [-Wabsolute-value]
ix[randnum]=fabs(1-ix[randnum]);
^
sep.c:143:16: note: use function 'abs' instead
ix[randnum]=fabs(1-ix[randnum]);
^~~~
abs
4 warnings generated.
clang -arch arm64 -I"/Library/Frameworks/R.framework/Resources/include" -DNDEBUG -I/opt/R/arm64/include -fPIC -falign-functions=64 -Wall -g -O2 -c twosample.perm.c -o twosample.perm.o
clang -arch arm64 -I"/Library/Frameworks/R.framework/Resources/include" -DNDEBUG -I/opt/R/arm64/include -fPIC -falign-functions=64 -Wall -g -O2 -c twosample.single.c -o twosample.single.o
clang -arch arm64 -dynamiclib -Wl,-headerpad_max_install_names -undefined dynamic_lookup -L/Library/Frameworks/R.framework/Resources/lib -L/opt/R/arm64/lib -o twilight.so confidence.line.o correlation.o kstest.o sep.o twosample.perm.o twosample.single.o -F/Library/Frameworks/R.framework/.. -framework R -Wl,-framework -Wl,CoreFoundation
installing to /Library/Frameworks/R.framework/Versions/4.3-arm64/Resources/library/00LOCK-twilight/00new/twilight/libs
** R
** data
** inst
** byte-compile and prepare package for lazy loading
** help
*** installing help indices
** building package indices
** installing vignettes
** testing if installed package can be loaded from temporary location
** checking absolute paths in shared objects and dynamic libraries
** testing if installed package can be loaded from final location
** testing if installed package keeps a record of temporary installation path
* DONE (twilight)