| Back to Mac ARM64 build report for BioC 3.18 | 
 | 
This page was generated on 2024-04-15 11:32:23 -0400 (Mon, 15 Apr 2024).
| Hostname | OS | Arch (*) | R version | Installed pkgs | 
|---|---|---|---|---|
| kjohnson1 | macOS 13.6.1 Ventura | arm64 | 4.3.3 (2024-02-29) -- "Angel Food Cake" | 4388 | 
| Click on any hostname to see more info about the system (e.g. compilers) (*) as reported by 'uname -p', except on Windows and Mac OS X | ||||
| Package 2176/2266 | Hostname | OS / Arch | INSTALL | BUILD | CHECK | BUILD BIN | ||||||||
| Paul Shannon 
 | kjohnson1 | macOS 13.6.1 Ventura / arm64 | OK | OK | WARNINGS | OK |  | |||||||
| To the developers/maintainers of the trena package: - Use the following Renviron settings to reproduce errors and warnings. - If 'R CMD check' started to fail recently on the Linux builder(s) over a missing dependency, add the missing dependency to 'Suggests:' in your DESCRIPTION file. See Renviron.bioc for more information. | 
| Package: trena | 
| Version: 1.24.0 | 
| Command: rm -rf trena.buildbin-libdir && mkdir trena.buildbin-libdir && /Users/biocbuild/BBS/utils/build-universal.sh trena_1.24.0.tar.gz /Library/Frameworks/R.framework/Resources/bin/R trena.buildbin-libdir | 
| StartedAt: 2024-04-15 10:50:34 -0400 (Mon, 15 Apr 2024) | 
| EndedAt: 2024-04-15 10:52:04 -0400 (Mon, 15 Apr 2024) | 
| EllapsedTime: 89.7 seconds | 
| RetCode: 0 | 
| Status: OK | 
| PackageFile: trena_1.24.0.tgz | 
| PackageFileSize: 2.771 MiB | 
##############################################################################
##############################################################################
###
### Running command:
###
###   rm -rf trena.buildbin-libdir && mkdir trena.buildbin-libdir && /Users/biocbuild/BBS/utils/build-universal.sh trena_1.24.0.tar.gz /Library/Frameworks/R.framework/Resources/bin/R trena.buildbin-libdir
###
##############################################################################
##############################################################################
>>>>>>> 
>>>>>>> INSTALLATION WITH 'R CMD INSTALL --preclean --no-multiarch --library=trena.buildbin-libdir trena_1.24.0.tar.gz'
>>>>>>> 
* installing *source* package ‘trena’ ...
** using staged installation
** R
** inst
** byte-compile and prepare package for lazy loading
See system.file("LICENSE", package="MotifDb") for use restrictions.
** help
*** installing help indices
** building package indices
** installing vignettes
** testing if installed package can be loaded from temporary location
See system.file("LICENSE", package="MotifDb") for use restrictions.
Warning: Package 'trena' is deprecated and will be removed from Bioconductor
  version 3.19
** testing if installed package can be loaded from final location
See system.file("LICENSE", package="MotifDb") for use restrictions.
Warning: Package 'trena' is deprecated and will be removed from Bioconductor
  version 3.19
** testing if installed package keeps a record of temporary installation path
* DONE (trena)