| Back to Mac ARM64 build report for BioC 3.18 |
|
This page was generated on 2024-04-18 11:32:20 -0400 (Thu, 18 Apr 2024).
| Hostname | OS | Arch (*) | R version | Installed pkgs |
|---|---|---|---|---|
| kjohnson1 | macOS 13.6.1 Ventura | arm64 | 4.3.3 (2024-02-29) -- "Angel Food Cake" | 4388 |
| Click on any hostname to see more info about the system (e.g. compilers) (*) as reported by 'uname -p', except on Windows and Mac OS X | ||||
| Package 2166/2266 | Hostname | OS / Arch | INSTALL | BUILD | CHECK | BUILD BIN | ||||||||
| transomics2cytoscape 1.12.0 (landing page) Kozo Nishida
| kjohnson1 | macOS 13.6.1 Ventura / arm64 | OK | OK | OK | NA | ||||||||
|
To the developers/maintainers of the transomics2cytoscape package: - Use the following Renviron settings to reproduce errors and warnings. - If 'R CMD check' started to fail recently on the Linux builder(s) over a missing dependency, add the missing dependency to 'Suggests:' in your DESCRIPTION file. See Renviron.bioc for more information. |
| Package: transomics2cytoscape |
| Version: 1.12.0 |
| Command: /Library/Frameworks/R.framework/Resources/bin/R CMD check --install=check:transomics2cytoscape.install-out.txt --library=/Library/Frameworks/R.framework/Resources/library --no-vignettes --timings transomics2cytoscape_1.12.0.tar.gz |
| StartedAt: 2024-04-18 06:41:36 -0400 (Thu, 18 Apr 2024) |
| EndedAt: 2024-04-18 06:42:16 -0400 (Thu, 18 Apr 2024) |
| EllapsedTime: 40.7 seconds |
| RetCode: 0 |
| Status: OK |
| CheckDir: transomics2cytoscape.Rcheck |
| Warnings: 0 |
##############################################################################
##############################################################################
###
### Running command:
###
### /Library/Frameworks/R.framework/Resources/bin/R CMD check --install=check:transomics2cytoscape.install-out.txt --library=/Library/Frameworks/R.framework/Resources/library --no-vignettes --timings transomics2cytoscape_1.12.0.tar.gz
###
##############################################################################
##############################################################################
* using log directory ‘/Users/biocbuild/bbs-3.18-bioc-mac-arm64/meat/transomics2cytoscape.Rcheck’
* using R version 4.3.3 (2024-02-29)
* using platform: aarch64-apple-darwin20 (64-bit)
* R was compiled by
Apple clang version 14.0.0 (clang-1400.0.29.202)
GNU Fortran (GCC) 12.2.0
* running under: macOS Ventura 13.6.1
* using session charset: UTF-8
* using option ‘--no-vignettes’
* checking for file ‘transomics2cytoscape/DESCRIPTION’ ... OK
* this is package ‘transomics2cytoscape’ version ‘1.12.0’
* package encoding: UTF-8
* checking package namespace information ... OK
* checking package dependencies ... OK
* checking if this is a source package ... OK
* checking if there is a namespace ... OK
* checking for hidden files and directories ... OK
* checking for portable file names ... OK
* checking for sufficient/correct file permissions ... OK
* checking whether package ‘transomics2cytoscape’ can be installed ... OK
* checking installed package size ... NOTE
installed size is 8.6Mb
sub-directories of 1Mb or more:
extdata 4.0Mb
help 4.5Mb
* checking package directory ... OK
* checking ‘build’ directory ... OK
* checking DESCRIPTION meta-information ... OK
* checking top-level files ... OK
* checking for left-over files ... OK
* checking index information ... OK
* checking package subdirectories ... OK
* checking R files for non-ASCII characters ... OK
* checking R files for syntax errors ... OK
* checking whether the package can be loaded ... OK
* checking whether the package can be loaded with stated dependencies ... OK
* checking whether the package can be unloaded cleanly ... OK
* checking whether the namespace can be loaded with stated dependencies ... OK
* checking whether the namespace can be unloaded cleanly ... OK
* checking dependencies in R code ... OK
* checking S3 generic/method consistency ... OK
* checking replacement functions ... OK
* checking foreign function calls ... OK
* checking R code for possible problems ... NOTE
createMidnodes: no visible binding for global variable ‘SUID’
createNode2Node: no visible binding for global variable ‘LAYER_INDEX’
Undefined global functions or variables:
LAYER_INDEX SUID
* checking Rd files ... OK
* checking Rd metadata ... OK
* checking Rd cross-references ... OK
* checking for missing documentation entries ... OK
* checking for code/documentation mismatches ... OK
* checking Rd \usage sections ... OK
* checking Rd contents ... OK
* checking for unstated dependencies in examples ... OK
* checking files in ‘vignettes’ ... OK
* checking examples ... OK
* checking for unstated dependencies in ‘tests’ ... OK
* checking tests ...
Running ‘runTests.R’
OK
* checking for unstated dependencies in vignettes ... OK
* checking package vignettes in ‘inst/doc’ ... OK
* checking running R code from vignettes ... SKIPPED
* checking re-building of vignette outputs ... SKIPPED
* checking PDF version of manual ... OK
* DONE
Status: 2 NOTEs
See
‘/Users/biocbuild/bbs-3.18-bioc-mac-arm64/meat/transomics2cytoscape.Rcheck/00check.log’
for details.
transomics2cytoscape.Rcheck/00install.out
############################################################################## ############################################################################## ### ### Running command: ### ### /Library/Frameworks/R.framework/Resources/bin/R CMD INSTALL transomics2cytoscape ### ############################################################################## ############################################################################## * installing to library ‘/Library/Frameworks/R.framework/Versions/4.3-arm64/Resources/library’ * installing *source* package ‘transomics2cytoscape’ ... ** using staged installation ** R ** inst ** byte-compile and prepare package for lazy loading ** help *** installing help indices *** copying figures ** building package indices ** installing vignettes ** testing if installed package can be loaded from temporary location ** testing if installed package can be loaded from final location ** testing if installed package keeps a record of temporary installation path * DONE (transomics2cytoscape)
transomics2cytoscape.Rcheck/tests/runTests.Rout
R version 4.3.3 (2024-02-29) -- "Angel Food Cake"
Copyright (C) 2024 The R Foundation for Statistical Computing
Platform: aarch64-apple-darwin20 (64-bit)
R is free software and comes with ABSOLUTELY NO WARRANTY.
You are welcome to redistribute it under certain conditions.
Type 'license()' or 'licence()' for distribution details.
R is a collaborative project with many contributors.
Type 'contributors()' for more information and
'citation()' on how to cite R or R packages in publications.
Type 'demo()' for some demos, 'help()' for on-line help, or
'help.start()' for an HTML browser interface to help.
Type 'q()' to quit R.
> # tests are disabled in the Bioconductor build system
> # because it does not support Cytoscape installation
> # To test transomics2cytoscape in your local environment,
> # copy the data under inst/unitTests here, run Cytoscape,
> # and execute devtools::test().
>
> #require(transomics2cytoscape) || stop("unable to load transomics2cytoscape")
> #BiocGenerics:::testPackage('transomics2cytoscape')
>
> proc.time()
user system elapsed
0.231 0.066 0.290
transomics2cytoscape.Rcheck/transomics2cytoscape-Ex.timings
| name | user | system | elapsed | |
| create3Dnetwork | 0 | 0 | 0 | |
| createTransomicEdges | 0 | 0 | 0 | |
| ec2reaction | 0.000 | 0.001 | 0.000 | |
| installCyApps | 0 | 0 | 0 | |