| Back to Mac ARM64 build report for BioC 3.18 | 
 | 
This page was generated on 2024-04-18 11:32:19 -0400 (Thu, 18 Apr 2024).
| Hostname | OS | Arch (*) | R version | Installed pkgs | 
|---|---|---|---|---|
| kjohnson1 | macOS 13.6.1 Ventura | arm64 | 4.3.3 (2024-02-29) -- "Angel Food Cake" | 4388 | 
| Click on any hostname to see more info about the system (e.g. compilers) (*) as reported by 'uname -p', except on Windows and Mac OS X | ||||
| Package 2027/2266 | Hostname | OS / Arch | INSTALL | BUILD | CHECK | BUILD BIN | ||||||||
| spiky 1.8.0  (landing page) Tim Triche 
 | kjohnson1 | macOS 13.6.1 Ventura / arm64 | OK | OK | OK | OK |  | |||||||
| To the developers/maintainers of the spiky package: - Use the following Renviron settings to reproduce errors and warnings. - If 'R CMD check' started to fail recently on the Linux builder(s) over a missing dependency, add the missing dependency to 'Suggests:' in your DESCRIPTION file. See Renviron.bioc for more information. | 
| Package: spiky | 
| Version: 1.8.0 | 
| Command: /Library/Frameworks/R.framework/Resources/bin/R CMD check --install=check:spiky.install-out.txt --library=/Library/Frameworks/R.framework/Resources/library --no-vignettes --timings spiky_1.8.0.tar.gz | 
| StartedAt: 2024-04-18 05:00:23 -0400 (Thu, 18 Apr 2024) | 
| EndedAt: 2024-04-18 05:06:49 -0400 (Thu, 18 Apr 2024) | 
| EllapsedTime: 385.6 seconds | 
| RetCode: 0 | 
| Status: OK | 
| CheckDir: spiky.Rcheck | 
| Warnings: 0 | 
##############################################################################
##############################################################################
###
### Running command:
###
###   /Library/Frameworks/R.framework/Resources/bin/R CMD check --install=check:spiky.install-out.txt --library=/Library/Frameworks/R.framework/Resources/library --no-vignettes --timings spiky_1.8.0.tar.gz
###
##############################################################################
##############################################################################
* using log directory ‘/Users/biocbuild/bbs-3.18-bioc-mac-arm64/meat/spiky.Rcheck’
* using R version 4.3.3 (2024-02-29)
* using platform: aarch64-apple-darwin20 (64-bit)
* R was compiled by
    Apple clang version 14.0.0 (clang-1400.0.29.202)
    GNU Fortran (GCC) 12.2.0
* running under: macOS Ventura 13.6.1
* using session charset: UTF-8
* using option ‘--no-vignettes’
* checking for file ‘spiky/DESCRIPTION’ ... OK
* checking extension type ... Package
* this is package ‘spiky’ version ‘1.8.0’
* package encoding: UTF-8
* checking package namespace information ... OK
* checking package dependencies ... OK
* checking if this is a source package ... OK
* checking if there is a namespace ... OK
* checking for hidden files and directories ... OK
* checking for portable file names ... OK
* checking for sufficient/correct file permissions ... OK
* checking whether package ‘spiky’ can be installed ... OK
* checking installed package size ... NOTE
  installed size is 16.3Mb
  sub-directories of 1Mb or more:
    data      3.2Mb
    extdata  12.9Mb
* checking package directory ... OK
* checking ‘build’ directory ... OK
* checking DESCRIPTION meta-information ... OK
* checking top-level files ... OK
* checking for left-over files ... OK
* checking index information ... OK
* checking package subdirectories ... OK
* checking R files for non-ASCII characters ... OK
* checking R files for syntax errors ... OK
* checking whether the package can be loaded ... OK
* checking whether the package can be loaded with stated dependencies ... OK
* checking whether the package can be unloaded cleanly ... OK
* checking whether the namespace can be loaded with stated dependencies ... OK
* checking whether the namespace can be unloaded cleanly ... OK
* checking dependencies in R code ... OK
* checking S3 generic/method consistency ... OK
* checking replacement functions ... OK
* checking foreign function calls ... OK
* checking R code for possible problems ... NOTE
.toGRs: warning in grep("(chrom|seqnames|start|end)1", colnames(x), val
  = TRUE): partial argument match of 'val' to 'value'
.toGRs: warning in grep("(chrom|seqnames|start|end)2", colnames(x), val
  = TRUE): partial argument match of 'val' to 'value'
* checking Rd files ... OK
* checking Rd metadata ... OK
* checking Rd cross-references ... OK
* checking for missing documentation entries ... OK
* checking for code/documentation mismatches ... OK
* checking Rd \usage sections ... OK
* checking Rd contents ... OK
* checking for unstated dependencies in examples ... OK
* checking contents of ‘data’ directory ... OK
* checking data for non-ASCII characters ... OK
* checking LazyData ... OK
* checking data for ASCII and uncompressed saves ... OK
* checking files in ‘vignettes’ ... OK
* checking examples ... OK
Examples with CPU (user + system) or elapsed time > 5s
                       user system elapsed
scan_genomic_contigs 19.966  1.765  22.333
scan_genomic_bedpe   20.519  0.412  21.493
bin_pmol              6.983  1.793   9.201
model_bam_standards   5.855  0.154   6.118
scan_spike_bedpe      5.576  0.094   5.736
* checking for unstated dependencies in vignettes ... OK
* checking package vignettes in ‘inst/doc’ ... OK
* checking running R code from vignettes ... SKIPPED
* checking re-building of vignette outputs ... SKIPPED
* checking PDF version of manual ... OK
* DONE
Status: 2 NOTEs
See
  ‘/Users/biocbuild/bbs-3.18-bioc-mac-arm64/meat/spiky.Rcheck/00check.log’
for details.
spiky.Rcheck/00install.out
############################################################################## ############################################################################## ### ### Running command: ### ### /Library/Frameworks/R.framework/Resources/bin/R CMD INSTALL spiky ### ############################################################################## ############################################################################## * installing to library ‘/Library/Frameworks/R.framework/Versions/4.3-arm64/Resources/library’ * installing *source* package ‘spiky’ ... ** using staged installation ** R ** data *** moving datasets to lazyload DB ** inst ** byte-compile and prepare package for lazy loading ** help *** installing help indices ** building package indices ** installing vignettes ** testing if installed package can be loaded from temporary location ** testing if installed package can be loaded from final location ** testing if installed package keeps a record of temporary installation path * DONE (spiky)
spiky.Rcheck/spiky-Ex.timings
| name | user | system | elapsed | |
| add_frag_info | 0.179 | 0.030 | 0.210 | |
| bam_to_bins | 0.156 | 0.015 | 0.175 | |
| bin_pmol | 6.983 | 1.793 | 9.201 | |
| covg_to_df | 0.095 | 0.003 | 0.103 | |
| find_spike_contigs | 0.031 | 0.004 | 0.039 | |
| generate_spike_fasta | 0.167 | 0.007 | 0.175 | |
| get_base_name | 0.010 | 0.001 | 0.011 | |
| get_binned_coverage | 0.245 | 0.008 | 0.258 | |
| get_merged_gr | 0.068 | 0.003 | 0.072 | |
| get_spike_depth | 0.393 | 0.009 | 0.405 | |
| get_spiked_coverage | 0.187 | 0.006 | 0.196 | |
| kmax | 0.064 | 0.003 | 0.067 | |
| kmers | 0.049 | 0.003 | 0.052 | |
| methylation_specificity | 0.089 | 0.005 | 0.096 | |
| model_bam_standards | 5.855 | 0.154 | 6.118 | |
| model_glm_pmol | 0.067 | 0.004 | 0.072 | |
| predict_pmol | 3.515 | 1.132 | 4.782 | |
| process_spikes | 0.237 | 0.012 | 0.259 | |
| read_bedpe | 0.001 | 0.000 | 0.000 | |
| scan_genomic_bedpe | 20.519 | 0.412 | 21.493 | |
| scan_genomic_contigs | 19.966 | 1.765 | 22.333 | |
| scan_methylation_specificity | 0.039 | 0.004 | 0.043 | |
| scan_spike_bedpe | 5.576 | 0.094 | 5.736 | |
| scan_spike_contigs | 0.415 | 0.030 | 0.446 | |
| scan_spike_counts | 0.061 | 0.005 | 0.069 | |
| scan_spiked_bam | 0.473 | 0.052 | 0.555 | |
| seqinfo_from_header | 0.111 | 0.023 | 0.142 | |
| spike_bland_altman_plot | 0.130 | 0.013 | 0.147 | |
| spike_counts | 0.067 | 0.010 | 0.078 | |
| tile_bins | 0.041 | 0.007 | 0.050 | |