| Back to Mac ARM64 build report for BioC 3.18 |
|
This page was generated on 2024-04-18 11:32:19 -0400 (Thu, 18 Apr 2024).
| Hostname | OS | Arch (*) | R version | Installed pkgs |
|---|---|---|---|---|
| kjohnson1 | macOS 13.6.1 Ventura | arm64 | 4.3.3 (2024-02-29) -- "Angel Food Cake" | 4388 |
| Click on any hostname to see more info about the system (e.g. compilers) (*) as reported by 'uname -p', except on Windows and Mac OS X | ||||
| Package 2001/2266 | Hostname | OS / Arch | INSTALL | BUILD | CHECK | BUILD BIN | ||||||||
| sparrow 1.8.0 (landing page) Steve Lianoglou
| kjohnson1 | macOS 13.6.1 Ventura / arm64 | OK | OK | OK | OK | ||||||||
|
To the developers/maintainers of the sparrow package: - Use the following Renviron settings to reproduce errors and warnings. - If 'R CMD check' started to fail recently on the Linux builder(s) over a missing dependency, add the missing dependency to 'Suggests:' in your DESCRIPTION file. See Renviron.bioc for more information. |
| Package: sparrow |
| Version: 1.8.0 |
| Command: /Library/Frameworks/R.framework/Resources/bin/R CMD check --install=check:sparrow.install-out.txt --library=/Library/Frameworks/R.framework/Resources/library --no-vignettes --timings sparrow_1.8.0.tar.gz |
| StartedAt: 2024-04-18 04:34:52 -0400 (Thu, 18 Apr 2024) |
| EndedAt: 2024-04-18 04:45:58 -0400 (Thu, 18 Apr 2024) |
| EllapsedTime: 666.0 seconds |
| RetCode: 0 |
| Status: OK |
| CheckDir: sparrow.Rcheck |
| Warnings: 0 |
##############################################################################
##############################################################################
###
### Running command:
###
### /Library/Frameworks/R.framework/Resources/bin/R CMD check --install=check:sparrow.install-out.txt --library=/Library/Frameworks/R.framework/Resources/library --no-vignettes --timings sparrow_1.8.0.tar.gz
###
##############################################################################
##############################################################################
* using log directory ‘/Users/biocbuild/bbs-3.18-bioc-mac-arm64/meat/sparrow.Rcheck’
* using R version 4.3.3 (2024-02-29)
* using platform: aarch64-apple-darwin20 (64-bit)
* R was compiled by
Apple clang version 14.0.0 (clang-1400.0.29.202)
GNU Fortran (GCC) 12.2.0
* running under: macOS Ventura 13.6.1
* using session charset: UTF-8
* using option ‘--no-vignettes’
* checking for file ‘sparrow/DESCRIPTION’ ... OK
* checking extension type ... Package
* this is package ‘sparrow’ version ‘1.8.0’
* package encoding: UTF-8
* checking package namespace information ... OK
* checking package dependencies ... OK
* checking if this is a source package ... OK
* checking if there is a namespace ... OK
* checking for hidden files and directories ... OK
* checking for portable file names ... OK
* checking for sufficient/correct file permissions ... OK
* checking whether package ‘sparrow’ can be installed ... OK
* checking installed package size ... OK
* checking package directory ... OK
* checking ‘build’ directory ... OK
* checking DESCRIPTION meta-information ... OK
* checking top-level files ... OK
* checking for left-over files ... OK
* checking index information ... OK
* checking package subdirectories ... OK
* checking R files for non-ASCII characters ... OK
* checking R files for syntax errors ... OK
* checking whether the package can be loaded ... OK
* checking whether the package can be loaded with stated dependencies ... OK
* checking whether the package can be unloaded cleanly ... OK
* checking whether the namespace can be loaded with stated dependencies ... OK
* checking whether the namespace can be unloaded cleanly ... OK
* checking startup messages can be suppressed ... OK
* checking dependencies in R code ... OK
* checking S3 generic/method consistency ... OK
* checking replacement functions ... OK
* checking foreign function calls ... OK
* checking R code for possible problems ... NOTE
geneSetsStats: no visible binding for global variable ‘direction’
Undefined global functions or variables:
direction
* checking Rd files ... OK
* checking Rd metadata ... OK
* checking Rd cross-references ... OK
* checking for missing documentation entries ... OK
* checking for code/documentation mismatches ... OK
* checking Rd \usage sections ... OK
* checking Rd contents ... OK
* checking for unstated dependencies in examples ... OK
* checking line endings in Makefiles ... OK
* checking for GNU extensions in Makefiles ... OK
* checking include directives in Makefiles ... OK
* checking files in ‘vignettes’ ... OK
* checking examples ... OK
Examples with CPU (user + system) or elapsed time > 5s
user system elapsed
goseq 9.251 0.485 9.839
scoreSingleSamples 5.234 0.360 5.639
* checking for unstated dependencies in ‘tests’ ... OK
* checking tests ...
Running ‘testthat.R’
OK
* checking for unstated dependencies in vignettes ... OK
* checking package vignettes in ‘inst/doc’ ... OK
* checking running R code from vignettes ... SKIPPED
* checking re-building of vignette outputs ... SKIPPED
* checking PDF version of manual ... OK
* DONE
Status: 1 NOTE
See
‘/Users/biocbuild/bbs-3.18-bioc-mac-arm64/meat/sparrow.Rcheck/00check.log’
for details.
sparrow.Rcheck/00install.out
############################################################################## ############################################################################## ### ### Running command: ### ### /Library/Frameworks/R.framework/Resources/bin/R CMD INSTALL sparrow ### ############################################################################## ############################################################################## * installing to library ‘/Library/Frameworks/R.framework/Versions/4.3-arm64/Resources/library’ * installing *source* package ‘sparrow’ ... ** using staged installation ** R ** inst ** byte-compile and prepare package for lazy loading ** help *** installing help indices *** copying figures ** building package indices ** installing vignettes ** testing if installed package can be loaded from temporary location ** testing if installed package can be loaded from final location ** testing if installed package keeps a record of temporary installation path * DONE (sparrow)
sparrow.Rcheck/tests/testthat.Rout
R version 4.3.3 (2024-02-29) -- "Angel Food Cake"
Copyright (C) 2024 The R Foundation for Statistical Computing
Platform: aarch64-apple-darwin20 (64-bit)
R is free software and comes with ABSOLUTELY NO WARRANTY.
You are welcome to redistribute it under certain conditions.
Type 'license()' or 'licence()' for distribution details.
R is a collaborative project with many contributors.
Type 'contributors()' for more information and
'citation()' on how to cite R or R packages in publications.
Type 'demo()' for some demos, 'help()' for on-line help, or
'help.start()' for an HTML browser interface to help.
Type 'q()' to quit R.
> library("sparrow")
> library("testthat")
> library("data.table")
> library("dplyr")
Attaching package: 'dplyr'
The following objects are masked from 'package:data.table':
between, first, last
The following object is masked from 'package:testthat':
matches
The following object is masked from 'package:sparrow':
combine
The following objects are masked from 'package:stats':
filter, lag
The following objects are masked from 'package:base':
intersect, setdiff, setequal, union
>
> test_check("sparrow")
Attaching package: 'magrittr'
The following objects are masked from 'package:testthat':
equals, is_less_than, not
[1] "Calculating ranks..."
[1] "Calculating absolute values from ranks..."
[1] "Normalizing..."
[1] "Calculating ranks..."
[1] "Calculating absolute values from ranks..."
[1] "Normalizing..."
[1] "Calculating ranks..."
[1] "Calculating absolute values from ranks..."
[1] "Normalizing..."
[1] "Calculating ranks..."
[1] "Calculating absolute values from ranks..."
[1] "Normalizing..."
[1] "Calculating ranks..."
[1] "Calculating absolute values from ranks..."
[1] "Normalizing..."
[1] "Calculating ranks..."
[1] "Calculating absolute values from ranks..."
[1] "Normalizing..."
[1] "Calculating ranks..."
[1] "Calculating absolute values from ranks..."
[1] "Normalizing..."
[ FAIL 0 | WARN 11 | SKIP 1 | PASS 1491 ]
══ Skipped tests (1) ═══════════════════════════════════════════════════════════
• empty test (1): 'test-MultiGSEAResult.R:3:1'
[ FAIL 0 | WARN 11 | SKIP 1 | PASS 1491 ]
>
> ## Remove temporary files that were generated
> test.dir <- system.file('tests', package = "sparrow")
> pdfs <- dir(test.dir, "\\.pdf$", full.names=TRUE)
> if (length(pdfs)) {
+ unlink(pdfs)
+ }
>
>
> proc.time()
user system elapsed
342.154 23.169 362.715
sparrow.Rcheck/sparrow-Ex.timings
| name | user | system | elapsed | |
| GeneSetDb-class | 0.090 | 0.004 | 0.098 | |
| SparrowResult-utilities | 4.373 | 0.102 | 4.688 | |
| addGeneSetMetadata | 0.067 | 0.002 | 0.071 | |
| annotateGeneSetMembership | 4.627 | 0.105 | 4.909 | |
| calculateIndividualLogFC | 1.160 | 0.099 | 1.377 | |
| collectionMetadata | 0.062 | 0.005 | 0.072 | |
| combine-GeneSetDb-GeneSetDb-method | 0.071 | 0.005 | 0.083 | |
| combine-SparrowResult-SparrowResult-method | 0.194 | 0.054 | 0.296 | |
| conform | 0.423 | 0.027 | 0.494 | |
| conversion | 0.593 | 0.037 | 0.656 | |
| convertIdentifiers | 0.171 | 0.010 | 0.184 | |
| corplot | 0.086 | 0.004 | 0.090 | |
| eigenWeightedMean | 2.524 | 0.140 | 2.807 | |
| examples | 0.348 | 0.081 | 0.458 | |
| failWith | 0.000 | 0.000 | 0.001 | |
| featureIdMap | 0.437 | 0.026 | 0.468 | |
| featureIds | 0.652 | 0.041 | 0.705 | |
| geneSet | 0.089 | 0.003 | 0.093 | |
| geneSetCollectionURLfunction | 0.064 | 0.004 | 0.069 | |
| geneSetSummaryByGenes | 2.840 | 0.157 | 3.036 | |
| geneSets | 0.059 | 0.002 | 0.060 | |
| geneSetsStats | 3.631 | 0.148 | 3.812 | |
| getKeggCollection | 0 | 0 | 0 | |
| getMSigCollection | 0 | 0 | 0 | |
| getPantherCollection | 0.000 | 0.000 | 0.001 | |
| getReactomeCollection | 0 | 0 | 0 | |
| goseq | 9.251 | 0.485 | 9.839 | |
| gsdScore | 0.963 | 0.063 | 1.032 | |
| gskey | 0.004 | 0.000 | 0.003 | |
| hasGeneSet | 0.063 | 0.002 | 0.066 | |
| hasGeneSetCollection | 0.060 | 0.002 | 0.062 | |
| incidenceMatrix | 1.142 | 0.043 | 1.214 | |
| iplot | 1.313 | 0.106 | 1.447 | |
| is.active | 0.410 | 0.046 | 0.465 | |
| logFC | 2.731 | 0.104 | 2.860 | |
| mgheatmap | 0 | 0 | 0 | |
| mgheatmap2 | 0 | 0 | 0 | |
| msg | 0 | 0 | 0 | |
| ora | 0.341 | 0.019 | 0.362 | |
| p.matrix | 0.124 | 0.002 | 0.127 | |
| randomGeneSetDb | 0.080 | 0.007 | 0.087 | |
| renameCollections | 0.084 | 0.003 | 0.091 | |
| renameRows | 0.462 | 0.033 | 0.500 | |
| results | 0.142 | 0.005 | 0.149 | |
| scale_rows | 0.004 | 0.000 | 0.005 | |
| scoreSingleSamples | 5.234 | 0.360 | 5.639 | |
| seas | 4.598 | 0.254 | 4.897 | |
| sparrow_methods | 0.003 | 0.001 | 0.005 | |
| species_info | 0.006 | 0.002 | 0.009 | |
| subset.GeneSetDb | 0.071 | 0.002 | 0.077 | |
| subsetByFeatures | 0.086 | 0.003 | 0.088 | |
| validateInputs | 0.171 | 0.018 | 0.193 | |
| volcanoPlot | 3.855 | 0.122 | 4.023 | |
| volcanoStatsTable | 0.099 | 0.002 | 0.105 | |
| zScore | 0.858 | 0.038 | 0.911 | |