| Back to Mac ARM64 build report for BioC 3.18 |
|
This page was generated on 2024-04-18 11:32:19 -0400 (Thu, 18 Apr 2024).
| Hostname | OS | Arch (*) | R version | Installed pkgs |
|---|---|---|---|---|
| kjohnson1 | macOS 13.6.1 Ventura | arm64 | 4.3.3 (2024-02-29) -- "Angel Food Cake" | 4388 |
| Click on any hostname to see more info about the system (e.g. compilers) (*) as reported by 'uname -p', except on Windows and Mac OS X | ||||
| Package 1978/2266 | Hostname | OS / Arch | INSTALL | BUILD | CHECK | BUILD BIN | ||||||||
| sitePath 1.18.0 (landing page) Chengyang Ji
| kjohnson1 | macOS 13.6.1 Ventura / arm64 | OK | OK | OK | OK | ||||||||
|
To the developers/maintainers of the sitePath package: - Use the following Renviron settings to reproduce errors and warnings. - If 'R CMD check' started to fail recently on the Linux builder(s) over a missing dependency, add the missing dependency to 'Suggests:' in your DESCRIPTION file. See Renviron.bioc for more information. |
| Package: sitePath |
| Version: 1.18.0 |
| Command: /Library/Frameworks/R.framework/Resources/bin/R CMD check --install=check:sitePath.install-out.txt --library=/Library/Frameworks/R.framework/Resources/library --no-vignettes --timings sitePath_1.18.0.tar.gz |
| StartedAt: 2024-04-18 04:21:12 -0400 (Thu, 18 Apr 2024) |
| EndedAt: 2024-04-18 04:30:19 -0400 (Thu, 18 Apr 2024) |
| EllapsedTime: 546.6 seconds |
| RetCode: 0 |
| Status: OK |
| CheckDir: sitePath.Rcheck |
| Warnings: 0 |
##############################################################################
##############################################################################
###
### Running command:
###
### /Library/Frameworks/R.framework/Resources/bin/R CMD check --install=check:sitePath.install-out.txt --library=/Library/Frameworks/R.framework/Resources/library --no-vignettes --timings sitePath_1.18.0.tar.gz
###
##############################################################################
##############################################################################
* using log directory ‘/Users/biocbuild/bbs-3.18-bioc-mac-arm64/meat/sitePath.Rcheck’
* using R version 4.3.3 (2024-02-29)
* using platform: aarch64-apple-darwin20 (64-bit)
* R was compiled by
Apple clang version 14.0.0 (clang-1400.0.29.202)
GNU Fortran (GCC) 12.2.0
* running under: macOS Ventura 13.6.1
* using session charset: UTF-8
* using option ‘--no-vignettes’
* checking for file ‘sitePath/DESCRIPTION’ ... OK
* checking extension type ... Package
* this is package ‘sitePath’ version ‘1.18.0’
* package encoding: UTF-8
* checking package namespace information ... OK
* checking package dependencies ... OK
* checking if this is a source package ... OK
* checking if there is a namespace ... OK
* checking for hidden files and directories ... OK
* checking for portable file names ... OK
* checking for sufficient/correct file permissions ... OK
* checking whether package ‘sitePath’ can be installed ... OK
* used C++ compiler: ‘Apple clang version 15.0.0 (clang-1500.0.40.1)’
* used SDK: ‘MacOSX11.3.sdk’
* checking installed package size ... OK
* checking package directory ... OK
* checking ‘build’ directory ... OK
* checking DESCRIPTION meta-information ... OK
* checking top-level files ... OK
* checking for left-over files ... OK
* checking index information ... OK
* checking package subdirectories ... OK
* checking R files for non-ASCII characters ... OK
* checking R files for syntax errors ... OK
* checking whether the package can be loaded ... OK
* checking whether the package can be loaded with stated dependencies ... OK
* checking whether the package can be unloaded cleanly ... OK
* checking whether the namespace can be loaded with stated dependencies ... OK
* checking whether the namespace can be unloaded cleanly ... OK
* checking dependencies in R code ... OK
* checking S3 generic/method consistency ... OK
* checking replacement functions ... OK
* checking foreign function calls ... OK
* checking R code for possible problems ... NOTE
.createSNPplot: no visible binding for global variable ‘Pos’
.createSNPplot: no visible binding for global variable ‘Accession’
.createSNPplot: no visible binding for global variable ‘SNP’
plot.fixationPath: no visible binding for global variable ‘branch’
plot.fixationPath: no visible binding for global variable ‘SNPs’
plot.fixationSites: no visible binding for global variable ‘group’
plot.fixationSites: no visible binding for global variable ‘branch’
plot.fixationSites: no visible binding for global variable ‘SNPs’
plot.parallelSites: no visible binding for global variable ‘branch’
plot.parallelSites: no visible binding for global variable ‘SNPs’
plot.sitePath: no visible binding for global variable ‘branch’
plot.sitePath: no visible binding for global variable ‘SNPs’
plotMutSites.lineagePath: no visible binding for global variable ‘node’
plotMutSites.paraFixSites: no visible binding for global variable
‘group’
plotMutSites.paraFixSites: no visible binding for global variable
‘branch’
plotMutSites.paraFixSites: no visible binding for global variable
‘SNPs’
plotSingleSite.parallelSites: no visible binding for global variable
‘branch’
plotSingleSite.parallelSites: no visible binding for global variable
‘SNPs’
Undefined global functions or variables:
Accession Pos SNP SNPs branch group node
* checking Rd files ... OK
* checking Rd metadata ... OK
* checking Rd cross-references ... OK
* checking for missing documentation entries ... OK
* checking for code/documentation mismatches ... OK
* checking Rd \usage sections ... OK
* checking Rd contents ... OK
* checking for unstated dependencies in examples ... OK
* checking contents of ‘data’ directory ... OK
* checking data for non-ASCII characters ... OK
* checking data for ASCII and uncompressed saves ... OK
* checking line endings in C/C++/Fortran sources/headers ... OK
* checking compiled code ... NOTE
Note: information on .o files is not available
* checking files in ‘vignettes’ ... OK
* checking examples ... OK
Examples with CPU (user + system) or elapsed time > 5s
user system elapsed
plotFunctions 16.364 0.244 16.680
plotParallelSites 9.590 0.106 9.725
plotSingleSite 9.276 0.104 9.465
* checking for unstated dependencies in ‘tests’ ... OK
* checking tests ...
Running ‘testthat.R’
OK
* checking for unstated dependencies in vignettes ... OK
* checking package vignettes in ‘inst/doc’ ... OK
* checking running R code from vignettes ... SKIPPED
* checking re-building of vignette outputs ... SKIPPED
* checking PDF version of manual ... OK
* DONE
Status: 2 NOTEs
See
‘/Users/biocbuild/bbs-3.18-bioc-mac-arm64/meat/sitePath.Rcheck/00check.log’
for details.
sitePath.Rcheck/00install.out
############################################################################## ############################################################################## ### ### Running command: ### ### /Library/Frameworks/R.framework/Resources/bin/R CMD INSTALL sitePath ### ############################################################################## ############################################################################## * installing to library ‘/Library/Frameworks/R.framework/Versions/4.3-arm64/Resources/library’ * installing *source* package ‘sitePath’ ... ** using staged installation ** libs using C++ compiler: ‘Apple clang version 15.0.0 (clang-1500.0.40.1)’ using SDK: ‘MacOSX11.3.sdk’ clang++ -arch arm64 -std=gnu++17 -I"/Library/Frameworks/R.framework/Resources/include" -DNDEBUG -I'/Library/Frameworks/R.framework/Versions/4.3-arm64/Resources/library/Rcpp/include' -I/opt/R/arm64/include -fPIC -falign-functions=64 -Wall -g -O2 -c RcppExports.cpp -o RcppExports.o clang++ -arch arm64 -std=gnu++17 -I"/Library/Frameworks/R.framework/Resources/include" -DNDEBUG -I'/Library/Frameworks/R.framework/Versions/4.3-arm64/Resources/library/Rcpp/include' -I/opt/R/arm64/include -fPIC -falign-functions=64 -Wall -g -O2 -c lumpyCluster.cpp -o lumpyCluster.o clang++ -arch arm64 -std=gnu++17 -I"/Library/Frameworks/R.framework/Resources/include" -DNDEBUG -I'/Library/Frameworks/R.framework/Versions/4.3-arm64/Resources/library/Rcpp/include' -I/opt/R/arm64/include -fPIC -falign-functions=64 -Wall -g -O2 -c minEntropy.cpp -o minEntropy.o clang++ -arch arm64 -std=gnu++17 -I"/Library/Frameworks/R.framework/Resources/include" -DNDEBUG -I'/Library/Frameworks/R.framework/Versions/4.3-arm64/Resources/library/Rcpp/include' -I/opt/R/arm64/include -fPIC -falign-functions=64 -Wall -g -O2 -c searchNode.cpp -o searchNode.o clang++ -arch arm64 -std=gnu++17 -I"/Library/Frameworks/R.framework/Resources/include" -DNDEBUG -I'/Library/Frameworks/R.framework/Versions/4.3-arm64/Resources/library/Rcpp/include' -I/opt/R/arm64/include -fPIC -falign-functions=64 -Wall -g -O2 -c searchTree.cpp -o searchTree.o clang++ -arch arm64 -std=gnu++17 -I"/Library/Frameworks/R.framework/Resources/include" -DNDEBUG -I'/Library/Frameworks/R.framework/Versions/4.3-arm64/Resources/library/Rcpp/include' -I/opt/R/arm64/include -fPIC -falign-functions=64 -Wall -g -O2 -c treemer.cpp -o treemer.o clang++ -arch arm64 -std=gnu++17 -I"/Library/Frameworks/R.framework/Resources/include" -DNDEBUG -I'/Library/Frameworks/R.framework/Versions/4.3-arm64/Resources/library/Rcpp/include' -I/opt/R/arm64/include -fPIC -falign-functions=64 -Wall -g -O2 -c util.cpp -o util.o clang++ -arch arm64 -std=gnu++17 -dynamiclib -Wl,-headerpad_max_install_names -undefined dynamic_lookup -L/Library/Frameworks/R.framework/Resources/lib -L/opt/R/arm64/lib -o sitePath.so RcppExports.o lumpyCluster.o minEntropy.o searchNode.o searchTree.o treemer.o util.o -F/Library/Frameworks/R.framework/.. -framework R -Wl,-framework -Wl,CoreFoundation installing to /Library/Frameworks/R.framework/Versions/4.3-arm64/Resources/library/00LOCK-sitePath/00new/sitePath/libs ** R ** data ** inst ** byte-compile and prepare package for lazy loading ** help *** installing help indices ** building package indices ** installing vignettes ** testing if installed package can be loaded from temporary location ** checking absolute paths in shared objects and dynamic libraries ** testing if installed package can be loaded from final location ** testing if installed package keeps a record of temporary installation path * DONE (sitePath)
sitePath.Rcheck/tests/testthat.Rout
R version 4.3.3 (2024-02-29) -- "Angel Food Cake"
Copyright (C) 2024 The R Foundation for Statistical Computing
Platform: aarch64-apple-darwin20 (64-bit)
R is free software and comes with ABSOLUTELY NO WARRANTY.
You are welcome to redistribute it under certain conditions.
Type 'license()' or 'licence()' for distribution details.
R is a collaborative project with many contributors.
Type 'contributors()' for more information and
'citation()' on how to cite R or R packages in publications.
Type 'demo()' for some demos, 'help()' for on-line help, or
'help.start()' for an HTML browser interface to help.
Type 'q()' to quit R.
> library(testthat)
> library(sitePath)
>
> test_check("sitePath")
Using 2 cores..
Multiprocessing ended.
Using 2 cores..
Multiprocessing ended.
[ FAIL 0 | WARN 1 | SKIP 0 | PASS 2312 ]
[ FAIL 0 | WARN 1 | SKIP 0 | PASS 2312 ]
>
> proc.time()
user system elapsed
303.531 5.785 411.497
sitePath.Rcheck/sitePath-Ex.timings
| name | user | system | elapsed | |
| SNPsites | 0.866 | 0.016 | 0.896 | |
| addMSA | 2.326 | 0.022 | 2.358 | |
| allSitesName | 3.060 | 0.022 | 3.104 | |
| as.data.frame | 1.597 | 0.028 | 1.629 | |
| extractSite | 1.685 | 0.027 | 1.721 | |
| extractTips | 1.748 | 0.022 | 1.785 | |
| fixationIndels | 1.911 | 0.022 | 1.965 | |
| fixationPath | 1.557 | 0.036 | 1.620 | |
| fixationSites | 1.486 | 0.021 | 1.537 | |
| groupTips | 2.737 | 0.018 | 2.766 | |
| lineagePath | 4.272 | 0.044 | 4.326 | |
| paraFixSites | 1.509 | 0.029 | 1.551 | |
| parallelSites | 1.581 | 0.016 | 1.600 | |
| plotFixationSites | 2.233 | 0.024 | 2.351 | |
| plotFunctions | 16.364 | 0.244 | 16.680 | |
| plotMutSites | 1.400 | 0.015 | 1.419 | |
| plotParallelSites | 9.590 | 0.106 | 9.725 | |
| plotSingleSite | 9.276 | 0.104 | 9.465 | |
| setSiteNumbering | 2.988 | 0.021 | 3.081 | |
| similarityMatrix | 2.775 | 0.019 | 2.871 | |
| sitesMinEntropy | 1.623 | 0.016 | 1.671 | |