| Back to Mac ARM64 build report for BioC 3.18 |
|
This page was generated on 2024-04-18 11:32:19 -0400 (Thu, 18 Apr 2024).
| Hostname | OS | Arch (*) | R version | Installed pkgs |
|---|---|---|---|---|
| kjohnson1 | macOS 13.6.1 Ventura | arm64 | 4.3.3 (2024-02-29) -- "Angel Food Cake" | 4388 |
| Click on any hostname to see more info about the system (e.g. compilers) (*) as reported by 'uname -p', except on Windows and Mac OS X | ||||
| Package 1953/2266 | Hostname | OS / Arch | INSTALL | BUILD | CHECK | BUILD BIN | ||||||||
| signifinder 1.4.0 (landing page) Stefania Pirrotta
| kjohnson1 | macOS 13.6.1 Ventura / arm64 | OK | OK | OK | OK | ||||||||
|
To the developers/maintainers of the signifinder package: - Use the following Renviron settings to reproduce errors and warnings. - If 'R CMD check' started to fail recently on the Linux builder(s) over a missing dependency, add the missing dependency to 'Suggests:' in your DESCRIPTION file. See Renviron.bioc for more information. |
| Package: signifinder |
| Version: 1.4.0 |
| Command: /Library/Frameworks/R.framework/Resources/bin/R CMD check --install=check:signifinder.install-out.txt --library=/Library/Frameworks/R.framework/Resources/library --no-vignettes --timings signifinder_1.4.0.tar.gz |
| StartedAt: 2024-04-18 03:59:19 -0400 (Thu, 18 Apr 2024) |
| EndedAt: 2024-04-18 04:15:18 -0400 (Thu, 18 Apr 2024) |
| EllapsedTime: 959.7 seconds |
| RetCode: 0 |
| Status: OK |
| CheckDir: signifinder.Rcheck |
| Warnings: 0 |
##############################################################################
##############################################################################
###
### Running command:
###
### /Library/Frameworks/R.framework/Resources/bin/R CMD check --install=check:signifinder.install-out.txt --library=/Library/Frameworks/R.framework/Resources/library --no-vignettes --timings signifinder_1.4.0.tar.gz
###
##############################################################################
##############################################################################
* using log directory ‘/Users/biocbuild/bbs-3.18-bioc-mac-arm64/meat/signifinder.Rcheck’
* using R version 4.3.3 (2024-02-29)
* using platform: aarch64-apple-darwin20 (64-bit)
* R was compiled by
Apple clang version 14.0.0 (clang-1400.0.29.202)
GNU Fortran (GCC) 12.2.0
* running under: macOS Ventura 13.6.1
* using session charset: UTF-8
* using option ‘--no-vignettes’
* checking for file ‘signifinder/DESCRIPTION’ ... OK
* checking extension type ... Package
* this is package ‘signifinder’ version ‘1.4.0’
* package encoding: UTF-8
* checking package namespace information ... OK
* checking package dependencies ... OK
* checking if this is a source package ... OK
* checking if there is a namespace ... OK
* checking for hidden files and directories ... OK
* checking for portable file names ... OK
* checking for sufficient/correct file permissions ... OK
* checking whether package ‘signifinder’ can be installed ... OK
* checking installed package size ... OK
* checking package directory ... OK
* checking ‘build’ directory ... OK
* checking DESCRIPTION meta-information ... OK
* checking top-level files ... OK
* checking for left-over files ... OK
* checking index information ... OK
* checking package subdirectories ... OK
* checking R files for non-ASCII characters ... OK
* checking R files for syntax errors ... OK
* checking whether the package can be loaded ... OK
* checking whether the package can be loaded with stated dependencies ... OK
* checking whether the package can be unloaded cleanly ... OK
* checking whether the namespace can be loaded with stated dependencies ... OK
* checking whether the namespace can be unloaded cleanly ... OK
* checking dependencies in R code ... OK
* checking S3 generic/method consistency ... OK
* checking replacement functions ... OK
* checking foreign function calls ... OK
* checking R code for possible problems ... OK
* checking Rd files ... OK
* checking Rd metadata ... OK
* checking Rd cross-references ... OK
* checking for missing documentation entries ... OK
* checking for code/documentation mismatches ... OK
* checking Rd \usage sections ... OK
* checking Rd contents ... OK
* checking for unstated dependencies in examples ... OK
* checking contents of ‘data’ directory ... OK
* checking data for non-ASCII characters ... OK
* checking data for ASCII and uncompressed saves ... OK
* checking R/sysdata.rda ... OK
* checking files in ‘vignettes’ ... OK
* checking examples ... OK
Examples with CPU (user + system) or elapsed time > 5s
user system elapsed
multipleSign 197.284 1.114 209.688
consensusOVSign 99.615 0.592 104.903
* checking for unstated dependencies in ‘tests’ ... OK
* checking tests ...
Running ‘testthat.R’
OK
* checking for unstated dependencies in vignettes ... OK
* checking package vignettes in ‘inst/doc’ ... OK
* checking running R code from vignettes ... SKIPPED
* checking re-building of vignette outputs ... SKIPPED
* checking PDF version of manual ... OK
* DONE
Status: OK
signifinder.Rcheck/00install.out
############################################################################## ############################################################################## ### ### Running command: ### ### /Library/Frameworks/R.framework/Resources/bin/R CMD INSTALL signifinder ### ############################################################################## ############################################################################## * installing to library ‘/Library/Frameworks/R.framework/Versions/4.3-arm64/Resources/library’ * installing *source* package ‘signifinder’ ... ** using staged installation ** R ** data ** inst ** byte-compile and prepare package for lazy loading ** help *** installing help indices *** copying figures ** building package indices ** installing vignettes ** testing if installed package can be loaded from temporary location ** testing if installed package can be loaded from final location ** testing if installed package keeps a record of temporary installation path * DONE (signifinder)
signifinder.Rcheck/tests/testthat.Rout
R version 4.3.3 (2024-02-29) -- "Angel Food Cake"
Copyright (C) 2024 The R Foundation for Statistical Computing
Platform: aarch64-apple-darwin20 (64-bit)
R is free software and comes with ABSOLUTELY NO WARRANTY.
You are welcome to redistribute it under certain conditions.
Type 'license()' or 'licence()' for distribution details.
R is a collaborative project with many contributors.
Type 'contributors()' for more information and
'citation()' on how to cite R or R packages in publications.
Type 'demo()' for some demos, 'help()' for on-line help, or
'help.start()' for an HTML browser interface to help.
Type 'q()' to quit R.
> library(testthat)
> library(signifinder)
>
> test_check("signifinder")
'select()' returned 1:1 mapping between keys and columns
Loading required package: edgeR
Loading required package: limma
Attaching package: 'limma'
The following object is masked from 'package:BiocGenerics':
plotMA
pyroptosisSignYe is using 100% of signature genes
'select()' returned 1:1 mapping between keys and columns
ferroptosisSignLiu is using 100% of signature genes
lipidMetabolismSign is using 100% of signature genes
StemCellCD49fSign is using 100% of signature genes
glycolysisSignZhang is using 100% of signature genes
autophagySignXu is using 100% of signature genes
'select()' returned 1:1 mapping between keys and columns
autophagySignChenM is using 100% of OS signature genes
autophagySignChenM is using 60% of DFS signature genes
TinflamSign is using 100% of signature genes
EMTSignMiow is using 0% of epithelial signature genes
EMTSignMiow is using 100% of mesenchymal signature genes
[1] "Calculating ranks..."
[1] "Calculating absolute values from ranks..."
EMTSignMiow is using 0% of epithelial signature genes
[1] "Calculating ranks..."
[1] "Calculating absolute values from ranks..."
EMTSignMak is using 100% of epithelial signature genes
EMTSignMak is using 100% of mesenchymal signature genes
EMTSignMak is using 100% of mesenchymal signature genes
EMTSignCheng is using 100% of signature genes
ASCSign is using 100% of signature genes
ChemokineSign is using 100% of signature genes
'select()' returned 1:1 mapping between keys and columns
PassONSign is using 100% of signature genes
[1] "Calculating ranks..."
[1] "Calculating absolute values from ranks..."
[1] "Normalizing..."
CISSign is using 100% of up signature genes
CISSign is using 100% of down signature genes
CISSign is using 100% of down signature genes
HRDSSign is using 100% of signature genes
DNArepSign is using 100% of signature genes
'select()' returned 1:1 mapping between keys and columns
IPRESSign is using 100% of signature genes
[1] "Calculating ranks..."
[1] "Calculating absolute values from ranks..."
[1] "Normalizing..."
ECMSign is using 0% of up signature genes
ECMSign is using 100% of down signature genes
[1] "Calculating ranks..."
[1] "Calculating absolute values from ranks..."
ECMSign is using 0% of up signature genes
[1] "Calculating ranks..."
[1] "Calculating absolute values from ranks..."
IPSOVSign is using 100% of signature genes
[1] "Calculating ranks..."
[1] "Calculating absolute values from ranks..."
[1] "Calculating ranks..."
[1] "Calculating absolute values from ranks..."
'select()' returned 1:1 mapping between keys and columns
glioCellStateSign is using 100% of MES2 signature genes
glioCellStateSign is using 100% of MES1 signature genes
glioCellStateSign is using 100% of AC signature genes
glioCellStateSign is using 100% of OPC signature genes
glioCellStateSign is using 100% of NPC1 signature genes
glioCellStateSign is using 100% of NPC2 signature genes
TLSSign is using 100% of signature genes
expandedImmuneSign is using 100% of signature genes
IFNSign is using 100% of signature genes
ImmuneCytSignRooney is using 100% of signature genes
mitoticIndexSign is using 100% of signature genes
matrisomeSign is using 100% of signature genes
immunoScoreSignRoh is using 100% of signature genes
CINSign is using 100% of signature genes
CINSign is using 36% of signature genes
CINSign is using 36% of signature genes
hypoxiaSign is using 100% of signature genes
cellCycleSignLundberg is using 100% of signature genes
cellCycleSignDavoli is using 100% of signature genes
VEGFSign is using 100% of signature genes
ImmuneCytSignDavoli is using 100% of signature genes
[ FAIL 0 | WARN 20 | SKIP 0 | PASS 196 ]
[ FAIL 0 | WARN 20 | SKIP 0 | PASS 196 ]
>
> proc.time()
user system elapsed
155.871 6.572 171.665
signifinder.Rcheck/signifinder-Ex.timings
| name | user | system | elapsed | |
| ASCSign | 0.124 | 0.005 | 0.135 | |
| CINSign | 0.067 | 0.005 | 0.073 | |
| CISSign | 0.050 | 0.004 | 0.058 | |
| DNArepSign | 0.053 | 0.004 | 0.059 | |
| ECMSign | 0.383 | 0.008 | 0.409 | |
| EMTSign | 0.114 | 0.005 | 0.124 | |
| HRDSSign | 0.055 | 0.004 | 0.060 | |
| IFNSign | 0.046 | 0.003 | 0.050 | |
| IPRESSign | 1.735 | 0.020 | 1.817 | |
| IPSOVSign | 0.132 | 0.014 | 0.173 | |
| IPSSign | 0.094 | 0.005 | 0.101 | |
| ISCSign | 0.079 | 0.011 | 0.094 | |
| PassONSign | 0.115 | 0.005 | 0.128 | |
| TLSSign | 0.048 | 0.004 | 0.053 | |
| TinflamSign | 0.046 | 0.002 | 0.050 | |
| VEGFSign | 0.044 | 0.003 | 0.050 | |
| autophagySign | 0.045 | 0.003 | 0.049 | |
| availableSignatures | 0.013 | 0.005 | 0.017 | |
| cellCycleSign | 0.045 | 0.003 | 0.050 | |
| chemokineSign | 0.049 | 0.004 | 0.057 | |
| consensusOVSign | 99.615 | 0.592 | 104.903 | |
| correlationSignPlot | 1.566 | 0.070 | 1.718 | |
| evaluationSignPlot | 2.134 | 0.084 | 2.315 | |
| expandedImmuneSign | 1.757 | 0.032 | 1.870 | |
| ferroptosisSign | 0.053 | 0.004 | 0.066 | |
| geneHeatmapSignPlot | 1.380 | 0.018 | 1.465 | |
| glioCellStateSign | 0.028 | 0.003 | 0.035 | |
| glycolysisSign | 0.053 | 0.004 | 0.062 | |
| heatmapSignPlot | 2.432 | 0.035 | 2.638 | |
| hypoxiaSign | 0.048 | 0.005 | 0.055 | |
| immuneCytSign | 0.054 | 0.004 | 0.059 | |
| immunoScoreSign | 0.052 | 0.004 | 0.065 | |
| lipidMetabolismSign | 0.046 | 0.004 | 0.060 | |
| matrisomeSign | 0.047 | 0.003 | 0.051 | |
| mitoticIndexSign | 0.046 | 0.004 | 0.054 | |
| multipleSign | 197.284 | 1.114 | 209.688 | |
| oneSignPlot | 0.452 | 0.009 | 0.498 | |
| pyroptosisSign | 0.060 | 0.005 | 0.071 | |
| ridgelineSignPlot | 1.268 | 0.060 | 1.430 | |
| stemCellCD49fSign | 0.052 | 0.004 | 0.058 | |
| survivalSignPlot | 1.721 | 0.039 | 1.840 | |