| Back to Mac ARM64 build report for BioC 3.18 |
|
This page was generated on 2024-04-18 11:32:17 -0400 (Thu, 18 Apr 2024).
| Hostname | OS | Arch (*) | R version | Installed pkgs |
|---|---|---|---|---|
| kjohnson1 | macOS 13.6.1 Ventura | arm64 | 4.3.3 (2024-02-29) -- "Angel Food Cake" | 4388 |
| Click on any hostname to see more info about the system (e.g. compilers) (*) as reported by 'uname -p', except on Windows and Mac OS X | ||||
| Package 1800/2266 | Hostname | OS / Arch | INSTALL | BUILD | CHECK | BUILD BIN | ||||||||
| rqubic 1.48.0 (landing page) Jitao David Zhang
| kjohnson1 | macOS 13.6.1 Ventura / arm64 | OK | OK | OK | OK | ||||||||
|
To the developers/maintainers of the rqubic package: - Use the following Renviron settings to reproduce errors and warnings. - If 'R CMD check' started to fail recently on the Linux builder(s) over a missing dependency, add the missing dependency to 'Suggests:' in your DESCRIPTION file. See Renviron.bioc for more information. |
| Package: rqubic |
| Version: 1.48.0 |
| Command: rm -rf rqubic.buildbin-libdir && mkdir rqubic.buildbin-libdir && /Users/biocbuild/BBS/utils/build-universal.sh rqubic_1.48.0.tar.gz /Library/Frameworks/R.framework/Resources/bin/R rqubic.buildbin-libdir |
| StartedAt: 2024-04-18 11:01:50 -0400 (Thu, 18 Apr 2024) |
| EndedAt: 2024-04-18 11:02:05 -0400 (Thu, 18 Apr 2024) |
| EllapsedTime: 15.8 seconds |
| RetCode: 0 |
| Status: OK |
| PackageFile: rqubic_1.48.0.tgz |
| PackageFileSize: 432.7 KiB |
##############################################################################
##############################################################################
###
### Running command:
###
### rm -rf rqubic.buildbin-libdir && mkdir rqubic.buildbin-libdir && /Users/biocbuild/BBS/utils/build-universal.sh rqubic_1.48.0.tar.gz /Library/Frameworks/R.framework/Resources/bin/R rqubic.buildbin-libdir
###
##############################################################################
##############################################################################
>>>>>>>
>>>>>>> INSTALLATION WITH 'R CMD INSTALL --preclean --no-multiarch --library=rqubic.buildbin-libdir rqubic_1.48.0.tar.gz'
>>>>>>>
* installing *source* package ‘rqubic’ ...
** using staged installation
** libs
using C compiler: ‘Apple clang version 15.0.0 (clang-1500.0.40.1)’
using SDK: ‘MacOSX11.3.sdk’
clang -arch arm64 -I"/Library/Frameworks/R.framework/Resources/include" -DNDEBUG -I/opt/R/arm64/include -fPIC -falign-functions=64 -Wall -g -O2 -c bicluster.c -o bicluster.o
bicluster.c:354:15: warning: using the result of an assignment as a condition without parentheses [-Wparentheses]
if (flag=ss) (*m_cnt)++;
~~~~^~~
bicluster.c:354:15: note: place parentheses around the assignment to silence this warning
if (flag=ss) (*m_cnt)++;
^
( )
bicluster.c:354:15: note: use '==' to turn this assignment into an equality comparison
if (flag=ss) (*m_cnt)++;
^
==
1 warning generated.
clang -arch arm64 -I"/Library/Frameworks/R.framework/Resources/include" -DNDEBUG -I/opt/R/arm64/include -fPIC -falign-functions=64 -Wall -g -O2 -c discretize.c -o discretize.o
clang -arch arm64 -I"/Library/Frameworks/R.framework/Resources/include" -DNDEBUG -I/opt/R/arm64/include -fPIC -falign-functions=64 -Wall -g -O2 -c fib.c -o fib.o
fib.c:170:13: warning: implicit truncation from 'int' to a one-bit wide bit-field changes value from 1 to -1 [-Wsingle-bit-bitfield-constant-conversion]
n->fh_keys = 1;
^ ~
1 warning generated.
clang -arch arm64 -I"/Library/Frameworks/R.framework/Resources/include" -DNDEBUG -I/opt/R/arm64/include -fPIC -falign-functions=64 -Wall -g -O2 -c graph.c -o graph.o
clang -arch arm64 -I"/Library/Frameworks/R.framework/Resources/include" -DNDEBUG -I/opt/R/arm64/include -fPIC -falign-functions=64 -Wall -g -O2 -c rqubic.c -o rqubic.o
clang -arch arm64 -dynamiclib -Wl,-headerpad_max_install_names -undefined dynamic_lookup -L/Library/Frameworks/R.framework/Resources/lib -L/opt/R/arm64/lib -o rqubic.so bicluster.o discretize.o fib.o graph.o rqubic.o -F/Library/Frameworks/R.framework/.. -framework R -Wl,-framework -Wl,CoreFoundation
installing to /Users/biocbuild/bbs-3.18-bioc-mac-arm64/meat/rqubic.buildbin-libdir/00LOCK-rqubic/00new/rqubic/libs
** R
** inst
** byte-compile and prepare package for lazy loading
** help
*** installing help indices
** building package indices
** installing vignettes
** testing if installed package can be loaded from temporary location
** checking absolute paths in shared objects and dynamic libraries
** testing if installed package can be loaded from final location
** testing if installed package keeps a record of temporary installation path
* DONE (rqubic)
>>>>>>>
>>>>>>> FIXING PATHS TO DYNAMIC LIBRARIES FOR rqubic.buildbin-libdir/rqubic/libs/rqubic.so
>>>>>>>
>>>>>>> Paths before fix:
rqubic.buildbin-libdir/rqubic/libs/rqubic.so:
rqubic.so (compatibility version 0.0.0, current version 0.0.0)
/Library/Frameworks/R.framework/Versions/4.3-arm64/Resources/lib/libR.dylib (compatibility version 4.3.0, current version 4.3.3)
/System/Library/Frameworks/CoreFoundation.framework/Versions/A/CoreFoundation (compatibility version 150.0.0, current version 1775.118.101)
/usr/lib/libSystem.B.dylib (compatibility version 1.0.0, current version 1292.100.5)
>>>>>>> Fix with install_name_tool:
install_name_tool -change "/usr/local/lib/libgcc_s.1.1.dylib" "/Library/Frameworks/R.framework/Versions/4.3-arm64/Resources/lib/libgcc_s.1.1.dylib" "rqubic.buildbin-libdir/rqubic/libs/rqubic.so"
install_name_tool -change "/usr/local/lib/libgfortran.5.dylib" "/Library/Frameworks/R.framework/Versions/4.3-arm64/Resources/lib/libgfortran.5.dylib" "rqubic.buildbin-libdir/rqubic/libs/rqubic.so"
install_name_tool -change "/usr/local/lib/libquadmath.0.dylib" "/Library/Frameworks/R.framework/Versions/4.3-arm64/Resources/lib/libquadmath.0.dylib" "rqubic.buildbin-libdir/rqubic/libs/rqubic.so"
>>>>>>> Paths after fix:
rqubic.buildbin-libdir/rqubic/libs/rqubic.so:
rqubic.so (compatibility version 0.0.0, current version 0.0.0)
/Library/Frameworks/R.framework/Versions/4.3-arm64/Resources/lib/libR.dylib (compatibility version 4.3.0, current version 4.3.3)
/System/Library/Frameworks/CoreFoundation.framework/Versions/A/CoreFoundation (compatibility version 150.0.0, current version 1775.118.101)
/usr/lib/libSystem.B.dylib (compatibility version 1.0.0, current version 1292.100.5)