| Back to Mac ARM64 build report for BioC 3.18 |
|
This page was generated on 2024-04-18 11:32:16 -0400 (Thu, 18 Apr 2024).
| Hostname | OS | Arch (*) | R version | Installed pkgs |
|---|---|---|---|---|
| kjohnson1 | macOS 13.6.1 Ventura | arm64 | 4.3.3 (2024-02-29) -- "Angel Food Cake" | 4388 |
| Click on any hostname to see more info about the system (e.g. compilers) (*) as reported by 'uname -p', except on Windows and Mac OS X | ||||
| Package 1668/2266 | Hostname | OS / Arch | INSTALL | BUILD | CHECK | BUILD BIN | ||||||||
| rBiopaxParser 2.42.0 (landing page) Frank Kramer
| kjohnson1 | macOS 13.6.1 Ventura / arm64 | OK | OK | OK | OK | ||||||||
|
To the developers/maintainers of the rBiopaxParser package: - Use the following Renviron settings to reproduce errors and warnings. - If 'R CMD check' started to fail recently on the Linux builder(s) over a missing dependency, add the missing dependency to 'Suggests:' in your DESCRIPTION file. See Renviron.bioc for more information. |
| Package: rBiopaxParser |
| Version: 2.42.0 |
| Command: /Library/Frameworks/R.framework/Resources/bin/R CMD check --install=check:rBiopaxParser.install-out.txt --library=/Library/Frameworks/R.framework/Resources/library --no-vignettes --timings rBiopaxParser_2.42.0.tar.gz |
| StartedAt: 2024-04-18 00:27:14 -0400 (Thu, 18 Apr 2024) |
| EndedAt: 2024-04-18 00:28:04 -0400 (Thu, 18 Apr 2024) |
| EllapsedTime: 50.4 seconds |
| RetCode: 0 |
| Status: OK |
| CheckDir: rBiopaxParser.Rcheck |
| Warnings: 0 |
##############################################################################
##############################################################################
###
### Running command:
###
### /Library/Frameworks/R.framework/Resources/bin/R CMD check --install=check:rBiopaxParser.install-out.txt --library=/Library/Frameworks/R.framework/Resources/library --no-vignettes --timings rBiopaxParser_2.42.0.tar.gz
###
##############################################################################
##############################################################################
* using log directory ‘/Users/biocbuild/bbs-3.18-bioc-mac-arm64/meat/rBiopaxParser.Rcheck’
* using R version 4.3.3 (2024-02-29)
* using platform: aarch64-apple-darwin20 (64-bit)
* R was compiled by
Apple clang version 14.0.0 (clang-1400.0.29.202)
GNU Fortran (GCC) 12.2.0
* running under: macOS Ventura 13.6.1
* using session charset: UTF-8
* using option ‘--no-vignettes’
* checking for file ‘rBiopaxParser/DESCRIPTION’ ... OK
* checking extension type ... Package
* this is package ‘rBiopaxParser’ version ‘2.42.0’
* checking package namespace information ... OK
* checking package dependencies ... OK
* checking if this is a source package ... OK
* checking if there is a namespace ... OK
* checking for hidden files and directories ... OK
* checking for portable file names ... OK
* checking for sufficient/correct file permissions ... OK
* checking whether package ‘rBiopaxParser’ can be installed ... OK
* checking installed package size ... OK
* checking package directory ... OK
* checking ‘build’ directory ... OK
* checking DESCRIPTION meta-information ... OK
* checking top-level files ... OK
* checking for left-over files ... OK
* checking index information ... OK
* checking package subdirectories ... OK
* checking R files for non-ASCII characters ... OK
* checking R files for syntax errors ... OK
* checking whether the package can be loaded ... OK
* checking whether the package can be loaded with stated dependencies ... OK
* checking whether the package can be unloaded cleanly ... OK
* checking whether the namespace can be loaded with stated dependencies ... OK
* checking whether the namespace can be unloaded cleanly ... OK
* checking dependencies in R code ... NOTE
'library' or 'require' calls in package code:
‘RBGL’ ‘RCurl’ ‘Rgraphviz’ ‘graph’ ‘igraph’
Please use :: or requireNamespace() instead.
See section 'Suggested packages' in the 'Writing R Extensions' manual.
* checking S3 generic/method consistency ... OK
* checking replacement functions ... OK
* checking foreign function calls ... OK
* checking R code for possible problems ... NOTE
addBiopaxInstance: no visible binding for global variable ‘property’
addBiopaxInstances: no visible binding for global variable ‘id’
addBiopaxInstances: no visible binding for global variable ‘property’
addPropertiesToBiopaxInstance: no visible binding for global variable
‘property’
colorGraphNodes: no visible global function definition for ‘hcl’
createBiopax: no visible binding for global variable ‘id’
createBiopax: no visible binding for global variable ‘property’
getReferencedIDs: no visible binding for global variable
‘property_attr’
getReferencedIDs: no visible binding for global variable ‘property’
getReferencingIDs: no visible binding for global variable
‘property_attr’
getReferencingIDs: no visible binding for global variable ‘property’
internal_XMLInstance2DF: no visible binding for global variable ‘i’
internal_XMLInstance2DF: no visible binding for global variable ‘p’
internal_generateXMLfromBiopax: no visible binding for global variable
‘id’
internal_getBiopaxModelAsDataFrame: no visible binding for global
variable ‘property’
internal_propertyListToDF: no visible binding for global variable
‘property’
layoutRegulatoryGraph: no visible global function definition for
‘nodes’
listInstances: no visible binding for global variable ‘property_value’
listInstances: no visible binding for global variable ‘property’
pathway2AdjacancyMatrix: no visible global function definition for ‘as’
pathway2Graph: no visible global function definition for ‘new’
pathway2Graph: no visible global function definition for ‘getClassDef’
pathway2Graph: no visible binding for global variable ‘id’
pathway2Graph: no visible binding for global variable ‘property’
pathway2RegulatoryGraph: no visible global function definition for
‘new’
pathway2RegulatoryGraph: no visible global function definition for
‘getClassDef’
pathway2RegulatoryGraph: no visible binding for global variable ‘id’
pathway2RegulatoryGraph: no visible binding for global variable
‘property’
plotRegulatoryGraph: no visible global function definition for ‘nodes’
removeDisconnectedParts: no visible global function definition for
‘removeNode’
removeNodes: no visible global function definition for ‘edgeWeights’
removeNodes: no visible global function definition for ‘na.omit’
removeNodes: no visible global function definition for ‘removeNode’
removeNodes: no visible global function definition for ‘addEdge’
removeProperties: no visible binding for global variable ‘property’
selectInstances: no visible binding for global variable
‘property_value’
Undefined global functions or variables:
addEdge as edgeWeights getClassDef hcl i id na.omit new nodes p
property property_attr property_value removeNode
Consider adding
importFrom("grDevices", "hcl")
importFrom("methods", "as", "getClassDef", "new")
importFrom("stats", "na.omit")
to your NAMESPACE file (and ensure that your DESCRIPTION Imports field
contains 'methods').
* checking Rd files ... OK
* checking Rd metadata ... OK
* checking Rd cross-references ... OK
* checking for missing documentation entries ... OK
* checking for code/documentation mismatches ... OK
* checking Rd \usage sections ... OK
* checking Rd contents ... OK
* checking for unstated dependencies in examples ... OK
* checking contents of ‘data’ directory ... OK
* checking data for non-ASCII characters ... NOTE
Note: found 1 marked UTF-8 string
* checking data for ASCII and uncompressed saves ... OK
* checking sizes of PDF files under ‘inst/doc’ ... OK
* checking files in ‘vignettes’ ... OK
* checking examples ... OK
* checking for unstated dependencies in ‘tests’ ... OK
* checking tests ...
Running ‘runTests.R’
OK
* checking for unstated dependencies in vignettes ... OK
* checking package vignettes in ‘inst/doc’ ... OK
* checking running R code from vignettes ... SKIPPED
* checking re-building of vignette outputs ... SKIPPED
* checking PDF version of manual ... OK
* DONE
Status: 3 NOTEs
See
‘/Users/biocbuild/bbs-3.18-bioc-mac-arm64/meat/rBiopaxParser.Rcheck/00check.log’
for details.
rBiopaxParser.Rcheck/00install.out
############################################################################## ############################################################################## ### ### Running command: ### ### /Library/Frameworks/R.framework/Resources/bin/R CMD INSTALL rBiopaxParser ### ############################################################################## ############################################################################## * installing to library ‘/Library/Frameworks/R.framework/Versions/4.3-arm64/Resources/library’ * installing *source* package ‘rBiopaxParser’ ... ** using staged installation ** R ** data ** inst ** byte-compile and prepare package for lazy loading ** help *** installing help indices ** building package indices ** installing vignettes ** testing if installed package can be loaded from temporary location ** testing if installed package can be loaded from final location ** testing if installed package keeps a record of temporary installation path * DONE (rBiopaxParser)
rBiopaxParser.Rcheck/tests/runTests.Rout
R version 4.3.3 (2024-02-29) -- "Angel Food Cake"
Copyright (C) 2024 The R Foundation for Statistical Computing
Platform: aarch64-apple-darwin20 (64-bit)
R is free software and comes with ABSOLUTELY NO WARRANTY.
You are welcome to redistribute it under certain conditions.
Type 'license()' or 'licence()' for distribution details.
R is a collaborative project with many contributors.
Type 'contributors()' for more information and
'citation()' on how to cite R or R packages in publications.
Type 'demo()' for some demos, 'help()' for on-line help, or
'help.start()' for an HTML browser interface to help.
Type 'q()' to quit R.
> BiocGenerics:::testPackage("rBiopaxParser")
RUNIT TEST PROTOCOL -- Thu Apr 18 00:27:53 2024
***********************************************
Number of test functions: 12
Number of errors: 0
Number of failures: 0
1 Test Suite :
rBiopaxParser RUnit Tests - 12 test functions, 0 errors, 0 failures
Number of test functions: 12
Number of errors: 0
Number of failures: 0
>
> proc.time()
user system elapsed
0.499 0.065 0.551
rBiopaxParser.Rcheck/rBiopaxParser-Ex.timings
| name | user | system | elapsed | |
| addBiochemicalReaction | 0.055 | 0.006 | 0.061 | |
| addBiopaxInstance | 0.005 | 0.000 | 0.006 | |
| addBiopaxInstances | 0.013 | 0.002 | 0.015 | |
| addControl | 0.021 | 0.002 | 0.023 | |
| addPathway | 0.019 | 0.001 | 0.019 | |
| addPathwayComponents | 0.030 | 0.001 | 0.031 | |
| addPhysicalEntity | 0.009 | 0.001 | 0.009 | |
| addPhysicalEntityParticipant | 0.011 | 0.001 | 0.011 | |
| addPropertiesToBiopaxInstance | 0.009 | 0.001 | 0.010 | |
| biopax | 0.027 | 0.005 | 0.032 | |
| calcGraphOverlap | 1.821 | 0.050 | 1.882 | |
| colorGraphNodes | 0.946 | 0.029 | 0.978 | |
| combineNodes | 0.004 | 0.002 | 0.006 | |
| createBiopax | 0.002 | 0.000 | 0.002 | |
| diffGraphs | 1.552 | 0.044 | 1.599 | |
| downloadBiopaxData | 0 | 0 | 0 | |
| getClassProperties | 0.001 | 0.000 | 0.001 | |
| getInstanceClass | 0.007 | 0.001 | 0.008 | |
| getInstanceProperty | 0.008 | 0.001 | 0.009 | |
| getReferencedIDs | 0.024 | 0.002 | 0.026 | |
| getReferencingIDs | 0.019 | 0.002 | 0.020 | |
| getSubClasses | 0 | 0 | 0 | |
| getSuperClasses | 0 | 0 | 0 | |
| getXrefAnnotations | 0.123 | 0.005 | 0.128 | |
| hasProperty | 0.004 | 0.002 | 0.006 | |
| intersectGraphs | 1.476 | 0.049 | 1.528 | |
| isOfClass | 0.008 | 0.002 | 0.010 | |
| layoutRegulatoryGraph | 0.965 | 0.021 | 0.988 | |
| listComplexComponents | 0.013 | 0.002 | 0.015 | |
| listInstances | 0.020 | 0.005 | 0.026 | |
| listInteractionComponents | 0.018 | 0.002 | 0.020 | |
| listPathwayComponents | 0.024 | 0.004 | 0.028 | |
| listPathways | 0.011 | 0.002 | 0.013 | |
| pathway2AdjacancyMatrix | 0.917 | 0.017 | 0.934 | |
| pathway2Geneset | 0.389 | 0.006 | 0.394 | |
| pathway2Graph | 1.055 | 0.036 | 1.098 | |
| pathway2RegulatoryGraph | 0.843 | 0.028 | 0.872 | |
| plotRegulatoryGraph | 0.814 | 0.020 | 0.834 | |
| print.biopax | 0.010 | 0.004 | 0.012 | |
| rBiopaxParser-package | 0.000 | 0.000 | 0.001 | |
| readBiopax | 0.005 | 0.001 | 0.006 | |
| removeInstance | 0.005 | 0.002 | 0.006 | |
| removeNodes | 0.875 | 0.021 | 0.897 | |
| removeProperties | 0.006 | 0.002 | 0.007 | |
| selectInstances | 0.026 | 0.005 | 0.031 | |
| splitComplex | 0.034 | 0.003 | 0.037 | |
| transitiveClosure | 0.801 | 0.021 | 0.827 | |
| transitiveReduction | 0.750 | 0.014 | 0.765 | |
| uniteGraphs | 1.603 | 0.058 | 1.667 | |
| writeBiopax | 0.001 | 0.002 | 0.004 | |