| Back to Mac ARM64 build report for BioC 3.18 |
|
This page was generated on 2024-04-18 11:32:14 -0400 (Thu, 18 Apr 2024).
| Hostname | OS | Arch (*) | R version | Installed pkgs |
|---|---|---|---|---|
| kjohnson1 | macOS 13.6.1 Ventura | arm64 | 4.3.3 (2024-02-29) -- "Angel Food Cake" | 4388 |
| Click on any hostname to see more info about the system (e.g. compilers) (*) as reported by 'uname -p', except on Windows and Mac OS X | ||||
| Package 1387/2266 | Hostname | OS / Arch | INSTALL | BUILD | CHECK | BUILD BIN | ||||||||
| nanotatoR 1.18.0 (landing page) Surajit Bhattacharya
| kjohnson1 | macOS 13.6.1 Ventura / arm64 | OK | OK | OK | OK | ||||||||
|
To the developers/maintainers of the nanotatoR package: - Use the following Renviron settings to reproduce errors and warnings. - If 'R CMD check' started to fail recently on the Linux builder(s) over a missing dependency, add the missing dependency to 'Suggests:' in your DESCRIPTION file. See Renviron.bioc for more information. |
| Package: nanotatoR |
| Version: 1.18.0 |
| Command: /Library/Frameworks/R.framework/Resources/bin/R CMD check --install=check:nanotatoR.install-out.txt --library=/Library/Frameworks/R.framework/Resources/library --no-vignettes --timings nanotatoR_1.18.0.tar.gz |
| StartedAt: 2024-04-17 21:11:58 -0400 (Wed, 17 Apr 2024) |
| EndedAt: 2024-04-17 21:14:49 -0400 (Wed, 17 Apr 2024) |
| EllapsedTime: 170.6 seconds |
| RetCode: 0 |
| Status: OK |
| CheckDir: nanotatoR.Rcheck |
| Warnings: 0 |
##############################################################################
##############################################################################
###
### Running command:
###
### /Library/Frameworks/R.framework/Resources/bin/R CMD check --install=check:nanotatoR.install-out.txt --library=/Library/Frameworks/R.framework/Resources/library --no-vignettes --timings nanotatoR_1.18.0.tar.gz
###
##############################################################################
##############################################################################
* using log directory ‘/Users/biocbuild/bbs-3.18-bioc-mac-arm64/meat/nanotatoR.Rcheck’
* using R version 4.3.3 (2024-02-29)
* using platform: aarch64-apple-darwin20 (64-bit)
* R was compiled by
Apple clang version 14.0.0 (clang-1400.0.29.202)
GNU Fortran (GCC) 12.2.0
* running under: macOS Ventura 13.6.1
* using session charset: UTF-8
* using option ‘--no-vignettes’
* checking for file ‘nanotatoR/DESCRIPTION’ ... OK
* this is package ‘nanotatoR’ version ‘1.18.0’
* package encoding: UTF-8
* checking package namespace information ... OK
* checking package dependencies ... OK
* checking if this is a source package ... OK
* checking if there is a namespace ... OK
* checking for hidden files and directories ... NOTE
Found the following hidden files and directories:
.travis.yml
These were most likely included in error. See section ‘Package
structure’ in the ‘Writing R Extensions’ manual.
* checking for portable file names ... OK
* checking for sufficient/correct file permissions ... OK
* checking whether package ‘nanotatoR’ can be installed ... OK
* checking installed package size ... OK
* checking package directory ... OK
* checking ‘build’ directory ... OK
* checking DESCRIPTION meta-information ... OK
* checking top-level files ... OK
* checking for left-over files ... OK
* checking index information ... OK
* checking package subdirectories ... OK
* checking R files for non-ASCII characters ... OK
* checking R files for syntax errors ... OK
* checking whether the package can be loaded ... OK
* checking whether the package can be loaded with stated dependencies ... OK
* checking whether the package can be unloaded cleanly ... OK
* checking whether the namespace can be loaded with stated dependencies ... OK
* checking whether the namespace can be unloaded cleanly ... OK
* checking dependencies in R code ... NOTE
Namespace in Imports field not imported from: ‘GenomicRanges’
All declared Imports should be used.
* checking S3 generic/method consistency ... OK
* checking replacement functions ... OK
* checking foreign function calls ... OK
* checking R code for possible problems ... OK
* checking Rd files ... OK
* checking Rd metadata ... OK
* checking Rd cross-references ... OK
* checking for missing documentation entries ... OK
* checking for code/documentation mismatches ... OK
* checking Rd \usage sections ... OK
* checking Rd contents ... OK
* checking for unstated dependencies in examples ... OK
* checking files in ‘vignettes’ ... OK
* checking examples ... OK
* checking for unstated dependencies in ‘tests’ ... OK
* checking tests ...
Running ‘testthat.R’
OK
* checking for unstated dependencies in vignettes ... OK
* checking package vignettes in ‘inst/doc’ ... OK
* checking running R code from vignettes ... SKIPPED
* checking re-building of vignette outputs ... SKIPPED
* checking PDF version of manual ... OK
* DONE
Status: 2 NOTEs
See
‘/Users/biocbuild/bbs-3.18-bioc-mac-arm64/meat/nanotatoR.Rcheck/00check.log’
for details.
nanotatoR.Rcheck/00install.out
############################################################################## ############################################################################## ### ### Running command: ### ### /Library/Frameworks/R.framework/Resources/bin/R CMD INSTALL nanotatoR ### ############################################################################## ############################################################################## * installing to library ‘/Library/Frameworks/R.framework/Versions/4.3-arm64/Resources/library’ * installing *source* package ‘nanotatoR’ ... ** using staged installation ** R ** inst ** byte-compile and prepare package for lazy loading ** help *** installing help indices ** building package indices ** installing vignettes ** testing if installed package can be loaded from temporary location ** testing if installed package can be loaded from final location ** testing if installed package keeps a record of temporary installation path * DONE (nanotatoR)
nanotatoR.Rcheck/tests/testthat.Rout
R version 4.3.3 (2024-02-29) -- "Angel Food Cake"
Copyright (C) 2024 The R Foundation for Statistical Computing
Platform: aarch64-apple-darwin20 (64-bit)
R is free software and comes with ABSOLUTELY NO WARRANTY.
You are welcome to redistribute it under certain conditions.
Type 'license()' or 'licence()' for distribution details.
R is a collaborative project with many contributors.
Type 'contributors()' for more information and
'citation()' on how to cite R or R packages in publications.
Type 'demo()' for some demos, 'help()' for on-line help, or
'help.start()' for an HTML browser interface to help.
Type 'q()' to quit R.
> library(testthat)
> library(nanotatoR)
>
> test_check("nanotatoR")
[ FAIL 0 | WARN 0 | SKIP 0 | PASS 0 ]
>
> proc.time()
user system elapsed
6.325 0.345 6.691
nanotatoR.Rcheck/nanotatoR-Ex.timings
| name | user | system | elapsed | |
| BNDBfrequency | 0.035 | 0.009 | 0.047 | |
| DGVfrequency | 0.009 | 0.002 | 0.011 | |
| Decipherfrequency | 0.011 | 0.002 | 0.014 | |
| FamilyInfoPrep | 0.008 | 0.003 | 0.010 | |
| OverlapRNAseq | 0.166 | 0.008 | 0.177 | |
| OverlapRNAseq_solo | 0.144 | 0.005 | 0.150 | |
| RNAseqcombine | 0.000 | 0.000 | 0.001 | |
| RNAseqcombine_solo | 0.167 | 0.005 | 0.173 | |
| SVexpression_duo_trio | 0.001 | 0.000 | 0.001 | |
| SVexpression_solo | 0.214 | 0.007 | 0.224 | |
| buildrunBNBedFiles | 0.004 | 0.000 | 0.004 | |
| clinvar_gene | 0.021 | 0.001 | 0.023 | |
| extract_clinvar_mod | 0.022 | 0.001 | 0.024 | |
| gene_extraction | 1.070 | 0.034 | 2.069 | |
| gene_list_generation | 0.538 | 0.027 | 1.928 | |
| gtr_gene | 0.003 | 0.001 | 0.004 | |
| internalFrequencyTrio_Duo | 0.111 | 0.003 | 0.119 | |
| internalFrequency_solo | 0.166 | 0.002 | 0.170 | |
| makeInternalBNDatabase | 0.002 | 0.000 | 0.002 | |
| mergingSMAP_SE | 0.023 | 0.003 | 0.026 | |
| mergingSMAP_SVMerge | 0.010 | 0.001 | 0.010 | |
| merging_SE_SVMerge | 0.045 | 0.007 | 0.053 | |
| nanotatoR | 0.001 | 0.001 | 0.002 | |
| nanotatoR_Duo_SVmerge | 0.000 | 0.001 | 0.001 | |
| nanotatoR_SVmerge_Trio | 0.000 | 0.000 | 0.001 | |
| nanotatoR_main_Duo_SE | 0 | 0 | 0 | |
| nanotatoR_main_Solo_SE | 0.478 | 0.068 | 0.550 | |
| nanotatoR_main_Solo_SVmerge | 0.116 | 0.007 | 0.129 | |
| nanotatoR_main_Trio_SE | 0.080 | 0.006 | 0.095 | |
| nonOverlapGenes | 0.016 | 0.001 | 0.018 | |
| nonOverlapRNAseq | 0.176 | 0.005 | 0.184 | |
| nonOverlapRNAseq_solo | 0.150 | 0.004 | 0.157 | |
| nonOverlappingDNGenes | 0.022 | 0.001 | 0.025 | |
| nonOverlappingUPGenes | 0.024 | 0.002 | 0.027 | |
| omim_gene | 0.014 | 0.002 | 0.701 | |
| overlapGenes | 0.013 | 0.001 | 0.014 | |
| overlapnearestgeneSearch | 0.025 | 0.002 | 0.028 | |
| overlappingGenes | 0.022 | 0.001 | 0.023 | |
| phenoextractHPO_mod | 0.005 | 0.000 | 0.006 | |
| readBNBedFiles | 0.003 | 0.000 | 0.003 | |
| readSMap | 0.015 | 0.003 | 0.019 | |
| readSMap_DLE | 0.011 | 0.002 | 0.013 | |
| reading_GTR | 0.002 | 0.001 | 0.003 | |
| reading_mim2gene | 0.002 | 0.001 | 0.003 | |
| run_bionano_filter_SE_Trio | 0.251 | 0.013 | 0.264 | |
| run_bionano_filter_SE_duo | 0.000 | 0.000 | 0.001 | |
| run_bionano_filter_SE_solo | 0.334 | 0.011 | 0.346 | |
| run_bionano_filter_SVMerge_Trio | 0.000 | 0.000 | 0.001 | |
| run_bionano_filter_SVMerge_duo | 0.001 | 0.001 | 0.001 | |
| run_bionano_filter_SVMerge_solo | 0.262 | 0.012 | 0.276 | |