| Back to Mac ARM64 build report for BioC 3.18 |
|
This page was generated on 2024-04-18 11:32:14 -0400 (Thu, 18 Apr 2024).
| Hostname | OS | Arch (*) | R version | Installed pkgs |
|---|---|---|---|---|
| kjohnson1 | macOS 13.6.1 Ventura | arm64 | 4.3.3 (2024-02-29) -- "Angel Food Cake" | 4388 |
| Click on any hostname to see more info about the system (e.g. compilers) (*) as reported by 'uname -p', except on Windows and Mac OS X | ||||
| Package 1333/2266 | Hostname | OS / Arch | INSTALL | BUILD | CHECK | BUILD BIN | ||||||||
| mslp 1.4.0 (landing page) Chunxuan Shao
| kjohnson1 | macOS 13.6.1 Ventura / arm64 | OK | OK | ERROR | OK | ||||||||
|
To the developers/maintainers of the mslp package: - Use the following Renviron settings to reproduce errors and warnings. - If 'R CMD check' started to fail recently on the Linux builder(s) over a missing dependency, add the missing dependency to 'Suggests:' in your DESCRIPTION file. See Renviron.bioc for more information. |
| Package: mslp |
| Version: 1.4.0 |
| Command: /Library/Frameworks/R.framework/Resources/bin/R CMD check --install=check:mslp.install-out.txt --library=/Library/Frameworks/R.framework/Resources/library --no-vignettes --timings mslp_1.4.0.tar.gz |
| StartedAt: 2024-04-17 20:32:27 -0400 (Wed, 17 Apr 2024) |
| EndedAt: 2024-04-17 20:33:55 -0400 (Wed, 17 Apr 2024) |
| EllapsedTime: 88.8 seconds |
| RetCode: 1 |
| Status: ERROR |
| CheckDir: mslp.Rcheck |
| Warnings: NA |
##############################################################################
##############################################################################
###
### Running command:
###
### /Library/Frameworks/R.framework/Resources/bin/R CMD check --install=check:mslp.install-out.txt --library=/Library/Frameworks/R.framework/Resources/library --no-vignettes --timings mslp_1.4.0.tar.gz
###
##############################################################################
##############################################################################
* using log directory ‘/Users/biocbuild/bbs-3.18-bioc-mac-arm64/meat/mslp.Rcheck’
* using R version 4.3.3 (2024-02-29)
* using platform: aarch64-apple-darwin20 (64-bit)
* R was compiled by
Apple clang version 14.0.0 (clang-1400.0.29.202)
GNU Fortran (GCC) 12.2.0
* running under: macOS Ventura 13.6.1
* using session charset: UTF-8
* using option ‘--no-vignettes’
* checking for file ‘mslp/DESCRIPTION’ ... OK
* checking extension type ... Package
* this is package ‘mslp’ version ‘1.4.0’
* package encoding: UTF-8
* checking package namespace information ... OK
* checking package dependencies ... OK
* checking if this is a source package ... OK
* checking if there is a namespace ... OK
* checking for hidden files and directories ... OK
* checking for portable file names ... OK
* checking for sufficient/correct file permissions ... OK
* checking whether package ‘mslp’ can be installed ... OK
* checking installed package size ... OK
* checking package directory ... OK
* checking ‘build’ directory ... OK
* checking DESCRIPTION meta-information ... OK
* checking top-level files ... OK
* checking for left-over files ... OK
* checking index information ... OK
* checking package subdirectories ... OK
* checking R files for non-ASCII characters ... OK
* checking R files for syntax errors ... OK
* checking whether the package can be loaded ... OK
* checking whether the package can be loaded with stated dependencies ... OK
* checking whether the package can be unloaded cleanly ... OK
* checking whether the namespace can be loaded with stated dependencies ... OK
* checking whether the namespace can be unloaded cleanly ... OK
* checking dependencies in R code ... OK
* checking S3 generic/method consistency ... OK
* checking replacement functions ... OK
* checking foreign function calls ... OK
* checking R code for possible problems ... OK
* checking Rd files ... OK
* checking Rd metadata ... OK
* checking Rd cross-references ... OK
* checking for missing documentation entries ... OK
* checking for code/documentation mismatches ... OK
* checking Rd \usage sections ... OK
* checking Rd contents ... OK
* checking for unstated dependencies in examples ... OK
* checking contents of ‘data’ directory ... OK
* checking data for non-ASCII characters ... OK
* checking data for ASCII and uncompressed saves ... OK
* checking files in ‘vignettes’ ... OK
* checking examples ... OK
Examples with CPU (user + system) or elapsed time > 5s
user system elapsed
est_im 15.010 0.196 16.125
merge_slp 7.021 0.077 7.154
comp_slp 6.473 0.350 7.654
corr_slp 6.514 0.057 7.395
* checking for unstated dependencies in ‘tests’ ... OK
* checking tests ...
Running ‘tinytest.R’
ERROR
Running the tests in ‘tests/tinytest.R’ failed.
Last 13 lines of output:
test_corr_slp.R............... 0 tests
test_corr_slp.R............... 0 tests
test_corr_slp.R............... 0 tests (II) Number of mutations: 5.
test_corr_slp.R............... 0 tests
test_corr_slp.R............... 1 tests [0;31m1 fails[0m [0;34m6.3s[0m
----- FAILED[data]: test_corr_slp.R<5--5>
call| expect_equal(head(res$slp_entrez), c("751071", "10395", "57864",
call| --> "54629", "54898", "1778"))
diff| 6 string mismatches
Error: 1 out of 2 tests failed
In addition: Warning message:
executing %dopar% sequentially: no parallel backend registered
Execution halted
* checking for unstated dependencies in vignettes ... OK
* checking package vignettes in ‘inst/doc’ ... OK
* checking running R code from vignettes ... SKIPPED
* checking re-building of vignette outputs ... SKIPPED
* checking PDF version of manual ... OK
* DONE
Status: 1 ERROR
See
‘/Users/biocbuild/bbs-3.18-bioc-mac-arm64/meat/mslp.Rcheck/00check.log’
for details.
mslp.Rcheck/00install.out
############################################################################## ############################################################################## ### ### Running command: ### ### /Library/Frameworks/R.framework/Resources/bin/R CMD INSTALL mslp ### ############################################################################## ############################################################################## * installing to library ‘/Library/Frameworks/R.framework/Versions/4.3-arm64/Resources/library’ * installing *source* package ‘mslp’ ... ** using staged installation ** R ** data ** inst ** byte-compile and prepare package for lazy loading ** help *** installing help indices ** building package indices ** installing vignettes ** testing if installed package can be loaded from temporary location ** testing if installed package can be loaded from final location ** testing if installed package keeps a record of temporary installation path * DONE (mslp)
mslp.Rcheck/tests/tinytest.Rout.fail
R version 4.3.3 (2024-02-29) -- "Angel Food Cake"
Copyright (C) 2024 The R Foundation for Statistical Computing
Platform: aarch64-apple-darwin20 (64-bit)
R is free software and comes with ABSOLUTELY NO WARRANTY.
You are welcome to redistribute it under certain conditions.
Type 'license()' or 'licence()' for distribution details.
R is a collaborative project with many contributors.
Type 'contributors()' for more information and
'citation()' on how to cite R or R packages in publications.
Type 'demo()' for some demos, 'help()' for on-line help, or
'help.start()' for an HTML browser interface to help.
Type 'q()' to quit R.
> if (requireNamespace("tinytest", quietly = TRUE)) {
+ tinytest::test_package("mslp")
+ }
test_comp_slp.R............... 0 tests
test_comp_slp.R............... 0 tests (==) Number of mutations: 5.
test_comp_slp.R............... 0 tests
test_comp_slp.R............... 1 tests [0;32mOK[0m [0;34m6.4s[0m
test_corr_slp.R............... 0 tests
test_corr_slp.R............... 0 tests
test_corr_slp.R............... 0 tests (II) Number of mutations: 5.
test_corr_slp.R............... 0 tests
test_corr_slp.R............... 1 tests [0;31m1 fails[0m [0;34m6.3s[0m
----- FAILED[data]: test_corr_slp.R<5--5>
call| expect_equal(head(res$slp_entrez), c("751071", "10395", "57864",
call| --> "54629", "54898", "1778"))
diff| 6 string mismatches
Error: 1 out of 2 tests failed
In addition: Warning message:
executing %dopar% sequentially: no parallel backend registered
Execution halted
mslp.Rcheck/mslp-Ex.timings
| name | user | system | elapsed | |
| comp_slp | 6.473 | 0.350 | 7.654 | |
| cons_slp | 0.000 | 0.001 | 0.000 | |
| corr_slp | 6.514 | 0.057 | 7.395 | |
| est_im | 15.010 | 0.196 | 16.125 | |
| genie3 | 0.019 | 0.001 | 0.025 | |
| getlink | 0.006 | 0.000 | 0.006 | |
| merge_slp | 7.021 | 0.077 | 7.154 | |
| pp_tcga | 0.000 | 0.001 | 0.000 | |
| scr_slp | 0.117 | 0.014 | 0.707 | |