| Back to Mac ARM64 build report for BioC 3.18 |
|
This page was generated on 2024-04-18 11:32:13 -0400 (Thu, 18 Apr 2024).
| Hostname | OS | Arch (*) | R version | Installed pkgs |
|---|---|---|---|---|
| kjohnson1 | macOS 13.6.1 Ventura | arm64 | 4.3.3 (2024-02-29) -- "Angel Food Cake" | 4388 |
| Click on any hostname to see more info about the system (e.g. compilers) (*) as reported by 'uname -p', except on Windows and Mac OS X | ||||
| Package 1283/2266 | Hostname | OS / Arch | INSTALL | BUILD | CHECK | BUILD BIN | ||||||||
| mitoClone2 1.8.1 (landing page) Benjamin Story
| kjohnson1 | macOS 13.6.1 Ventura / arm64 | OK | OK | WARNINGS | OK | ||||||||
|
To the developers/maintainers of the mitoClone2 package: - Use the following Renviron settings to reproduce errors and warnings. - If 'R CMD check' started to fail recently on the Linux builder(s) over a missing dependency, add the missing dependency to 'Suggests:' in your DESCRIPTION file. See Renviron.bioc for more information. |
| Package: mitoClone2 |
| Version: 1.8.1 |
| Command: /Library/Frameworks/R.framework/Resources/bin/R CMD INSTALL mitoClone2 |
| StartedAt: 2024-04-16 11:20:39 -0400 (Tue, 16 Apr 2024) |
| EndedAt: 2024-04-16 11:21:46 -0400 (Tue, 16 Apr 2024) |
| EllapsedTime: 67.5 seconds |
| RetCode: 0 |
| Status: OK |
##############################################################################
##############################################################################
###
### Running command:
###
### /Library/Frameworks/R.framework/Resources/bin/R CMD INSTALL mitoClone2
###
##############################################################################
##############################################################################
* installing to library ‘/Library/Frameworks/R.framework/Versions/4.3-arm64/Resources/library’
* installing *source* package ‘mitoClone2’ ...
** using staged installation
** libs
using C++ compiler: ‘Apple clang version 15.0.0 (clang-1500.0.40.1)’
using SDK: ‘MacOSX11.3.sdk’
clang++ -arch arm64 -std=gnu++17 -D_FILE_OFFSET_BITS=64 ../inst/SCITEpkg/*.cpp -o scite
mkdir -p "/Library/Frameworks/R.framework/Versions/4.3-arm64/Resources/library/00LOCK-mitoClone2/00new/mitoClone2/SCITE/"
cp scite "/Library/Frameworks/R.framework/Versions/4.3-arm64/Resources/library/00LOCK-mitoClone2/00new/mitoClone2/SCITE/"
rm scite
clang++ -arch arm64 -std=gnu++17 -I"/Library/Frameworks/R.framework/Resources/include" -DNDEBUG -D_FILE_OFFSET_BITS=64 -I'/Library/Frameworks/R.framework/Versions/4.3-arm64/Resources/library/Rhtslib/include' -I/opt/R/arm64/include -fPIC -falign-functions=64 -Wall -g -O2 -c bam2R_10x.cpp -o bam2R_10x.o
bam2R_10x.cpp:6:2: warning: '/*' within block comment [-Wcomment]
/**************************************************************************************
^
bam2R_10x.cpp:8:1: warning: '/*' within block comment [-Wcomment]
/**********************************************************************
^
bam2R_10x.cpp:75:10: warning: unused variable 'bc_absent' [-Wunused-variable]
int bc_absent;
^
bam2R_10x.cpp:53:9: warning: variable 'missingBC' set but not used [-Wunused-but-set-variable]
int missingBC = 0;
^
bam2R_10x.cpp:158:16: warning: unused variable 'iter' [-Wunused-variable]
hts_itr_t *iter = NULL;
^
bam2R_10x.cpp:161:9: warning: unused variable 'c' [-Wunused-variable]
int c = 0;
^
6 warnings generated.
clang++ -arch arm64 -std=gnu++17 -dynamiclib -Wl,-headerpad_max_install_names -undefined dynamic_lookup -L/Library/Frameworks/R.framework/Resources/lib -L/opt/R/arm64/lib -o mitoClone2.so bam2R_10x.o /Library/Frameworks/R.framework/Versions/4.3-arm64/Resources/library/Rhtslib/usrlib/libhts.a -lcurl -lbz2 -llzma -lz -F/Library/Frameworks/R.framework/.. -framework R -Wl,-framework -Wl,CoreFoundation
installing to /Library/Frameworks/R.framework/Versions/4.3-arm64/Resources/library/00LOCK-mitoClone2/00new/mitoClone2/libs
** R
** data
** inst
** byte-compile and prepare package for lazy loading
** help
*** installing help indices
*** copying figures
** building package indices
** installing vignettes
** testing if installed package can be loaded from temporary location
** checking absolute paths in shared objects and dynamic libraries
** testing if installed package can be loaded from final location
** testing if installed package keeps a record of temporary installation path
* DONE (mitoClone2)