| Back to Mac ARM64 build report for BioC 3.18 |
|
This page was generated on 2024-04-18 11:32:13 -0400 (Thu, 18 Apr 2024).
| Hostname | OS | Arch (*) | R version | Installed pkgs |
|---|---|---|---|---|
| kjohnson1 | macOS 13.6.1 Ventura | arm64 | 4.3.3 (2024-02-29) -- "Angel Food Cake" | 4388 |
| Click on any hostname to see more info about the system (e.g. compilers) (*) as reported by 'uname -p', except on Windows and Mac OS X | ||||
| Package 1282/2266 | Hostname | OS / Arch | INSTALL | BUILD | CHECK | BUILD BIN | ||||||||
| mitch 1.14.0 (landing page) Mark Ziemann
| kjohnson1 | macOS 13.6.1 Ventura / arm64 | OK | OK | OK | OK | ||||||||
|
To the developers/maintainers of the mitch package: - Use the following Renviron settings to reproduce errors and warnings. - If 'R CMD check' started to fail recently on the Linux builder(s) over a missing dependency, add the missing dependency to 'Suggests:' in your DESCRIPTION file. See Renviron.bioc for more information. |
| Package: mitch |
| Version: 1.14.0 |
| Command: /Library/Frameworks/R.framework/Resources/bin/R CMD check --install=check:mitch.install-out.txt --library=/Library/Frameworks/R.framework/Resources/library --no-vignettes --timings mitch_1.14.0.tar.gz |
| StartedAt: 2024-04-17 19:48:59 -0400 (Wed, 17 Apr 2024) |
| EndedAt: 2024-04-17 19:52:55 -0400 (Wed, 17 Apr 2024) |
| EllapsedTime: 236.2 seconds |
| RetCode: 0 |
| Status: OK |
| CheckDir: mitch.Rcheck |
| Warnings: 0 |
##############################################################################
##############################################################################
###
### Running command:
###
### /Library/Frameworks/R.framework/Resources/bin/R CMD check --install=check:mitch.install-out.txt --library=/Library/Frameworks/R.framework/Resources/library --no-vignettes --timings mitch_1.14.0.tar.gz
###
##############################################################################
##############################################################################
* using log directory ‘/Users/biocbuild/bbs-3.18-bioc-mac-arm64/meat/mitch.Rcheck’
* using R version 4.3.3 (2024-02-29)
* using platform: aarch64-apple-darwin20 (64-bit)
* R was compiled by
Apple clang version 14.0.0 (clang-1400.0.29.202)
GNU Fortran (GCC) 12.2.0
* running under: macOS Ventura 13.6.1
* using session charset: UTF-8
* using option ‘--no-vignettes’
* checking for file ‘mitch/DESCRIPTION’ ... OK
* this is package ‘mitch’ version ‘1.14.0’
* package encoding: UTF-8
* checking package namespace information ... OK
* checking package dependencies ... OK
* checking if this is a source package ... OK
* checking if there is a namespace ... OK
* checking for hidden files and directories ... OK
* checking for portable file names ... OK
* checking for sufficient/correct file permissions ... OK
* checking whether package ‘mitch’ can be installed ... OK
* checking installed package size ... OK
* checking package directory ... OK
* checking ‘build’ directory ... OK
* checking DESCRIPTION meta-information ... OK
* checking top-level files ... OK
* checking for left-over files ... OK
* checking index information ... OK
* checking package subdirectories ... OK
* checking R files for non-ASCII characters ... OK
* checking R files for syntax errors ... OK
* checking whether the package can be loaded ... OK
* checking whether the package can be loaded with stated dependencies ... OK
* checking whether the package can be unloaded cleanly ... OK
* checking whether the namespace can be loaded with stated dependencies ... OK
* checking whether the namespace can be unloaded cleanly ... OK
* checking dependencies in R code ... OK
* checking S3 generic/method consistency ... OK
* checking replacement functions ... OK
* checking foreign function calls ... OK
* checking R code for possible problems ... OK
* checking Rd files ... OK
* checking Rd metadata ... OK
* checking Rd cross-references ... OK
* checking for missing documentation entries ... OK
* checking for code/documentation mismatches ... OK
* checking Rd \usage sections ... OK
* checking Rd contents ... OK
* checking for unstated dependencies in examples ... OK
* checking contents of ‘data’ directory ... OK
* checking data for non-ASCII characters ... OK
* checking data for ASCII and uncompressed saves ... OK
* checking files in ‘vignettes’ ... OK
* checking examples ... OK
Examples with CPU (user + system) or elapsed time > 5s
user system elapsed
mitch 51.932 1.323 53.669
mitch_report 29.553 0.820 30.683
mitch_plots 20.829 0.417 21.294
* checking for unstated dependencies in ‘tests’ ... OK
* checking tests ...
Running ‘test-mitch.R’
OK
* checking for unstated dependencies in vignettes ... OK
* checking package vignettes in ‘inst/doc’ ... OK
* checking running R code from vignettes ... SKIPPED
* checking re-building of vignette outputs ... SKIPPED
* checking PDF version of manual ... OK
* DONE
Status: OK
mitch.Rcheck/00install.out
############################################################################## ############################################################################## ### ### Running command: ### ### /Library/Frameworks/R.framework/Resources/bin/R CMD INSTALL mitch ### ############################################################################## ############################################################################## * installing to library ‘/Library/Frameworks/R.framework/Versions/4.3-arm64/Resources/library’ * installing *source* package ‘mitch’ ... ** using staged installation ** R ** data ** inst ** byte-compile and prepare package for lazy loading ** help *** installing help indices ** building package indices ** installing vignettes ** testing if installed package can be loaded from temporary location ** testing if installed package can be loaded from final location ** testing if installed package keeps a record of temporary installation path * DONE (mitch)
mitch.Rcheck/tests/test-mitch.Rout
R version 4.3.3 (2024-02-29) -- "Angel Food Cake"
Copyright (C) 2024 The R Foundation for Statistical Computing
Platform: aarch64-apple-darwin20 (64-bit)
R is free software and comes with ABSOLUTELY NO WARRANTY.
You are welcome to redistribute it under certain conditions.
Type 'license()' or 'licence()' for distribution details.
R is a collaborative project with many contributors.
Type 'contributors()' for more information and
'citation()' on how to cite R or R packages in publications.
Type 'demo()' for some demos, 'help()' for on-line help, or
'help.start()' for an HTML browser interface to help.
Type 'q()' to quit R.
> library("mitch")
> library("testthat")
>
> test_that("multiplication works", {
+ expect_equal(2 * 2, 4)
+ })
Test passed 🥳
>
> # 1d
> data(rna,genesetsExample)
> y<-mitch_import(rna,DEtype="edgeR")
The input is a single dataframe; one contrast only. Converting
it to a list for you.
Note: Mean no. genes in input = 1000
Note: no. genes in output = 1000
Note: estimated proportion of input genes in output = 1
> res<-mitch_calc(y,genesetsExample,cores=2)
Note: When prioritising by significance (ie: small
p-values), large effect sizes might be missed.
> mitch_plots(res,outfile="1d.pdf")
null device
1
> if (file.exists("1d.html")) { unlink("1d.html") }
> mitch_report(res,"1d.html")
Dataset saved as " /tmp/RtmpR0aeIy/1d.rds ".
processing file: mitch.Rmd
2024-04-17 19:51:36.072 R[77249:453524319] XType: Using static font registry.
output file: /Users/biocbuild/bbs-3.18-bioc-mac-arm64/meat/mitch.Rcheck/tests/mitch.knit.md
/opt/homebrew/bin/pandoc +RTS -K512m -RTS /Users/biocbuild/bbs-3.18-bioc-mac-arm64/meat/mitch.Rcheck/tests/mitch.knit.md --to html4 --from markdown+autolink_bare_uris+tex_math_single_backslash --output /tmp/RtmpR0aeIy/mitch_report.html --lua-filter /Library/Frameworks/R.framework/Versions/4.3-arm64/Resources/library/rmarkdown/rmarkdown/lua/pagebreak.lua --lua-filter /Library/Frameworks/R.framework/Versions/4.3-arm64/Resources/library/rmarkdown/rmarkdown/lua/latex-div.lua --embed-resources --standalone --variable bs3=TRUE --section-divs --template /Library/Frameworks/R.framework/Versions/4.3-arm64/Resources/library/rmarkdown/rmd/h/default.html --no-highlight --variable highlightjs=1 --variable theme=bootstrap --mathjax --variable 'mathjax-url=https://mathjax.rstudio.com/latest/MathJax.js?config=TeX-AMS-MML_HTMLorMML' --include-in-header /tmp/RtmpR0aeIy/rmarkdown-str12dc15d82d299.html
Output created: /tmp/RtmpR0aeIy/mitch_report.html
[1] TRUE
>
> test_that("1d works", {
+ expect_equal( length(which(res$enrichment_result$p.adjustANOVA<0.1)) ,1)
+ expect_true(file.info("1d.pdf")$size>10000)
+ expect_true(file.info("1d.html")$size>1000000)
+ })
Test passed 😸
>
> unlink("1d.html")
> unlink("1d.pdf")
>
>
> # 1d part 2 to make sure that saving files at a different location works
> MYPATH=paste(getwd(),"/1d.html",sep="")
> if (file.exists("1d.html")) { unlink("1d.html") }
> mitch_report(res,MYPATH)
Dataset saved as " /tmp/RtmpR0aeIy/1d.rds ".
processing file: mitch.Rmd
output file: /Users/biocbuild/bbs-3.18-bioc-mac-arm64/meat/mitch.Rcheck/tests/mitch.knit.md
/opt/homebrew/bin/pandoc +RTS -K512m -RTS /Users/biocbuild/bbs-3.18-bioc-mac-arm64/meat/mitch.Rcheck/tests/mitch.knit.md --to html4 --from markdown+autolink_bare_uris+tex_math_single_backslash --output /tmp/RtmpR0aeIy/mitch_report.html --lua-filter /Library/Frameworks/R.framework/Versions/4.3-arm64/Resources/library/rmarkdown/rmarkdown/lua/pagebreak.lua --lua-filter /Library/Frameworks/R.framework/Versions/4.3-arm64/Resources/library/rmarkdown/rmarkdown/lua/latex-div.lua --embed-resources --standalone --variable bs3=TRUE --section-divs --template /Library/Frameworks/R.framework/Versions/4.3-arm64/Resources/library/rmarkdown/rmd/h/default.html --no-highlight --variable highlightjs=1 --variable theme=bootstrap --mathjax --variable 'mathjax-url=https://mathjax.rstudio.com/latest/MathJax.js?config=TeX-AMS-MML_HTMLorMML' --include-in-header /tmp/RtmpR0aeIy/rmarkdown-str12dc11010a3b9.html
Output created: /tmp/RtmpR0aeIy/mitch_report.html
[1] TRUE
>
> test_that("1d works", {
+ expect_true(file.info("1d.html")$size>1000000)
+ })
Test passed 🥳
>
> unlink("1d.html")
>
>
>
> # 2d
> data(rna,k9a,genesetsExample)
> x<-list("rna"=rna,"k9a"=k9a)
> y<-mitch_import(x,DEtype="edgeR")
Note: Mean no. genes in input = 1000
Note: no. genes in output = 1000
Note: estimated proportion of input genes in output = 1
> res<-mitch_calc(y,genesetsExample,cores=2)
Note: When prioritising by significance (ie: small
p-values), large effect sizes might be missed.
> mitch_plots(res,outfile="2d.pdf")
null device
1
> if (file.exists("2d.html")) { unlink("2d.html") }
> mitch_report(res,"2d.html")
Dataset saved as " /tmp/RtmpR0aeIy/2d.rds ".
processing file: mitch.Rmd
output file: /Users/biocbuild/bbs-3.18-bioc-mac-arm64/meat/mitch.Rcheck/tests/mitch.knit.md
/opt/homebrew/bin/pandoc +RTS -K512m -RTS /Users/biocbuild/bbs-3.18-bioc-mac-arm64/meat/mitch.Rcheck/tests/mitch.knit.md --to html4 --from markdown+autolink_bare_uris+tex_math_single_backslash --output /tmp/RtmpR0aeIy/mitch_report.html --lua-filter /Library/Frameworks/R.framework/Versions/4.3-arm64/Resources/library/rmarkdown/rmarkdown/lua/pagebreak.lua --lua-filter /Library/Frameworks/R.framework/Versions/4.3-arm64/Resources/library/rmarkdown/rmarkdown/lua/latex-div.lua --embed-resources --standalone --variable bs3=TRUE --section-divs --template /Library/Frameworks/R.framework/Versions/4.3-arm64/Resources/library/rmarkdown/rmd/h/default.html --no-highlight --variable highlightjs=1 --variable theme=bootstrap --mathjax --variable 'mathjax-url=https://mathjax.rstudio.com/latest/MathJax.js?config=TeX-AMS-MML_HTMLorMML' --include-in-header /tmp/RtmpR0aeIy/rmarkdown-str12dc1779190ce.html
Output created: /tmp/RtmpR0aeIy/mitch_report.html
[1] TRUE
>
> test_that("2d works", {
+ expect_equal( length(which(res$enrichment_result$p.adjustMANOVA<0.1)) ,1)
+ expect_true(file.info("2d.pdf")$size>100000)
+ expect_true(file.info("2d.html")$size>1000000)
+ })
Test passed 😀
>
> unlink("2d.html")
> unlink("2d.pdf")
>
> # 3d
> data(rna,k9a,k36a,genesetsExample)
> x<-list("rna"=rna,"k9a"=k9a,"k36a"=k36a)
> y<-mitch_import(x,DEtype="edgeR")
Note: Mean no. genes in input = 1000
Note: no. genes in output = 1000
Note: estimated proportion of input genes in output = 1
> res<-mitch_calc(y,genesetsExample,cores=2)
Note: When prioritising by significance (ie: small
p-values), large effect sizes might be missed.
> mitch_plots(res,outfile="3d.pdf")
null device
1
There were 16 warnings (use warnings() to see them)
> if (file.exists("3d.html")) { unlink("3d.html") }
> mitch_report(res,"3d.html")
Dataset saved as " /tmp/RtmpR0aeIy/3d.rds ".
processing file: mitch.Rmd
output file: /Users/biocbuild/bbs-3.18-bioc-mac-arm64/meat/mitch.Rcheck/tests/mitch.knit.md
/opt/homebrew/bin/pandoc +RTS -K512m -RTS /Users/biocbuild/bbs-3.18-bioc-mac-arm64/meat/mitch.Rcheck/tests/mitch.knit.md --to html4 --from markdown+autolink_bare_uris+tex_math_single_backslash --output /tmp/RtmpR0aeIy/mitch_report.html --lua-filter /Library/Frameworks/R.framework/Versions/4.3-arm64/Resources/library/rmarkdown/rmarkdown/lua/pagebreak.lua --lua-filter /Library/Frameworks/R.framework/Versions/4.3-arm64/Resources/library/rmarkdown/rmarkdown/lua/latex-div.lua --embed-resources --standalone --variable bs3=TRUE --section-divs --template /Library/Frameworks/R.framework/Versions/4.3-arm64/Resources/library/rmarkdown/rmd/h/default.html --no-highlight --variable highlightjs=1 --variable theme=bootstrap --mathjax --variable 'mathjax-url=https://mathjax.rstudio.com/latest/MathJax.js?config=TeX-AMS-MML_HTMLorMML' --include-in-header /tmp/RtmpR0aeIy/rmarkdown-str12dc1d5f4e49.html
Output created: /tmp/RtmpR0aeIy/mitch_report.html
[1] TRUE
>
> test_that("3d works", {
+ expect_equal( length(which(res$enrichment_result$p.adjustMANOVA<0.1)) ,1)
+ expect_true(file.info("3d.pdf")$size>100000)
+ expect_true(file.info("3d.html")$size>1000000)
+ })
Test passed 🎊
>
> unlink("3d.html")
> unlink("3d.pdf")
>
>
>
> proc.time()
user system elapsed
69.200 3.465 74.836
mitch.Rcheck/mitch-Ex.timings
| name | user | system | elapsed | |
| genesetsExample | 0.011 | 0.003 | 0.014 | |
| gmt_import | 0.014 | 0.002 | 0.015 | |
| k36a | 0.006 | 0.002 | 0.008 | |
| k9a | 0.006 | 0.002 | 0.007 | |
| mitch | 51.932 | 1.323 | 53.669 | |
| mitch_calc | 0.229 | 0.172 | 0.281 | |
| mitch_import | 0.027 | 0.004 | 0.031 | |
| mitch_plots | 20.829 | 0.417 | 21.294 | |
| mitch_report | 29.553 | 0.820 | 30.683 | |
| myImportedData | 0.006 | 0.001 | 0.008 | |
| myList | 0.014 | 0.002 | 0.018 | |
| resExample | 0.018 | 0.002 | 0.020 | |
| rna | 0.007 | 0.002 | 0.009 | |