| Back to Mac ARM64 build report for BioC 3.18 | 
 | 
This page was generated on 2024-04-18 11:32:13 -0400 (Thu, 18 Apr 2024).
| Hostname | OS | Arch (*) | R version | Installed pkgs | 
|---|---|---|---|---|
| kjohnson1 | macOS 13.6.1 Ventura | arm64 | 4.3.3 (2024-02-29) -- "Angel Food Cake" | 4388 | 
| Click on any hostname to see more info about the system (e.g. compilers) (*) as reported by 'uname -p', except on Windows and Mac OS X | ||||
| Package 1243/2266 | Hostname | OS / Arch | INSTALL | BUILD | CHECK | BUILD BIN | ||||||||
| mia 1.10.0  (landing page) Tuomas Borman 
 | kjohnson1 | macOS 13.6.1 Ventura / arm64 | OK | OK | OK | OK |  | |||||||
| To the developers/maintainers of the mia package: - Use the following Renviron settings to reproduce errors and warnings. - If 'R CMD check' started to fail recently on the Linux builder(s) over a missing dependency, add the missing dependency to 'Suggests:' in your DESCRIPTION file. See Renviron.bioc for more information. | 
| Package: mia | 
| Version: 1.10.0 | 
| Command: /Library/Frameworks/R.framework/Resources/bin/R CMD check --install=check:mia.install-out.txt --library=/Library/Frameworks/R.framework/Resources/library --no-vignettes --timings mia_1.10.0.tar.gz | 
| StartedAt: 2024-04-17 19:20:18 -0400 (Wed, 17 Apr 2024) | 
| EndedAt: 2024-04-17 19:45:22 -0400 (Wed, 17 Apr 2024) | 
| EllapsedTime: 1503.3 seconds | 
| RetCode: 0 | 
| Status: OK | 
| CheckDir: mia.Rcheck | 
| Warnings: 0 | 
##############################################################################
##############################################################################
###
### Running command:
###
###   /Library/Frameworks/R.framework/Resources/bin/R CMD check --install=check:mia.install-out.txt --library=/Library/Frameworks/R.framework/Resources/library --no-vignettes --timings mia_1.10.0.tar.gz
###
##############################################################################
##############################################################################
* using log directory ‘/Users/biocbuild/bbs-3.18-bioc-mac-arm64/meat/mia.Rcheck’
* using R version 4.3.3 (2024-02-29)
* using platform: aarch64-apple-darwin20 (64-bit)
* R was compiled by
    Apple clang version 14.0.0 (clang-1400.0.29.202)
    GNU Fortran (GCC) 12.2.0
* running under: macOS Ventura 13.6.1
* using session charset: UTF-8
* using option ‘--no-vignettes’
* checking for file ‘mia/DESCRIPTION’ ... OK
* checking extension type ... Package
* this is package ‘mia’ version ‘1.10.0’
* package encoding: UTF-8
* checking package namespace information ... OK
* checking package dependencies ... OK
* checking if this is a source package ... OK
* checking if there is a namespace ... OK
* checking for hidden files and directories ... OK
* checking for portable file names ... OK
* checking for sufficient/correct file permissions ... OK
* checking whether package ‘mia’ can be installed ... OK
* checking installed package size ... OK
* checking package directory ... OK
* checking ‘build’ directory ... OK
* checking DESCRIPTION meta-information ... OK
* checking top-level files ... OK
* checking for left-over files ... OK
* checking index information ... OK
* checking package subdirectories ... OK
* checking R files for non-ASCII characters ... OK
* checking R files for syntax errors ... OK
* checking whether the package can be loaded ... OK
* checking whether the package can be loaded with stated dependencies ... OK
* checking whether the package can be unloaded cleanly ... OK
* checking whether the namespace can be loaded with stated dependencies ... OK
* checking whether the namespace can be unloaded cleanly ... OK
* checking dependencies in R code ... OK
* checking S3 generic/method consistency ... OK
* checking replacement functions ... OK
* checking foreign function calls ... OK
* checking R code for possible problems ... OK
* checking Rd files ... OK
* checking Rd metadata ... OK
* checking Rd cross-references ... NOTE
Unknown package ‘https’ in Rd xrefs
* checking for missing documentation entries ... OK
* checking for code/documentation mismatches ... OK
* checking Rd \usage sections ... OK
* checking Rd contents ... OK
* checking for unstated dependencies in examples ... OK
* checking contents of ‘data’ directory ... OK
* checking data for non-ASCII characters ... NOTE
  Note: found 101 marked UTF-8 strings
* checking data for ASCII and uncompressed saves ... OK
* checking files in ‘vignettes’ ... OK
* checking examples ... OK
Examples with CPU (user + system) or elapsed time > 5s
                       user system elapsed
splitOn             142.028  8.280 159.626
runCCA               86.638  0.368  88.732
calculateDMN         73.669  0.131  74.241
taxonomy-methods     17.456  0.922  19.578
estimateDiversity    13.816  1.992  15.824
agglomerate-methods  13.081  0.316  13.574
makeTreeSEFromDADA2   8.963  0.372   9.461
splitByRanks          8.576  0.115   8.738
getPrevalence         7.974  0.121   8.124
mergeSEs              7.026  0.111   7.143
calculateJSD          5.624  1.010   6.676
* checking for unstated dependencies in ‘tests’ ... OK
* checking tests ...
  Running ‘testthat.R’
 OK
* checking for unstated dependencies in vignettes ... OK
* checking package vignettes in ‘inst/doc’ ... OK
* checking running R code from vignettes ... SKIPPED
* checking re-building of vignette outputs ... SKIPPED
* checking PDF version of manual ... OK
* DONE
Status: 2 NOTEs
See
  ‘/Users/biocbuild/bbs-3.18-bioc-mac-arm64/meat/mia.Rcheck/00check.log’
for details.
mia.Rcheck/00install.out
############################################################################## ############################################################################## ### ### Running command: ### ### /Library/Frameworks/R.framework/Resources/bin/R CMD INSTALL mia ### ############################################################################## ############################################################################## * installing to library ‘/Library/Frameworks/R.framework/Versions/4.3-arm64/Resources/library’ * installing *source* package ‘mia’ ... ** using staged installation ** R ** data ** inst ** byte-compile and prepare package for lazy loading ** help *** installing help indices *** copying figures ** building package indices ** installing vignettes ** testing if installed package can be loaded from temporary location ** testing if installed package can be loaded from final location ** testing if installed package keeps a record of temporary installation path * DONE (mia)
mia.Rcheck/tests/testthat.Rout
R version 4.3.3 (2024-02-29) -- "Angel Food Cake"
Copyright (C) 2024 The R Foundation for Statistical Computing
Platform: aarch64-apple-darwin20 (64-bit)
R is free software and comes with ABSOLUTELY NO WARRANTY.
You are welcome to redistribute it under certain conditions.
Type 'license()' or 'licence()' for distribution details.
R is a collaborative project with many contributors.
Type 'contributors()' for more information and
'citation()' on how to cite R or R packages in publications.
Type 'demo()' for some demos, 'help()' for on-line help, or
'help.start()' for an HTML browser interface to help.
Type 'q()' to quit R.
> library(testthat)
> library(mia)
Loading required package: SummarizedExperiment
Loading required package: MatrixGenerics
Loading required package: matrixStats
Attaching package: 'MatrixGenerics'
The following objects are masked from 'package:matrixStats':
    colAlls, colAnyNAs, colAnys, colAvgsPerRowSet, colCollapse,
    colCounts, colCummaxs, colCummins, colCumprods, colCumsums,
    colDiffs, colIQRDiffs, colIQRs, colLogSumExps, colMadDiffs,
    colMads, colMaxs, colMeans2, colMedians, colMins, colOrderStats,
    colProds, colQuantiles, colRanges, colRanks, colSdDiffs, colSds,
    colSums2, colTabulates, colVarDiffs, colVars, colWeightedMads,
    colWeightedMeans, colWeightedMedians, colWeightedSds,
    colWeightedVars, rowAlls, rowAnyNAs, rowAnys, rowAvgsPerColSet,
    rowCollapse, rowCounts, rowCummaxs, rowCummins, rowCumprods,
    rowCumsums, rowDiffs, rowIQRDiffs, rowIQRs, rowLogSumExps,
    rowMadDiffs, rowMads, rowMaxs, rowMeans2, rowMedians, rowMins,
    rowOrderStats, rowProds, rowQuantiles, rowRanges, rowRanks,
    rowSdDiffs, rowSds, rowSums2, rowTabulates, rowVarDiffs, rowVars,
    rowWeightedMads, rowWeightedMeans, rowWeightedMedians,
    rowWeightedSds, rowWeightedVars
Loading required package: GenomicRanges
Loading required package: stats4
Loading required package: BiocGenerics
Attaching package: 'BiocGenerics'
The following objects are masked from 'package:stats':
    IQR, mad, sd, var, xtabs
The following objects are masked from 'package:base':
    Filter, Find, Map, Position, Reduce, anyDuplicated, aperm, append,
    as.data.frame, basename, cbind, colnames, dirname, do.call,
    duplicated, eval, evalq, get, grep, grepl, intersect, is.unsorted,
    lapply, mapply, match, mget, order, paste, pmax, pmax.int, pmin,
    pmin.int, rank, rbind, rownames, sapply, setdiff, sort, table,
    tapply, union, unique, unsplit, which.max, which.min
Loading required package: S4Vectors
Attaching package: 'S4Vectors'
The following object is masked from 'package:utils':
    findMatches
The following objects are masked from 'package:base':
    I, expand.grid, unname
Loading required package: IRanges
Loading required package: GenomeInfoDb
Loading required package: Biobase
Welcome to Bioconductor
    Vignettes contain introductory material; view with
    'browseVignettes()'. To cite Bioconductor, see
    'citation("Biobase")', and for packages 'citation("pkgname")'.
Attaching package: 'Biobase'
The following object is masked from 'package:MatrixGenerics':
    rowMedians
The following objects are masked from 'package:matrixStats':
    anyMissing, rowMedians
Loading required package: SingleCellExperiment
Loading required package: TreeSummarizedExperiment
Loading required package: Biostrings
Loading required package: XVector
Attaching package: 'Biostrings'
The following object is masked from 'package:base':
    strsplit
Loading required package: MultiAssayExperiment
> 
> test_check("mia")
================================================================================
Time difference of 11.5 secs
Initializing error rates to maximum possible estimate.
selfConsist step 1 .
   selfConsist step 2
   selfConsist step 3
   selfConsist step 4
Convergence after  4  rounds.
Initializing error rates to maximum possible estimate.
selfConsist step 1 .
   selfConsist step 2
   selfConsist step 3
   selfConsist step 4
Convergence after  4  rounds.
initial  value 0.383462 
iter   5 value 0.161655
iter  10 value 0.113278
final  value 0.003270 
converged
initial  value 0.000000 
final  value 0.000000 
converged
initial  value 0.000000 
final  value 0.000000 
converged
initial  value 0.000000 
final  value 0.000000 
converged
[ FAIL 0 | WARN 63 | SKIP 2 | PASS 943 ]
══ Skipped tests (2) ═══════════════════════════════════════════════════════════
• require("miaTime", quietly = TRUE) is not TRUE (2): 'test-2mergeSEs.R:403:5',
  'test-3agglomerate.R:90:5'
[ FAIL 0 | WARN 63 | SKIP 2 | PASS 943 ]
> 
> proc.time()
   user  system elapsed 
620.869  87.069 719.788 
mia.Rcheck/mia-Ex.timings
| name | user | system | elapsed | |
| agglomerate-methods | 13.081 | 0.316 | 13.574 | |
| calculateDMN | 73.669 | 0.131 | 74.241 | |
| calculateJSD | 5.624 | 1.010 | 6.676 | |
| calculateOverlap | 0.164 | 0.008 | 0.173 | |
| calculateUnifrac | 0.422 | 0.012 | 0.435 | |
| cluster | 0.774 | 0.012 | 0.786 | |
| estimateDivergence | 1.700 | 0.070 | 1.769 | |
| estimateDiversity | 13.816 | 1.992 | 15.824 | |
| estimateDominance | 0.330 | 0.021 | 0.351 | |
| estimateEvenness | 0.100 | 0.012 | 0.114 | |
| estimateRichness | 0.433 | 0.021 | 0.455 | |
| getExperimentCrossAssociation | 4.076 | 0.062 | 4.140 | |
| getPrevalence | 7.974 | 0.121 | 8.124 | |
| isContaminant | 0.375 | 0.016 | 0.415 | |
| loadFromHumann | 0.315 | 0.004 | 0.319 | |
| loadFromMetaphlan | 3.448 | 0.024 | 3.472 | |
| loadFromMothur | 0.271 | 0.006 | 0.278 | |
| loadFromQIIME2 | 1.183 | 0.145 | 1.346 | |
| makePhyloseqFromTreeSE | 2.565 | 0.131 | 2.702 | |
| makeTreeSEFromBiom | 0.791 | 0.009 | 0.802 | |
| makeTreeSEFromDADA2 | 8.963 | 0.372 | 9.461 | |
| makeTreeSEFromPhyloseq | 1.612 | 0.055 | 1.678 | |
| meltAssay | 1.158 | 0.071 | 1.242 | |
| merge-methods | 3.222 | 0.087 | 3.312 | |
| mergeSEs | 7.026 | 0.111 | 7.143 | |
| mia-datasets | 0.725 | 0.008 | 0.733 | |
| perSampleDominantTaxa | 2.691 | 0.042 | 2.734 | |
| relabundance | 0.702 | 0.017 | 0.719 | |
| runCCA | 86.638 | 0.368 | 88.732 | |
| runDPCoA | 0.487 | 0.018 | 0.520 | |
| runNMDS | 0.392 | 0.013 | 0.413 | |
| splitByRanks | 8.576 | 0.115 | 8.738 | |
| splitOn | 142.028 | 8.280 | 159.626 | |
| subsampleCounts | 2.014 | 0.060 | 2.148 | |
| subsetSamples | 1.304 | 0.028 | 1.380 | |
| summaries | 4.193 | 0.044 | 4.403 | |
| taxonomy-methods | 17.456 | 0.922 | 19.578 | |
| transformAssay | 0.233 | 0.013 | 0.248 | |