| Back to Mac ARM64 build report for BioC 3.18 |
|
This page was generated on 2024-04-18 11:32:12 -0400 (Thu, 18 Apr 2024).
| Hostname | OS | Arch (*) | R version | Installed pkgs |
|---|---|---|---|---|
| kjohnson1 | macOS 13.6.1 Ventura | arm64 | 4.3.3 (2024-02-29) -- "Angel Food Cake" | 4388 |
| Click on any hostname to see more info about the system (e.g. compilers) (*) as reported by 'uname -p', except on Windows and Mac OS X | ||||
| Package 1012/2266 | Hostname | OS / Arch | INSTALL | BUILD | CHECK | BUILD BIN | ||||||||
| imcRtools 1.8.0 (landing page) Nils Eling
| kjohnson1 | macOS 13.6.1 Ventura / arm64 | OK | OK | ERROR | OK | ||||||||
|
To the developers/maintainers of the imcRtools package: - Use the following Renviron settings to reproduce errors and warnings. - If 'R CMD check' started to fail recently on the Linux builder(s) over a missing dependency, add the missing dependency to 'Suggests:' in your DESCRIPTION file. See Renviron.bioc for more information. |
| Package: imcRtools |
| Version: 1.8.0 |
| Command: /Library/Frameworks/R.framework/Resources/bin/R CMD check --install=check:imcRtools.install-out.txt --library=/Library/Frameworks/R.framework/Resources/library --no-vignettes --timings imcRtools_1.8.0.tar.gz |
| StartedAt: 2024-04-17 16:49:10 -0400 (Wed, 17 Apr 2024) |
| EndedAt: 2024-04-17 17:11:05 -0400 (Wed, 17 Apr 2024) |
| EllapsedTime: 1315.2 seconds |
| RetCode: 1 |
| Status: ERROR |
| CheckDir: imcRtools.Rcheck |
| Warnings: NA |
##############################################################################
##############################################################################
###
### Running command:
###
### /Library/Frameworks/R.framework/Resources/bin/R CMD check --install=check:imcRtools.install-out.txt --library=/Library/Frameworks/R.framework/Resources/library --no-vignettes --timings imcRtools_1.8.0.tar.gz
###
##############################################################################
##############################################################################
* using log directory ‘/Users/biocbuild/bbs-3.18-bioc-mac-arm64/meat/imcRtools.Rcheck’
* using R version 4.3.3 (2024-02-29)
* using platform: aarch64-apple-darwin20 (64-bit)
* R was compiled by
Apple clang version 14.0.0 (clang-1400.0.29.202)
GNU Fortran (GCC) 12.2.0
* running under: macOS Ventura 13.6.1
* using session charset: UTF-8
* using option ‘--no-vignettes’
* checking for file ‘imcRtools/DESCRIPTION’ ... OK
* this is package ‘imcRtools’ version ‘1.8.0’
* package encoding: UTF-8
* checking package namespace information ... OK
* checking package dependencies ... OK
* checking if this is a source package ... OK
* checking if there is a namespace ... OK
* checking for hidden files and directories ... OK
* checking for portable file names ... OK
* checking for sufficient/correct file permissions ... OK
* checking whether package ‘imcRtools’ can be installed ... OK
* checking installed package size ... OK
* checking package directory ... OK
* checking ‘build’ directory ... OK
* checking DESCRIPTION meta-information ... OK
* checking top-level files ... OK
* checking for left-over files ... OK
* checking index information ... OK
* checking package subdirectories ... OK
* checking R files for non-ASCII characters ... OK
* checking R files for syntax errors ... OK
* checking whether the package can be loaded ... OK
* checking whether the package can be loaded with stated dependencies ... OK
* checking whether the package can be unloaded cleanly ... OK
* checking whether the namespace can be loaded with stated dependencies ... OK
* checking whether the namespace can be unloaded cleanly ... OK
* checking dependencies in R code ... OK
* checking S3 generic/method consistency ... OK
* checking replacement functions ... OK
* checking foreign function calls ... OK
* checking R code for possible problems ... OK
* checking Rd files ... OK
* checking Rd metadata ... OK
* checking Rd cross-references ... OK
* checking for missing documentation entries ... OK
* checking for code/documentation mismatches ... OK
* checking Rd \usage sections ... OK
* checking Rd contents ... OK
* checking for unstated dependencies in examples ... OK
* checking files in ‘vignettes’ ... OK
* checking examples ... OK
Examples with CPU (user + system) or elapsed time > 5s
user system elapsed
testInteractions 151.121 1.761 153.340
read_steinbock 27.244 4.813 25.908
buildSpatialGraph 11.681 0.474 12.073
plotSpatial 6.318 0.145 6.477
plotSpatialContext 4.902 0.094 5.042
* checking for unstated dependencies in ‘tests’ ... OK
* checking tests ...
Running ‘testthat.R’
ERROR
Running the tests in ‘tests/testthat.R’ failed.
Last 13 lines of output:
`actual`: FALSE
`expected`: TRUE
── Failure ('test_countInteractions.R:396:5'): countInteractions function works ──
all(cur_out$ct[!is.na(cur_out$ct)] == 1) is not TRUE
`actual`: FALSE
`expected`: TRUE
── Failure ('test_integration_interactions.R:351:5'): testInteractions gives same results as neighbouRhood ──
dat_p$p_gt[!is.na(imcRtools_classic$ct)] not equal to imcRtools_classic_perm$p_gt[!is.na(imcRtools_classic$ct)].
1/22 mismatches
[8] 0.881 - 0.901 == -0.0198
[ FAIL 5 | WARN 3 | SKIP 0 | PASS 2216 ]
Error: Test failures
Execution halted
* checking for unstated dependencies in vignettes ... OK
* checking package vignettes in ‘inst/doc’ ... OK
* checking running R code from vignettes ... SKIPPED
* checking re-building of vignette outputs ... SKIPPED
* checking PDF version of manual ... OK
* DONE
Status: 1 ERROR
See
‘/Users/biocbuild/bbs-3.18-bioc-mac-arm64/meat/imcRtools.Rcheck/00check.log’
for details.
imcRtools.Rcheck/00install.out
############################################################################## ############################################################################## ### ### Running command: ### ### /Library/Frameworks/R.framework/Resources/bin/R CMD INSTALL imcRtools ### ############################################################################## ############################################################################## * installing to library ‘/Library/Frameworks/R.framework/Versions/4.3-arm64/Resources/library’ * installing *source* package ‘imcRtools’ ... ** using staged installation ** R ** inst ** byte-compile and prepare package for lazy loading ** help *** installing help indices ** building package indices ** installing vignettes ** testing if installed package can be loaded from temporary location ** testing if installed package can be loaded from final location ** testing if installed package keeps a record of temporary installation path * DONE (imcRtools)
imcRtools.Rcheck/tests/testthat.Rout.fail
R version 4.3.3 (2024-02-29) -- "Angel Food Cake"
Copyright (C) 2024 The R Foundation for Statistical Computing
Platform: aarch64-apple-darwin20 (64-bit)
R is free software and comes with ABSOLUTELY NO WARRANTY.
You are welcome to redistribute it under certain conditions.
Type 'license()' or 'licence()' for distribution details.
R is a collaborative project with many contributors.
Type 'contributors()' for more information and
'citation()' on how to cite R or R packages in publications.
Type 'demo()' for some demos, 'help()' for on-line help, or
'help.start()' for an HTML browser interface to help.
Type 'q()' to quit R.
> library(testthat)
> library(imcRtools)
Loading required package: SpatialExperiment
Loading required package: SingleCellExperiment
Loading required package: SummarizedExperiment
Loading required package: MatrixGenerics
Loading required package: matrixStats
Attaching package: 'MatrixGenerics'
The following objects are masked from 'package:matrixStats':
colAlls, colAnyNAs, colAnys, colAvgsPerRowSet, colCollapse,
colCounts, colCummaxs, colCummins, colCumprods, colCumsums,
colDiffs, colIQRDiffs, colIQRs, colLogSumExps, colMadDiffs,
colMads, colMaxs, colMeans2, colMedians, colMins, colOrderStats,
colProds, colQuantiles, colRanges, colRanks, colSdDiffs, colSds,
colSums2, colTabulates, colVarDiffs, colVars, colWeightedMads,
colWeightedMeans, colWeightedMedians, colWeightedSds,
colWeightedVars, rowAlls, rowAnyNAs, rowAnys, rowAvgsPerColSet,
rowCollapse, rowCounts, rowCummaxs, rowCummins, rowCumprods,
rowCumsums, rowDiffs, rowIQRDiffs, rowIQRs, rowLogSumExps,
rowMadDiffs, rowMads, rowMaxs, rowMeans2, rowMedians, rowMins,
rowOrderStats, rowProds, rowQuantiles, rowRanges, rowRanks,
rowSdDiffs, rowSds, rowSums2, rowTabulates, rowVarDiffs, rowVars,
rowWeightedMads, rowWeightedMeans, rowWeightedMedians,
rowWeightedSds, rowWeightedVars
Loading required package: GenomicRanges
Loading required package: stats4
Loading required package: BiocGenerics
Attaching package: 'BiocGenerics'
The following objects are masked from 'package:stats':
IQR, mad, sd, var, xtabs
The following objects are masked from 'package:base':
Filter, Find, Map, Position, Reduce, anyDuplicated, aperm, append,
as.data.frame, basename, cbind, colnames, dirname, do.call,
duplicated, eval, evalq, get, grep, grepl, intersect, is.unsorted,
lapply, mapply, match, mget, order, paste, pmax, pmax.int, pmin,
pmin.int, rank, rbind, rownames, sapply, setdiff, sort, table,
tapply, union, unique, unsplit, which.max, which.min
Loading required package: S4Vectors
Attaching package: 'S4Vectors'
The following object is masked from 'package:utils':
findMatches
The following objects are masked from 'package:base':
I, expand.grid, unname
Loading required package: IRanges
Loading required package: GenomeInfoDb
Loading required package: Biobase
Welcome to Bioconductor
Vignettes contain introductory material; view with
'browseVignettes()'. To cite Bioconductor, see
'citation("Biobase")', and for packages 'citation("pkgname")'.
Attaching package: 'Biobase'
The following object is masked from 'package:MatrixGenerics':
rowMedians
The following objects are masked from 'package:matrixStats':
anyMissing, rowMedians
>
> test_check("imcRtools")
[ FAIL 5 | WARN 3 | SKIP 0 | PASS 2216 ]
══ Failed tests ════════════════════════════════════════════════════════════════
── Failure ('test_aggregateNeighbors.R:36:5'): aggregateNeighbors function works ──
all(rowSums(as.matrix(cur_sce$aggregatedNeighbors)) == 1) is not TRUE
`actual`: FALSE
`expected`: TRUE
── Failure ('test_aggregateNeighbors.R:116:5'): aggregateNeighbors function works ──
all(rowSums(as.matrix(cur_sce$aggregatedNeighbors)) == 1) is not TRUE
`actual`: FALSE
`expected`: TRUE
── Failure ('test_aggregateNeighbors.R:545:5'): aggregateNeighbors function works ──
all(rowSums(as.matrix(cur_sce$aggregatedNeighbors)) == 1) is not TRUE
`actual`: FALSE
`expected`: TRUE
── Failure ('test_countInteractions.R:396:5'): countInteractions function works ──
all(cur_out$ct[!is.na(cur_out$ct)] == 1) is not TRUE
`actual`: FALSE
`expected`: TRUE
── Failure ('test_integration_interactions.R:351:5'): testInteractions gives same results as neighbouRhood ──
dat_p$p_gt[!is.na(imcRtools_classic$ct)] not equal to imcRtools_classic_perm$p_gt[!is.na(imcRtools_classic$ct)].
1/22 mismatches
[8] 0.881 - 0.901 == -0.0198
[ FAIL 5 | WARN 3 | SKIP 0 | PASS 2216 ]
Error: Test failures
Execution halted
imcRtools.Rcheck/imcRtools-Ex.timings
| name | user | system | elapsed | |
| aggregateNeighbors | 1.167 | 0.082 | 1.251 | |
| binAcrossPixels | 1.290 | 0.100 | 1.378 | |
| buildSpatialGraph | 11.681 | 0.474 | 12.073 | |
| countInteractions | 0.788 | 0.014 | 0.804 | |
| detectCommunity | 2.032 | 0.024 | 2.057 | |
| detectSpatialContext | 2.017 | 0.023 | 2.043 | |
| filterPixels | 2.497 | 0.195 | 2.682 | |
| filterSpatialContext | 2.470 | 0.038 | 2.543 | |
| findBorderCells | 0.423 | 0.011 | 0.439 | |
| minDistToCells | 2.284 | 0.051 | 2.331 | |
| patchDetection | 2.572 | 0.031 | 2.602 | |
| patchSize | 1.383 | 0.022 | 1.389 | |
| plotSpatial | 6.318 | 0.145 | 6.477 | |
| plotSpatialContext | 4.902 | 0.094 | 5.042 | |
| plotSpotHeatmap | 0.862 | 0.052 | 0.912 | |
| readImagefromTXT | 0.357 | 0.076 | 0.392 | |
| readSCEfromTXT | 0.454 | 0.026 | 0.474 | |
| read_cpout | 1.306 | 0.175 | 1.418 | |
| read_steinbock | 27.244 | 4.813 | 25.908 | |
| show_cpout_features | 0.137 | 0.093 | 0.236 | |
| testInteractions | 151.121 | 1.761 | 153.340 | |