| Back to Mac ARM64 build report for BioC 3.18 |
|
This page was generated on 2024-04-18 11:32:11 -0400 (Thu, 18 Apr 2024).
| Hostname | OS | Arch (*) | R version | Installed pkgs |
|---|---|---|---|---|
| kjohnson1 | macOS 13.6.1 Ventura | arm64 | 4.3.3 (2024-02-29) -- "Angel Food Cake" | 4388 |
| Click on any hostname to see more info about the system (e.g. compilers) (*) as reported by 'uname -p', except on Windows and Mac OS X | ||||
| Package 937/2266 | Hostname | OS / Arch | INSTALL | BUILD | CHECK | BUILD BIN | ||||||||
| heatmaps 1.26.0 (landing page) Malcolm Perry
| kjohnson1 | macOS 13.6.1 Ventura / arm64 | OK | OK | OK | OK | ||||||||
|
To the developers/maintainers of the heatmaps package: - Use the following Renviron settings to reproduce errors and warnings. - If 'R CMD check' started to fail recently on the Linux builder(s) over a missing dependency, add the missing dependency to 'Suggests:' in your DESCRIPTION file. See Renviron.bioc for more information. |
| Package: heatmaps |
| Version: 1.26.0 |
| Command: /Library/Frameworks/R.framework/Resources/bin/R CMD check --install=check:heatmaps.install-out.txt --library=/Library/Frameworks/R.framework/Resources/library --no-vignettes --timings heatmaps_1.26.0.tar.gz |
| StartedAt: 2024-04-17 16:08:03 -0400 (Wed, 17 Apr 2024) |
| EndedAt: 2024-04-17 16:10:39 -0400 (Wed, 17 Apr 2024) |
| EllapsedTime: 155.6 seconds |
| RetCode: 0 |
| Status: OK |
| CheckDir: heatmaps.Rcheck |
| Warnings: 0 |
##############################################################################
##############################################################################
###
### Running command:
###
### /Library/Frameworks/R.framework/Resources/bin/R CMD check --install=check:heatmaps.install-out.txt --library=/Library/Frameworks/R.framework/Resources/library --no-vignettes --timings heatmaps_1.26.0.tar.gz
###
##############################################################################
##############################################################################
* using log directory ‘/Users/biocbuild/bbs-3.18-bioc-mac-arm64/meat/heatmaps.Rcheck’
* using R version 4.3.3 (2024-02-29)
* using platform: aarch64-apple-darwin20 (64-bit)
* R was compiled by
Apple clang version 14.0.0 (clang-1400.0.29.202)
GNU Fortran (GCC) 12.2.0
* running under: macOS Ventura 13.6.1
* using session charset: UTF-8
* using option ‘--no-vignettes’
* checking for file ‘heatmaps/DESCRIPTION’ ... OK
* this is package ‘heatmaps’ version ‘1.26.0’
* checking package namespace information ... OK
* checking package dependencies ... OK
* checking if this is a source package ... OK
* checking if there is a namespace ... OK
* checking for hidden files and directories ... OK
* checking for portable file names ... OK
* checking for sufficient/correct file permissions ... OK
* checking whether package ‘heatmaps’ can be installed ... OK
* checking installed package size ... NOTE
installed size is 7.4Mb
sub-directories of 1Mb or more:
extdata 6.9Mb
* checking package directory ... OK
* checking ‘build’ directory ... OK
* checking DESCRIPTION meta-information ... OK
* checking top-level files ... OK
* checking for left-over files ... OK
* checking index information ... OK
* checking package subdirectories ... OK
* checking R files for non-ASCII characters ... OK
* checking R files for syntax errors ... OK
* checking whether the package can be loaded ... OK
* checking whether the package can be loaded with stated dependencies ... OK
* checking whether the package can be unloaded cleanly ... OK
* checking whether the namespace can be loaded with stated dependencies ... OK
* checking whether the namespace can be unloaded cleanly ... OK
* checking dependencies in R code ... OK
* checking S3 generic/method consistency ... OK
* checking replacement functions ... OK
* checking foreign function calls ... OK
* checking R code for possible problems ... NOTE
makeGaussian2D: no visible binding for global variable ‘dnorm’
Undefined global functions or variables:
dnorm
Consider adding
importFrom("stats", "dnorm")
to your NAMESPACE file.
* checking Rd files ... OK
* checking Rd metadata ... OK
* checking Rd cross-references ... OK
* checking for missing documentation entries ... OK
* checking for code/documentation mismatches ... OK
* checking Rd \usage sections ... OK
* checking Rd contents ... OK
* checking for unstated dependencies in examples ... OK
* checking contents of ‘data’ directory ... OK
* checking data for non-ASCII characters ... OK
* checking data for ASCII and uncompressed saves ... OK
* checking files in ‘vignettes’ ... OK
* checking examples ... OK
* checking for unstated dependencies in ‘tests’ ... OK
* checking tests ...
Running ‘testthat.R’
OK
* checking for unstated dependencies in vignettes ... OK
* checking package vignettes in ‘inst/doc’ ... OK
* checking running R code from vignettes ... SKIPPED
* checking re-building of vignette outputs ... SKIPPED
* checking PDF version of manual ... OK
* DONE
Status: 2 NOTEs
See
‘/Users/biocbuild/bbs-3.18-bioc-mac-arm64/meat/heatmaps.Rcheck/00check.log’
for details.
heatmaps.Rcheck/00install.out
############################################################################## ############################################################################## ### ### Running command: ### ### /Library/Frameworks/R.framework/Resources/bin/R CMD INSTALL heatmaps ### ############################################################################## ############################################################################## * installing to library ‘/Library/Frameworks/R.framework/Versions/4.3-arm64/Resources/library’ * installing *source* package ‘heatmaps’ ... ** using staged installation ** R ** data ** inst ** byte-compile and prepare package for lazy loading Creating a new generic function for ‘scale’ in package ‘heatmaps’ ** help *** installing help indices ** building package indices ** installing vignettes ** testing if installed package can be loaded from temporary location ** testing if installed package can be loaded from final location ** testing if installed package keeps a record of temporary installation path * DONE (heatmaps)
heatmaps.Rcheck/tests/testthat.Rout
R version 4.3.3 (2024-02-29) -- "Angel Food Cake"
Copyright (C) 2024 The R Foundation for Statistical Computing
Platform: aarch64-apple-darwin20 (64-bit)
R is free software and comes with ABSOLUTELY NO WARRANTY.
You are welcome to redistribute it under certain conditions.
Type 'license()' or 'licence()' for distribution details.
R is a collaborative project with many contributors.
Type 'contributors()' for more information and
'citation()' on how to cite R or R packages in publications.
Type 'demo()' for some demos, 'help()' for on-line help, or
'help.start()' for an HTML browser interface to help.
Type 'q()' to quit R.
> library(testthat)
> library(heatmaps)
Attaching package: 'heatmaps'
The following object is masked from 'package:base':
scale
>
> test_check("heatmaps")
[ FAIL 0 | WARN 0 | SKIP 0 | PASS 22 ]
>
> proc.time()
user system elapsed
6.882 0.367 8.311
heatmaps.Rcheck/heatmaps-Ex.timings
| name | user | system | elapsed | |
| CoverageHeatmap | 0.596 | 0.006 | 0.600 | |
| Heatmap-class | 0.018 | 0.002 | 0.020 | |
| Heatmap | 0.018 | 0.002 | 0.020 | |
| PWMScanHeatmap | 0.043 | 0.003 | 0.046 | |
| PatternHeatmap | 0.059 | 0.004 | 0.063 | |
| coords | 0.017 | 0.002 | 0.019 | |
| default_color | 0.006 | 0.001 | 0.007 | |
| getScale | 0.000 | 0.000 | 0.001 | |
| heatmapOptions | 0.000 | 0.001 | 0.001 | |
| image | 0.018 | 0.002 | 0.021 | |
| label | 0.017 | 0.003 | 0.019 | |
| metadata | 0.016 | 0.002 | 0.019 | |
| nseq | 0.017 | 0.002 | 0.019 | |
| plotHeatmap | 0.056 | 0.007 | 0.064 | |
| plotHeatmapList | 0.100 | 0.008 | 0.108 | |
| plotHeatmapMeta | 0.065 | 0.004 | 0.074 | |
| plotPatternDensityMap | 0.745 | 0.026 | 0.806 | |
| plot_clusters | 0.088 | 0.003 | 0.092 | |
| plot_legend | 0.023 | 0.003 | 0.025 | |
| scale | 0.017 | 0.002 | 0.019 | |
| smoothHeatmap | 0.045 | 0.014 | 0.059 | |
| xm | 0.017 | 0.003 | 0.020 | |
| ym | 0.018 | 0.005 | 0.022 | |