| Back to Mac ARM64 build report for BioC 3.18 |
|
This page was generated on 2024-04-18 11:32:11 -0400 (Thu, 18 Apr 2024).
| Hostname | OS | Arch (*) | R version | Installed pkgs |
|---|---|---|---|---|
| kjohnson1 | macOS 13.6.1 Ventura | arm64 | 4.3.3 (2024-02-29) -- "Angel Food Cake" | 4388 |
| Click on any hostname to see more info about the system (e.g. compilers) (*) as reported by 'uname -p', except on Windows and Mac OS X | ||||
| Package 881/2266 | Hostname | OS / Arch | INSTALL | BUILD | CHECK | BUILD BIN | ||||||||
| goProfiles 1.64.0 (landing page) Alex Sanchez
| kjohnson1 | macOS 13.6.1 Ventura / arm64 | OK | OK | OK | OK | ||||||||
|
To the developers/maintainers of the goProfiles package: - Use the following Renviron settings to reproduce errors and warnings. - If 'R CMD check' started to fail recently on the Linux builder(s) over a missing dependency, add the missing dependency to 'Suggests:' in your DESCRIPTION file. See Renviron.bioc for more information. |
| Package: goProfiles |
| Version: 1.64.0 |
| Command: /Library/Frameworks/R.framework/Resources/bin/R CMD check --install=check:goProfiles.install-out.txt --library=/Library/Frameworks/R.framework/Resources/library --no-vignettes --timings goProfiles_1.64.0.tar.gz |
| StartedAt: 2024-04-17 15:29:26 -0400 (Wed, 17 Apr 2024) |
| EndedAt: 2024-04-17 15:32:32 -0400 (Wed, 17 Apr 2024) |
| EllapsedTime: 186.0 seconds |
| RetCode: 0 |
| Status: OK |
| CheckDir: goProfiles.Rcheck |
| Warnings: 0 |
##############################################################################
##############################################################################
###
### Running command:
###
### /Library/Frameworks/R.framework/Resources/bin/R CMD check --install=check:goProfiles.install-out.txt --library=/Library/Frameworks/R.framework/Resources/library --no-vignettes --timings goProfiles_1.64.0.tar.gz
###
##############################################################################
##############################################################################
* using log directory ‘/Users/biocbuild/bbs-3.18-bioc-mac-arm64/meat/goProfiles.Rcheck’
* using R version 4.3.3 (2024-02-29)
* using platform: aarch64-apple-darwin20 (64-bit)
* R was compiled by
Apple clang version 14.0.0 (clang-1400.0.29.202)
GNU Fortran (GCC) 12.2.0
* running under: macOS Ventura 13.6.1
* using session charset: UTF-8
* using option ‘--no-vignettes’
* checking for file ‘goProfiles/DESCRIPTION’ ... OK
* checking extension type ... Package
* this is package ‘goProfiles’ version ‘1.64.0’
* checking package namespace information ... OK
* checking package dependencies ... OK
* checking if this is a source package ... OK
* checking if there is a namespace ... OK
* checking for hidden files and directories ... OK
* checking for portable file names ... OK
* checking for sufficient/correct file permissions ... OK
* checking whether package ‘goProfiles’ can be installed ... OK
* checking installed package size ... OK
* checking package directory ... OK
* checking ‘build’ directory ... OK
* checking DESCRIPTION meta-information ... OK
* checking top-level files ... OK
* checking for left-over files ... OK
* checking index information ... OK
* checking package subdirectories ... OK
* checking R files for non-ASCII characters ... OK
* checking R files for syntax errors ... OK
* checking whether the package can be loaded ... OK
* checking whether the package can be loaded with stated dependencies ... OK
* checking whether the package can be unloaded cleanly ... OK
* checking whether the namespace can be loaded with stated dependencies ... OK
* checking whether the namespace can be unloaded cleanly ... OK
* checking dependencies in R code ... OK
* checking S3 generic/method consistency ... OK
* checking replacement functions ... OK
* checking foreign function calls ... OK
* checking R code for possible problems ... OK
* checking Rd files ... NOTE
checkRd: (-1) compareGeneLists.Rd:6: Escaped LaTeX specials: \~
checkRd: (-1) compareProfilesLists.Rd:7: Escaped LaTeX specials: \~
* checking Rd metadata ... OK
* checking Rd cross-references ... OK
* checking for missing documentation entries ... OK
* checking for code/documentation mismatches ... OK
* checking Rd \usage sections ... OK
* checking Rd contents ... OK
* checking for unstated dependencies in examples ... OK
* checking contents of ‘data’ directory ... OK
* checking data for non-ASCII characters ... OK
* checking data for ASCII and uncompressed saves ... OK
* checking sizes of PDF files under ‘inst/doc’ ... OK
* checking installed files from ‘inst/doc’ ... OK
* checking files in ‘vignettes’ ... OK
* checking examples ... OK
Examples with CPU (user + system) or elapsed time > 5s
user system elapsed
compareGeneLists 17.548 0.347 17.958
equivalentGOProfiles 12.073 0.235 12.350
fisherGOProfiles 5.419 0.112 5.531
mergeProfilesLists 5.043 0.114 5.172
* checking for unstated dependencies in vignettes ... OK
* checking package vignettes in ‘inst/doc’ ... OK
* checking running R code from vignettes ... SKIPPED
* checking re-building of vignette outputs ... SKIPPED
* checking PDF version of manual ... OK
* DONE
Status: 1 NOTE
See
‘/Users/biocbuild/bbs-3.18-bioc-mac-arm64/meat/goProfiles.Rcheck/00check.log’
for details.
goProfiles.Rcheck/00install.out
############################################################################## ############################################################################## ### ### Running command: ### ### /Library/Frameworks/R.framework/Resources/bin/R CMD INSTALL goProfiles ### ############################################################################## ############################################################################## * installing to library ‘/Library/Frameworks/R.framework/Versions/4.3-arm64/Resources/library’ * installing *source* package ‘goProfiles’ ... ** using staged installation ** R ** data ** inst ** byte-compile and prepare package for lazy loading ** help *** installing help indices ** building package indices ** installing vignettes ** testing if installed package can be loaded from temporary location ** testing if installed package can be loaded from final location ** testing if installed package keeps a record of temporary installation path * DONE (goProfiles)
goProfiles.Rcheck/goProfiles-Ex.timings
| name | user | system | elapsed | |
| CD4ids | 0.004 | 0.002 | 0.006 | |
| GOTermsList | 0 | 0 | 0 | |
| basicProfile | 3.484 | 0.111 | 3.630 | |
| compSummary | 0 | 0 | 0 | |
| compareGOProfiles | 3.820 | 0.107 | 3.969 | |
| compareGeneLists | 17.548 | 0.347 | 17.958 | |
| compareProfilesLists | 0.000 | 0.000 | 0.001 | |
| contractedProfile | 1.642 | 0.032 | 1.674 | |
| conversionFunctions | 0.033 | 0.005 | 0.038 | |
| drosophila | 0.002 | 0.003 | 0.005 | |
| equivClust | 0 | 0 | 0 | |
| equivClust2pdf | 0.019 | 0.004 | 0.023 | |
| equivSummary | 0.000 | 0.000 | 0.001 | |
| equivalentGOProfiles | 12.073 | 0.235 | 12.350 | |
| expandedLevel | 1.753 | 0.036 | 1.789 | |
| expandedProfile | 0.770 | 0.016 | 0.786 | |
| fisherGOProfiles | 5.419 | 0.112 | 5.531 | |
| fitGOProfile | 0.001 | 0.000 | 0.000 | |
| hugoIds | 0.019 | 0.003 | 0.021 | |
| iterEquivClust | 0 | 0 | 0 | |
| mergeProfilesLists | 5.043 | 0.114 | 5.172 | |
| ngenes | 1.513 | 0.026 | 1.591 | |
| omimIds | 0.004 | 0.002 | 0.007 | |
| plotProfiles | 4.304 | 0.078 | 4.414 | |
| printProfiles | 4.851 | 0.111 | 4.967 | |
| prostateIds | 0.007 | 0.002 | 0.009 | |