| Back to Mac ARM64 build report for BioC 3.18 |
|
This page was generated on 2024-04-18 11:32:11 -0400 (Thu, 18 Apr 2024).
| Hostname | OS | Arch (*) | R version | Installed pkgs |
|---|---|---|---|---|
| kjohnson1 | macOS 13.6.1 Ventura | arm64 | 4.3.3 (2024-02-29) -- "Angel Food Cake" | 4388 |
| Click on any hostname to see more info about the system (e.g. compilers) (*) as reported by 'uname -p', except on Windows and Mac OS X | ||||
| Package 843/2266 | Hostname | OS / Arch | INSTALL | BUILD | CHECK | BUILD BIN | ||||||||
| gep2pep 1.22.0 (landing page) Francesco Napolitano
| kjohnson1 | macOS 13.6.1 Ventura / arm64 | OK | OK | OK | OK | ||||||||
|
To the developers/maintainers of the gep2pep package: - Use the following Renviron settings to reproduce errors and warnings. - If 'R CMD check' started to fail recently on the Linux builder(s) over a missing dependency, add the missing dependency to 'Suggests:' in your DESCRIPTION file. See Renviron.bioc for more information. |
| Package: gep2pep |
| Version: 1.22.0 |
| Command: /Library/Frameworks/R.framework/Resources/bin/R CMD check --install=check:gep2pep.install-out.txt --library=/Library/Frameworks/R.framework/Resources/library --no-vignettes --timings gep2pep_1.22.0.tar.gz |
| StartedAt: 2024-04-17 15:05:06 -0400 (Wed, 17 Apr 2024) |
| EndedAt: 2024-04-17 15:07:49 -0400 (Wed, 17 Apr 2024) |
| EllapsedTime: 163.7 seconds |
| RetCode: 0 |
| Status: OK |
| CheckDir: gep2pep.Rcheck |
| Warnings: 0 |
##############################################################################
##############################################################################
###
### Running command:
###
### /Library/Frameworks/R.framework/Resources/bin/R CMD check --install=check:gep2pep.install-out.txt --library=/Library/Frameworks/R.framework/Resources/library --no-vignettes --timings gep2pep_1.22.0.tar.gz
###
##############################################################################
##############################################################################
* using log directory ‘/Users/biocbuild/bbs-3.18-bioc-mac-arm64/meat/gep2pep.Rcheck’
* using R version 4.3.3 (2024-02-29)
* using platform: aarch64-apple-darwin20 (64-bit)
* R was compiled by
Apple clang version 14.0.0 (clang-1400.0.29.202)
GNU Fortran (GCC) 12.2.0
* running under: macOS Ventura 13.6.1
* using session charset: UTF-8
* using option ‘--no-vignettes’
* checking for file ‘gep2pep/DESCRIPTION’ ... OK
* checking extension type ... Package
* this is package ‘gep2pep’ version ‘1.22.0’
* package encoding: UTF-8
* checking package namespace information ... OK
* checking package dependencies ... OK
* checking if this is a source package ... OK
* checking if there is a namespace ... OK
* checking for hidden files and directories ... OK
* checking for portable file names ... OK
* checking for sufficient/correct file permissions ... OK
* checking whether package ‘gep2pep’ can be installed ... OK
* checking installed package size ... OK
* checking package directory ... OK
* checking ‘build’ directory ... OK
* checking DESCRIPTION meta-information ... OK
* checking top-level files ... OK
* checking for left-over files ... OK
* checking index information ... OK
* checking package subdirectories ... OK
* checking R files for non-ASCII characters ... OK
* checking R files for syntax errors ... OK
* checking whether the package can be loaded ... OK
* checking whether the package can be loaded with stated dependencies ... OK
* checking whether the package can be unloaded cleanly ... OK
* checking whether the namespace can be loaded with stated dependencies ... OK
* checking whether the namespace can be unloaded cleanly ... OK
* checking dependencies in R code ... OK
* checking S3 generic/method consistency ... OK
* checking replacement functions ... OK
* checking foreign function calls ... OK
* checking R code for possible problems ... OK
* checking Rd files ... OK
* checking Rd metadata ... OK
* checking Rd cross-references ... OK
* checking for missing documentation entries ... OK
* checking for code/documentation mismatches ... OK
* checking Rd \usage sections ... OK
* checking Rd contents ... OK
* checking for unstated dependencies in examples ... OK
* checking files in ‘vignettes’ ... OK
* checking examples ... OK
* checking for unstated dependencies in ‘tests’ ... OK
* checking tests ...
Running ‘testthat.R’
OK
* checking for unstated dependencies in vignettes ... OK
* checking package vignettes in ‘inst/doc’ ... OK
* checking running R code from vignettes ... SKIPPED
* checking re-building of vignette outputs ... SKIPPED
* checking PDF version of manual ... OK
* DONE
Status: OK
gep2pep.Rcheck/00install.out
############################################################################## ############################################################################## ### ### Running command: ### ### /Library/Frameworks/R.framework/Resources/bin/R CMD INSTALL gep2pep ### ############################################################################## ############################################################################## * installing to library ‘/Library/Frameworks/R.framework/Versions/4.3-arm64/Resources/library’ * installing *source* package ‘gep2pep’ ... ** using staged installation ** R ** inst ** byte-compile and prepare package for lazy loading ** help *** installing help indices ** building package indices ** installing vignettes ** testing if installed package can be loaded from temporary location ** testing if installed package can be loaded from final location ** testing if installed package keeps a record of temporary installation path * DONE (gep2pep)
gep2pep.Rcheck/tests/testthat.Rout
R version 4.3.3 (2024-02-29) -- "Angel Food Cake"
Copyright (C) 2024 The R Foundation for Statistical Computing
Platform: aarch64-apple-darwin20 (64-bit)
R is free software and comes with ABSOLUTELY NO WARRANTY.
You are welcome to redistribute it under certain conditions.
Type 'license()' or 'licence()' for distribution details.
R is a collaborative project with many contributors.
Type 'contributors()' for more information and
'citation()' on how to cite R or R packages in publications.
Type 'demo()' for some demos, 'help()' for on-line help, or
'help.start()' for an HTML browser interface to help.
Type 'q()' to quit R.
> library(testthat)
> library(gep2pep)
>
> test_check("gep2pep")
Chunk 1 of 2, 524 bytes (current file size: 4.3 Kb)
Chunk 2 of 2, 673 bytes (current file size: 16.3 Kb)
Chunk 1 of 2, 544 bytes (current file size: 4.3 Kb)
Chunk 2 of 2, 704 bytes (current file size: 16.3 Kb)
Chunk 1 of 2, 554 bytes (current file size: 4.3 Kb)
Chunk 2 of 2, 695 bytes (current file size: 16.3 Kb)
[ FAIL 0 | WARN 2272 | SKIP 1 | PASS 154 ]
══ Skipped tests (1) ═══════════════════════════════════════════════════════════
• empty test (1): 'test_rawMode.R:216:1'
[ FAIL 0 | WARN 2272 | SKIP 1 | PASS 154 ]
>
> proc.time()
user system elapsed
28.792 1.596 30.616
gep2pep.Rcheck/gep2pep-Ex.timings
| name | user | system | elapsed | |
| CategorizedCollection | 0.130 | 0.011 | 0.141 | |
| CondSEA | 1.370 | 0.103 | 1.480 | |
| PathSEA | 0.694 | 0.120 | 0.818 | |
| addSingleGeneSets | 0.496 | 0.067 | 0.572 | |
| as.CategorizedCollection | 0.317 | 0.065 | 0.385 | |
| buildPEPs | 0.459 | 0.068 | 0.531 | |
| checkRepository | 0.112 | 0.026 | 0.141 | |
| clearCache | 0.355 | 0.070 | 0.433 | |
| createMergedRepository | 0.526 | 0.110 | 0.641 | |
| createRepository | 0.176 | 0.038 | 0.215 | |
| exportSEA | 0.499 | 0.073 | 0.576 | |
| gene2pathways | 0.093 | 0.027 | 0.121 | |
| getCollections | 0.096 | 0.026 | 0.123 | |
| getDetails | 0.362 | 0.065 | 0.489 | |
| getResults | 0.547 | 0.080 | 0.633 | |
| importFromRawMode | 0.555 | 0.083 | 0.704 | |
| importMSigDB.xml | 0.084 | 0.024 | 0.112 | |
| loadCollection | 0.087 | 0.023 | 0.112 | |
| loadESmatrix | 0.247 | 0.049 | 0.311 | |
| loadPVmatrix | 0.757 | 0.077 | 0.890 | |
| loadSampleGEP | 0.002 | 0.001 | 0.002 | |
| loadSamplePWS | 0.002 | 0.001 | 0.002 | |
| makeCollectionIDs | 0.038 | 0.001 | 0.038 | |
| openRepository | 0.177 | 0.039 | 0.217 | |
| setId2setName | 0.039 | 0.000 | 0.039 | |