| Back to Mac ARM64 build report for BioC 3.18 |
|
This page was generated on 2024-04-18 11:32:10 -0400 (Thu, 18 Apr 2024).
| Hostname | OS | Arch (*) | R version | Installed pkgs |
|---|---|---|---|---|
| kjohnson1 | macOS 13.6.1 Ventura | arm64 | 4.3.3 (2024-02-29) -- "Angel Food Cake" | 4388 |
| Click on any hostname to see more info about the system (e.g. compilers) (*) as reported by 'uname -p', except on Windows and Mac OS X | ||||
| Package 793/2266 | Hostname | OS / Arch | INSTALL | BUILD | CHECK | BUILD BIN | ||||||||
| genefilter 1.84.0 (landing page) Bioconductor Package Maintainer
| kjohnson1 | macOS 13.6.1 Ventura / arm64 | OK | OK | WARNINGS | OK | ||||||||
|
To the developers/maintainers of the genefilter package: - Use the following Renviron settings to reproduce errors and warnings. - If 'R CMD check' started to fail recently on the Linux builder(s) over a missing dependency, add the missing dependency to 'Suggests:' in your DESCRIPTION file. See Renviron.bioc for more information. |
| Package: genefilter |
| Version: 1.84.0 |
| Command: /Library/Frameworks/R.framework/Resources/bin/R CMD INSTALL genefilter |
| StartedAt: 2024-04-16 11:54:24 -0400 (Tue, 16 Apr 2024) |
| EndedAt: 2024-04-16 11:54:51 -0400 (Tue, 16 Apr 2024) |
| EllapsedTime: 26.9 seconds |
| RetCode: 0 |
| Status: OK |
##############################################################################
##############################################################################
###
### Running command:
###
### /Library/Frameworks/R.framework/Resources/bin/R CMD INSTALL genefilter
###
##############################################################################
##############################################################################
* installing to library ‘/Library/Frameworks/R.framework/Versions/4.3-arm64/Resources/library’
* installing *source* package ‘genefilter’ ...
** using staged installation
** libs
using C compiler: ‘Apple clang version 15.0.0 (clang-1500.0.40.1)’
using Fortran compiler: ‘GNU Fortran (GCC) 12.2.0’
using C++ compiler: ‘Apple clang version 15.0.0 (clang-1500.0.40.1)’
using SDK: ‘MacOSX11.3.sdk’
clang++ -arch arm64 -std=gnu++17 -I"/Library/Frameworks/R.framework/Resources/include" -DNDEBUG -I/opt/R/arm64/include -fPIC -falign-functions=64 -Wall -g -O2 -c half_range_mode.cpp -o half_range_mode.o
clang -arch arm64 -I"/Library/Frameworks/R.framework/Resources/include" -DNDEBUG -I/opt/R/arm64/include -fPIC -falign-functions=64 -Wall -g -O2 -c init.c -o init.o
clang -arch arm64 -I"/Library/Frameworks/R.framework/Resources/include" -DNDEBUG -I/opt/R/arm64/include -fPIC -falign-functions=64 -Wall -g -O2 -c nd.c -o nd.o
clang -arch arm64 -I"/Library/Frameworks/R.framework/Resources/include" -DNDEBUG -I/opt/R/arm64/include -fPIC -falign-functions=64 -Wall -g -O2 -c pAUC.c -o pAUC.o
pAUC.c:140:8: warning: use of bitwise '|' with boolean operands [-Wbitwise-instead-of-logical]
if(rows != INTEGER(dimSens)[1] | columns != INTEGER(dimSens)[0])
^~~~~~~~~~~~~~~~~~~~~~~~~~~~~~~~~~~~~~~~~~~~~~~~~~~~~~~~~~~~
||
pAUC.c:140:8: note: cast one or both operands to int to silence this warning
1 warning generated.
clang -arch arm64 -I"/Library/Frameworks/R.framework/Resources/include" -DNDEBUG -I/opt/R/arm64/include -fPIC -falign-functions=64 -Wall -g -O2 -c rowPAUCs.c -o rowPAUCs.o
clang -arch arm64 -I"/Library/Frameworks/R.framework/Resources/include" -DNDEBUG -I/opt/R/arm64/include -fPIC -falign-functions=64 -Wall -g -O2 -c rowttests.c -o rowttests.o
/opt/gfortran/bin/gfortran -arch arm64 -fPIC -Wall -g -O2 -c ttest.f -o ttest.o
ttest.f:47:12:
47 | dm=dm1-dm2
| 1
Warning: Possible change of value in conversion from REAL(8) to REAL(4) at (1) [-Wconversion]
ttest.f:50:12:
50 | dm=dm1/dm2
| 1
Warning: Possible change of value in conversion from REAL(8) to REAL(4) at (1) [-Wconversion]
ttest.f:59:13:
59 | tst=(dm1-dm2)/sqrt((1.d0/ng1+1.d0/ng2)*(dss1+dss2)/(ng1+ng2-2))
| 1
Warning: Possible change of value in conversion from REAL(8) to REAL(4) at (1) [-Wconversion]
ttest.f:62:10:
62 | tst=(dm1-dm2)/sqrt(dss1/((ng1-1)*ng1)+dss2/((ng2-1)*ng2))
| 1
Warning: Possible change of value in conversion from REAL(8) to REAL(4) at (1) [-Wconversion]
clang++ -arch arm64 -std=gnu++17 -dynamiclib -Wl,-headerpad_max_install_names -undefined dynamic_lookup -L/Library/Frameworks/R.framework/Resources/lib -L/opt/R/arm64/lib -o genefilter.so half_range_mode.o init.o nd.o pAUC.o rowPAUCs.o rowttests.o ttest.o -L/opt/gfortran/lib/gcc/aarch64-apple-darwin20.0/12.2.0 -L/opt/gfortran/lib -lgfortran -lemutls_w -lquadmath -F/Library/Frameworks/R.framework/.. -framework R -Wl,-framework -Wl,CoreFoundation
installing to /Library/Frameworks/R.framework/Versions/4.3-arm64/Resources/library/00LOCK-genefilter/00new/genefilter/libs
** R
** data
*** moving datasets to lazyload DB
** inst
** byte-compile and prepare package for lazy loading
** help
*** installing help indices
** building package indices
** installing vignettes
** testing if installed package can be loaded from temporary location
** checking absolute paths in shared objects and dynamic libraries
** testing if installed package can be loaded from final location
** testing if installed package keeps a record of temporary installation path
* DONE (genefilter)