| Back to Mac ARM64 build report for BioC 3.18 |
|
This page was generated on 2024-04-18 11:32:10 -0400 (Thu, 18 Apr 2024).
| Hostname | OS | Arch (*) | R version | Installed pkgs |
|---|---|---|---|---|
| kjohnson1 | macOS 13.6.1 Ventura | arm64 | 4.3.3 (2024-02-29) -- "Angel Food Cake" | 4388 |
| Click on any hostname to see more info about the system (e.g. compilers) (*) as reported by 'uname -p', except on Windows and Mac OS X | ||||
| Package 732/2266 | Hostname | OS / Arch | INSTALL | BUILD | CHECK | BUILD BIN | ||||||||
| flowMatch 1.38.0 (landing page) Ariful Azad
| kjohnson1 | macOS 13.6.1 Ventura / arm64 | OK | OK | OK | OK | ||||||||
|
To the developers/maintainers of the flowMatch package: - Use the following Renviron settings to reproduce errors and warnings. - If 'R CMD check' started to fail recently on the Linux builder(s) over a missing dependency, add the missing dependency to 'Suggests:' in your DESCRIPTION file. See Renviron.bioc for more information. |
| Package: flowMatch |
| Version: 1.38.0 |
| Command: /Library/Frameworks/R.framework/Resources/bin/R CMD check --install=check:flowMatch.install-out.txt --library=/Library/Frameworks/R.framework/Resources/library --no-vignettes --timings flowMatch_1.38.0.tar.gz |
| StartedAt: 2024-04-17 13:56:28 -0400 (Wed, 17 Apr 2024) |
| EndedAt: 2024-04-17 13:58:44 -0400 (Wed, 17 Apr 2024) |
| EllapsedTime: 136.2 seconds |
| RetCode: 0 |
| Status: OK |
| CheckDir: flowMatch.Rcheck |
| Warnings: 0 |
##############################################################################
##############################################################################
###
### Running command:
###
### /Library/Frameworks/R.framework/Resources/bin/R CMD check --install=check:flowMatch.install-out.txt --library=/Library/Frameworks/R.framework/Resources/library --no-vignettes --timings flowMatch_1.38.0.tar.gz
###
##############################################################################
##############################################################################
* using log directory ‘/Users/biocbuild/bbs-3.18-bioc-mac-arm64/meat/flowMatch.Rcheck’
* using R version 4.3.3 (2024-02-29)
* using platform: aarch64-apple-darwin20 (64-bit)
* R was compiled by
Apple clang version 14.0.0 (clang-1400.0.29.202)
GNU Fortran (GCC) 12.2.0
* running under: macOS Ventura 13.6.1
* using session charset: UTF-8
* using option ‘--no-vignettes’
* checking for file ‘flowMatch/DESCRIPTION’ ... OK
* checking extension type ... Package
* this is package ‘flowMatch’ version ‘1.38.0’
* checking package namespace information ... OK
* checking package dependencies ... OK
* checking if this is a source package ... OK
* checking if there is a namespace ... OK
* checking for hidden files and directories ... OK
* checking for portable file names ... OK
* checking for sufficient/correct file permissions ... OK
* checking whether package ‘flowMatch’ can be installed ... OK
* used C++ compiler: ‘Apple clang version 15.0.0 (clang-1500.0.40.1)’
* used SDK: ‘MacOSX11.3.sdk’
* checking installed package size ... OK
* checking package directory ... OK
* checking ‘build’ directory ... OK
* checking DESCRIPTION meta-information ... OK
* checking top-level files ... OK
* checking for left-over files ... OK
* checking index information ... OK
* checking package subdirectories ... OK
* checking R files for non-ASCII characters ... OK
* checking R files for syntax errors ... OK
* checking whether the package can be loaded ... OK
* checking whether the package can be loaded with stated dependencies ... OK
* checking whether the package can be unloaded cleanly ... OK
* checking whether the namespace can be loaded with stated dependencies ... OK
* checking whether the namespace can be unloaded cleanly ... OK
* checking dependencies in R code ... OK
* checking S3 generic/method consistency ... OK
* checking replacement functions ... OK
* checking foreign function calls ... OK
* checking R code for possible problems ... NOTE
ClusteredSample: no visible global function definition for ‘cov’
ellipse: no visible global function definition for ‘qchisq’
ellipse: no visible global function definition for ‘lines’
limitcalc: no visible global function definition for ‘qchisq’
plot.cluster.contours: no visible global function definition for ‘par’
plot.cluster.contours: no visible global function definition for
‘plot.new’
plot.cluster.contours: no visible global function definition for
‘mtext’
template.tree,Template: no visible global function definition for
‘as.dendrogram’
Undefined global functions or variables:
as.dendrogram cov lines mtext par plot.new qchisq
Consider adding
importFrom("graphics", "lines", "mtext", "par", "plot.new")
importFrom("stats", "as.dendrogram", "cov", "qchisq")
to your NAMESPACE file.
* checking Rd files ... OK
* checking Rd metadata ... OK
* checking Rd cross-references ... OK
* checking for missing documentation entries ... OK
* checking for code/documentation mismatches ... OK
* checking Rd \usage sections ... OK
* checking Rd contents ... OK
* checking for unstated dependencies in examples ... OK
* checking line endings in C/C++/Fortran sources/headers ... OK
* checking line endings in Makefiles ... OK
* checking compilation flags in Makevars ... OK
* checking for GNU extensions in Makefiles ... OK
* checking for portable use of $(BLAS_LIBS) and $(LAPACK_LIBS) ... OK
* checking use of PKG_*FLAGS in Makefiles ... OK
* checking compiled code ... NOTE
Note: information on .o files is not available
* checking sizes of PDF files under ‘inst/doc’ ... OK
* checking files in ‘vignettes’ ... OK
* checking examples ... OK
Examples with CPU (user + system) or elapsed time > 5s
user system elapsed
create.template 11.789 0.344 12.426
flowMatch-package 10.047 0.210 10.311
Template-class 9.804 0.334 10.168
template.tree 9.767 0.176 9.961
MetaCluster-class 8.904 0.272 9.194
match.clusters 5.994 0.136 6.140
ClusterMatch-class 4.846 0.177 5.059
* checking for unstated dependencies in vignettes ... OK
* checking package vignettes in ‘inst/doc’ ... OK
* checking running R code from vignettes ... SKIPPED
* checking re-building of vignette outputs ... SKIPPED
* checking PDF version of manual ... OK
* DONE
Status: 2 NOTEs
See
‘/Users/biocbuild/bbs-3.18-bioc-mac-arm64/meat/flowMatch.Rcheck/00check.log’
for details.
flowMatch.Rcheck/00install.out
##############################################################################
##############################################################################
###
### Running command:
###
### /Library/Frameworks/R.framework/Resources/bin/R CMD INSTALL flowMatch
###
##############################################################################
##############################################################################
* installing to library ‘/Library/Frameworks/R.framework/Versions/4.3-arm64/Resources/library’
* installing *source* package ‘flowMatch’ ...
** using staged installation
** libs
using C++ compiler: ‘Apple clang version 15.0.0 (clang-1500.0.40.1)’
using SDK: ‘MacOSX11.3.sdk’
clang++ -arch arm64 -std=gnu++17 -I"/Library/Frameworks/R.framework/Resources/include" -DNDEBUG -I'/Library/Frameworks/R.framework/Versions/4.3-arm64/Resources/library/Rcpp/include' -I/opt/R/arm64/include -fPIC -falign-functions=64 -Wall -g -O2 -c BipartiteGraph.cpp -o BipartiteGraph.o
clang++ -arch arm64 -std=gnu++17 -I"/Library/Frameworks/R.framework/Resources/include" -DNDEBUG -I'/Library/Frameworks/R.framework/Versions/4.3-arm64/Resources/library/Rcpp/include' -I/opt/R/arm64/include -fPIC -falign-functions=64 -Wall -g -O2 -c MinWghtEdgCoverBipartite.cpp -o MinWghtEdgCoverBipartite.o
MinWghtEdgCoverBipartite.cpp:487:10: warning: variable 'delta_cx_cy' set but not used [-Wunused-but-set-variable]
int delta_cx_cy = 0;
^
1 warning generated.
clang++ -arch arm64 -std=gnu++17 -I"/Library/Frameworks/R.framework/Resources/include" -DNDEBUG -I'/Library/Frameworks/R.framework/Versions/4.3-arm64/Resources/library/Rcpp/include' -I/opt/R/arm64/include -fPIC -falign-functions=64 -Wall -g -O2 -c flowMatch.cpp -o flowMatch.o
clang++ -arch arm64 -std=gnu++17 -dynamiclib -Wl,-headerpad_max_install_names -undefined dynamic_lookup -L/Library/Frameworks/R.framework/Resources/lib -L/opt/R/arm64/lib -o flowMatch.so BipartiteGraph.o MinWghtEdgCoverBipartite.o flowMatch.o -F/Library/Frameworks/R.framework/.. -framework R -Wl,-framework -Wl,CoreFoundation
installing to /Library/Frameworks/R.framework/Versions/4.3-arm64/Resources/library/00LOCK-flowMatch/00new/flowMatch/libs
** R
** byte-compile and prepare package for lazy loading
** help
*** installing help indices
** building package indices
** installing vignettes
** testing if installed package can be loaded from temporary location
** checking absolute paths in shared objects and dynamic libraries
** testing if installed package can be loaded from final location
** testing if installed package keeps a record of temporary installation path
* DONE (flowMatch)
flowMatch.Rcheck/flowMatch-Ex.timings
| name | user | system | elapsed | |
| Cluster-class | 0.774 | 0.032 | 0.811 | |
| ClusterMatch-class | 4.846 | 0.177 | 5.059 | |
| ClusteredSample-class | 1.178 | 0.135 | 1.328 | |
| MetaCluster-class | 8.904 | 0.272 | 9.194 | |
| Template-class | 9.804 | 0.334 | 10.168 | |
| create.template | 11.789 | 0.344 | 12.426 | |
| dist.cluster | 0.719 | 0.020 | 0.743 | |
| dist.matrix | 1.221 | 0.032 | 1.266 | |
| dist.sample | 1.397 | 0.040 | 1.451 | |
| dist.template | 4.715 | 0.106 | 4.890 | |
| flowMatch-package | 10.047 | 0.210 | 10.311 | |
| mahalanobis.dist | 0.922 | 0.037 | 0.961 | |
| match.clusters | 5.994 | 0.136 | 6.140 | |
| symmetric.KL | 0.938 | 0.024 | 0.962 | |
| template.tree | 9.767 | 0.176 | 9.961 | |