| Back to Mac ARM64 build report for BioC 3.18 | 
 | 
This page was generated on 2024-04-11 11:32:21 -0400 (Thu, 11 Apr 2024).
| Hostname | OS | Arch (*) | R version | Installed pkgs | 
|---|---|---|---|---|
| kjohnson1 | macOS 13.6.1 Ventura | arm64 | 4.3.3 (2024-02-29) -- "Angel Food Cake" | 4384 | 
| Click on any hostname to see more info about the system (e.g. compilers) (*) as reported by 'uname -p', except on Windows and Mac OS X | ||||
| Package 705/2266 | Hostname | OS / Arch | INSTALL | BUILD | CHECK | BUILD BIN | ||||||||
| fenr 1.0.5  (landing page) Marek Gierlinski 
 | kjohnson1 | macOS 13.6.1 Ventura / arm64 | OK | OK | OK | OK |  | |||||||
| To the developers/maintainers of the fenr package: - Use the following Renviron settings to reproduce errors and warnings. - If 'R CMD check' started to fail recently on the Linux builder(s) over a missing dependency, add the missing dependency to 'Suggests:' in your DESCRIPTION file. See Renviron.bioc for more information. | 
| Package: fenr | 
| Version: 1.0.5 | 
| Command: /Library/Frameworks/R.framework/Resources/bin/R CMD check --install=check:fenr.install-out.txt --library=/Library/Frameworks/R.framework/Resources/library --no-vignettes --timings fenr_1.0.5.tar.gz | 
| StartedAt: 2024-04-10 13:24:40 -0400 (Wed, 10 Apr 2024) | 
| EndedAt: 2024-04-10 13:29:14 -0400 (Wed, 10 Apr 2024) | 
| EllapsedTime: 273.2 seconds | 
| RetCode: 0 | 
| Status: OK | 
| CheckDir: fenr.Rcheck | 
| Warnings: 0 | 
##############################################################################
##############################################################################
###
### Running command:
###
###   /Library/Frameworks/R.framework/Resources/bin/R CMD check --install=check:fenr.install-out.txt --library=/Library/Frameworks/R.framework/Resources/library --no-vignettes --timings fenr_1.0.5.tar.gz
###
##############################################################################
##############################################################################
* using log directory ‘/Users/biocbuild/bbs-3.18-bioc-mac-arm64/meat/fenr.Rcheck’
* using R version 4.3.3 (2024-02-29)
* using platform: aarch64-apple-darwin20 (64-bit)
* R was compiled by
    Apple clang version 14.0.0 (clang-1400.0.29.202)
    GNU Fortran (GCC) 12.2.0
* running under: macOS Ventura 13.6.1
* using session charset: UTF-8
* using option ‘--no-vignettes’
* checking for file ‘fenr/DESCRIPTION’ ... OK
* this is package ‘fenr’ version ‘1.0.5’
* package encoding: UTF-8
* checking package namespace information ... OK
* checking package dependencies ... OK
* checking if this is a source package ... OK
* checking if there is a namespace ... OK
* checking for hidden files and directories ... OK
* checking for portable file names ... OK
* checking for sufficient/correct file permissions ... OK
* checking whether package ‘fenr’ can be installed ... OK
* checking installed package size ... OK
* checking package directory ... OK
* checking ‘build’ directory ... OK
* checking DESCRIPTION meta-information ... OK
* checking top-level files ... OK
* checking for left-over files ... OK
* checking index information ... OK
* checking package subdirectories ... OK
* checking R files for non-ASCII characters ... OK
* checking R files for syntax errors ... OK
* checking whether the package can be loaded ... OK
* checking whether the package can be loaded with stated dependencies ... OK
* checking whether the package can be unloaded cleanly ... OK
* checking whether the namespace can be loaded with stated dependencies ... OK
* checking whether the namespace can be unloaded cleanly ... OK
* checking dependencies in R code ... OK
* checking S3 generic/method consistency ... OK
* checking replacement functions ... OK
* checking foreign function calls ... OK
* checking R code for possible problems ... OK
* checking Rd files ... OK
* checking Rd metadata ... OK
* checking Rd cross-references ... OK
* checking for missing documentation entries ... OK
* checking for code/documentation mismatches ... OK
* checking Rd \usage sections ... OK
* checking Rd contents ... OK
* checking for unstated dependencies in examples ... OK
* checking contents of ‘data’ directory ... OK
* checking data for non-ASCII characters ... OK
* checking data for ASCII and uncompressed saves ... OK
* checking files in ‘vignettes’ ... OK
* checking examples ... OK
Examples with CPU (user + system) or elapsed time > 5s
                          user system elapsed
enrichment_interactive  24.857  1.008  26.293
fetch_terms_for_example 23.186  0.529  24.171
functional_enrichment   17.830  0.361  17.523
prepare_for_enrichment  17.348  0.332  16.999
get_feature_terms       16.269  0.343  15.976
get_term_features       15.711  0.332  15.611
fetch_go                12.362  0.394  12.081
fetch_reactome           5.668  0.156   5.755
fetch_wiki               0.124  0.009   7.604
* checking for unstated dependencies in ‘tests’ ... OK
* checking tests ...
  Running ‘testthat.R’
 OK
* checking for unstated dependencies in vignettes ... OK
* checking package vignettes in ‘inst/doc’ ... OK
* checking running R code from vignettes ... SKIPPED
* checking re-building of vignette outputs ... SKIPPED
* checking PDF version of manual ... OK
* DONE
Status: OK
fenr.Rcheck/00install.out
############################################################################## ############################################################################## ### ### Running command: ### ### /Library/Frameworks/R.framework/Resources/bin/R CMD INSTALL fenr ### ############################################################################## ############################################################################## * installing to library ‘/Library/Frameworks/R.framework/Versions/4.3-arm64/Resources/library’ * installing *source* package ‘fenr’ ... ** using staged installation ** R ** data ** byte-compile and prepare package for lazy loading ** help *** installing help indices ** building package indices ** installing vignettes ** testing if installed package can be loaded from temporary location ** testing if installed package can be loaded from final location ** testing if installed package keeps a record of temporary installation path * DONE (fenr)
fenr.Rcheck/tests/testthat.Rout
R version 4.3.3 (2024-02-29) -- "Angel Food Cake"
Copyright (C) 2024 The R Foundation for Statistical Computing
Platform: aarch64-apple-darwin20 (64-bit)
R is free software and comes with ABSOLUTELY NO WARRANTY.
You are welcome to redistribute it under certain conditions.
Type 'license()' or 'licence()' for distribution details.
R is a collaborative project with many contributors.
Type 'contributors()' for more information and
'citation()' on how to cite R or R packages in publications.
Type 'demo()' for some demos, 'help()' for on-line help, or
'help.start()' for an HTML browser interface to help.
Type 'q()' to quit R.
> library(testthat)
> library(fenr)
> 
> test_check("fenr")
[ FAIL 0 | WARN 0 | SKIP 0 | PASS 312 ]
> 
> proc.time()
   user  system elapsed 
 45.435   2.145  84.231 
fenr.Rcheck/fenr-Ex.timings
| name | user | system | elapsed | |
| enrichment_interactive | 24.857 | 1.008 | 26.293 | |
| fetch_bp | 0.421 | 0.064 | 3.157 | |
| fetch_go | 12.362 | 0.394 | 12.081 | |
| fetch_go_species | 0.029 | 0.001 | 0.031 | |
| fetch_kegg | 0.677 | 0.015 | 4.898 | |
| fetch_kegg_species | 0.198 | 0.008 | 4.339 | |
| fetch_reactome | 5.668 | 0.156 | 5.755 | |
| fetch_reactome_species | 0.017 | 0.001 | 0.791 | |
| fetch_terms_for_example | 23.186 | 0.529 | 24.171 | |
| fetch_wiki | 0.124 | 0.009 | 7.604 | |
| fetch_wiki_species | 0.013 | 0.004 | 0.164 | |
| functional_enrichment | 17.830 | 0.361 | 17.523 | |
| get_feature_terms | 16.269 | 0.343 | 15.976 | |
| get_term_features | 15.711 | 0.332 | 15.611 | |
| prepare_for_enrichment | 17.348 | 0.332 | 16.999 | |