| Back to Mac ARM64 build report for BioC 3.18 |
|
This page was generated on 2024-04-18 11:32:06 -0400 (Thu, 18 Apr 2024).
| Hostname | OS | Arch (*) | R version | Installed pkgs |
|---|---|---|---|---|
| kjohnson1 | macOS 13.6.1 Ventura | arm64 | 4.3.3 (2024-02-29) -- "Angel Food Cake" | 4388 |
| Click on any hostname to see more info about the system (e.g. compilers) (*) as reported by 'uname -p', except on Windows and Mac OS X | ||||
| Package 166/2266 | Hostname | OS / Arch | INSTALL | BUILD | CHECK | BUILD BIN | ||||||||
| bioassayR 1.40.0 (landing page) Daniela Cassol
| kjohnson1 | macOS 13.6.1 Ventura / arm64 | OK | OK | ERROR | OK | ||||||||
|
To the developers/maintainers of the bioassayR package: - Use the following Renviron settings to reproduce errors and warnings. - If 'R CMD check' started to fail recently on the Linux builder(s) over a missing dependency, add the missing dependency to 'Suggests:' in your DESCRIPTION file. See Renviron.bioc for more information. |
| Package: bioassayR |
| Version: 1.40.0 |
| Command: /Library/Frameworks/R.framework/Resources/bin/R CMD check --install=check:bioassayR.install-out.txt --library=/Library/Frameworks/R.framework/Resources/library --no-vignettes --timings bioassayR_1.40.0.tar.gz |
| StartedAt: 2024-04-17 06:54:44 -0400 (Wed, 17 Apr 2024) |
| EndedAt: 2024-04-17 06:56:26 -0400 (Wed, 17 Apr 2024) |
| EllapsedTime: 102.4 seconds |
| RetCode: 1 |
| Status: ERROR |
| CheckDir: bioassayR.Rcheck |
| Warnings: NA |
##############################################################################
##############################################################################
###
### Running command:
###
### /Library/Frameworks/R.framework/Resources/bin/R CMD check --install=check:bioassayR.install-out.txt --library=/Library/Frameworks/R.framework/Resources/library --no-vignettes --timings bioassayR_1.40.0.tar.gz
###
##############################################################################
##############################################################################
* using log directory ‘/Users/biocbuild/bbs-3.18-bioc-mac-arm64/meat/bioassayR.Rcheck’
* using R version 4.3.3 (2024-02-29)
* using platform: aarch64-apple-darwin20 (64-bit)
* R was compiled by
Apple clang version 14.0.0 (clang-1400.0.29.202)
GNU Fortran (GCC) 12.2.0
* running under: macOS Ventura 13.6.1
* using session charset: UTF-8
* using option ‘--no-vignettes’
* checking for file ‘bioassayR/DESCRIPTION’ ... OK
* checking extension type ... Package
* this is package ‘bioassayR’ version ‘1.40.0’
* checking package namespace information ... OK
* checking package dependencies ... OK
* checking if this is a source package ... OK
* checking if there is a namespace ... OK
* checking for hidden files and directories ... OK
* checking for portable file names ... OK
* checking for sufficient/correct file permissions ... OK
* checking whether package ‘bioassayR’ can be installed ... OK
* checking installed package size ... OK
* checking package directory ... OK
* checking ‘build’ directory ... OK
* checking DESCRIPTION meta-information ... OK
* checking top-level files ... OK
* checking for left-over files ... OK
* checking index information ... OK
* checking package subdirectories ... OK
* checking R files for non-ASCII characters ... OK
* checking R files for syntax errors ... OK
* checking whether the package can be loaded ... OK
* checking whether the package can be loaded with stated dependencies ... OK
* checking whether the package can be unloaded cleanly ... OK
* checking whether the namespace can be loaded with stated dependencies ... OK
* checking whether the namespace can be unloaded cleanly ... OK
* checking dependencies in R code ... OK
* checking S3 generic/method consistency ... OK
* checking replacement functions ... OK
* checking foreign function calls ... OK
* checking R code for possible problems ... OK
* checking Rd files ... OK
* checking Rd metadata ... OK
* checking Rd cross-references ... OK
* checking for missing documentation entries ... OK
* checking for code/documentation mismatches ... OK
* checking Rd \usage sections ... OK
* checking Rd contents ... OK
* checking for unstated dependencies in examples ... OK
* checking contents of ‘data’ directory ... OK
* checking data for non-ASCII characters ... OK
* checking data for ASCII and uncompressed saves ... OK
* checking line endings in Makefiles ... OK
* checking for GNU extensions in Makefiles ... OK
* checking include directives in Makefiles ... OK
* checking files in ‘vignettes’ ... OK
* checking examples ... OK
* checking for unstated dependencies in ‘tests’ ... OK
* checking tests ...
Running ‘testthat.R’
ERROR
Running the tests in ‘tests/testthat.R’ failed.
Last 13 lines of output:
>
> test_check("bioassayR")
[ FAIL 2 | WARN 1 | SKIP 0 | PASS 20 ]
══ Failed tests ════════════════════════════════════════════════════════════════
── Failure ('test_perTargetMatrix.R:80:5'): numeric Z-score activesFirst matrix is correct ──
as.matrix(targetMatrix) not equal to as.matrix(expectedTargetMatrix).
Attributes: < Component "dimnames": Component 2: 2 string mismatches >
── Failure ('test_perTargetMatrix.R:96:5'): numeric Z-score mean matrix is correct ──
as.matrix(targetMatrix) not equal to as.matrix(expectedTargetMatrix).
Attributes: < Component "dimnames": Component 2: 2 string mismatches >
[ FAIL 2 | WARN 1 | SKIP 0 | PASS 20 ]
Error: Test failures
Execution halted
* checking for unstated dependencies in vignettes ... OK
* checking package vignettes in ‘inst/doc’ ... OK
* checking running R code from vignettes ... SKIPPED
* checking re-building of vignette outputs ... SKIPPED
* checking PDF version of manual ... OK
* DONE
Status: 1 ERROR
See
‘/Users/biocbuild/bbs-3.18-bioc-mac-arm64/meat/bioassayR.Rcheck/00check.log’
for details.
bioassayR.Rcheck/00install.out
############################################################################## ############################################################################## ### ### Running command: ### ### /Library/Frameworks/R.framework/Resources/bin/R CMD INSTALL bioassayR ### ############################################################################## ############################################################################## * installing to library ‘/Library/Frameworks/R.framework/Versions/4.3-arm64/Resources/library’ * installing *source* package ‘bioassayR’ ... ** using staged installation ** R ** data ** inst ** byte-compile and prepare package for lazy loading Creating a new generic function for ‘organism’ in package ‘bioassayR’ Creating a new generic function for ‘organism<-’ in package ‘bioassayR’ ** help *** installing help indices ** building package indices ** installing vignettes ** testing if installed package can be loaded from temporary location ** testing if installed package can be loaded from final location ** testing if installed package keeps a record of temporary installation path * DONE (bioassayR)
bioassayR.Rcheck/tests/testthat.Rout.fail
R version 4.3.3 (2024-02-29) -- "Angel Food Cake"
Copyright (C) 2024 The R Foundation for Statistical Computing
Platform: aarch64-apple-darwin20 (64-bit)
R is free software and comes with ABSOLUTELY NO WARRANTY.
You are welcome to redistribute it under certain conditions.
Type 'license()' or 'licence()' for distribution details.
R is a collaborative project with many contributors.
Type 'contributors()' for more information and
'citation()' on how to cite R or R packages in publications.
Type 'demo()' for some demos, 'help()' for on-line help, or
'help.start()' for an HTML browser interface to help.
Type 'q()' to quit R.
> library(testthat)
> library(bioassayR)
Loading required package: DBI
Loading required package: RSQLite
Loading required package: Matrix
Loading required package: rjson
Loading required package: BiocGenerics
Attaching package: 'BiocGenerics'
The following objects are masked from 'package:stats':
IQR, mad, sd, var, xtabs
The following objects are masked from 'package:base':
Filter, Find, Map, Position, Reduce, anyDuplicated, aperm, append,
as.data.frame, basename, cbind, colnames, dirname, do.call,
duplicated, eval, evalq, get, grep, grepl, intersect, is.unsorted,
lapply, mapply, match, mget, order, paste, pmax, pmax.int, pmin,
pmin.int, rank, rbind, rownames, sapply, setdiff, sort, table,
tapply, union, unique, unsplit, which.max, which.min
Attaching package: 'bioassayR'
The following objects are masked from 'package:BiocGenerics':
organism, organism<-
>
> test_check("bioassayR")
[ FAIL 2 | WARN 1 | SKIP 0 | PASS 20 ]
══ Failed tests ════════════════════════════════════════════════════════════════
── Failure ('test_perTargetMatrix.R:80:5'): numeric Z-score activesFirst matrix is correct ──
as.matrix(targetMatrix) not equal to as.matrix(expectedTargetMatrix).
Attributes: < Component "dimnames": Component 2: 2 string mismatches >
── Failure ('test_perTargetMatrix.R:96:5'): numeric Z-score mean matrix is correct ──
as.matrix(targetMatrix) not equal to as.matrix(expectedTargetMatrix).
Attributes: < Component "dimnames": Component 2: 2 string mismatches >
[ FAIL 2 | WARN 1 | SKIP 0 | PASS 20 ]
Error: Test failures
Execution halted
bioassayR.Rcheck/bioassayR-Ex.timings
| name | user | system | elapsed | |
| BioAssayDB-class | 0.001 | 0.000 | 0.001 | |
| activeAgainst | 0.024 | 0.002 | 0.028 | |
| activeTargets | 0.034 | 0.001 | 0.036 | |
| addBioassayIndex | 0.012 | 0.006 | 0.017 | |
| addDataSource | 0.015 | 0.006 | 0.021 | |
| allCids | 0.006 | 0.002 | 0.007 | |
| allTargets | 0.006 | 0.001 | 0.007 | |
| assaySetTargets | 0.345 | 0.003 | 0.350 | |
| bioactivityFingerprint | 0.188 | 0.002 | 0.192 | |
| bioassay-class | 0.021 | 0.006 | 0.031 | |
| bioassaySet-class | 0.001 | 0.001 | 0.001 | |
| connectBioassayDB | 0.010 | 0.004 | 0.014 | |
| crossReactivityProbability | 0.177 | 0.003 | 0.180 | |
| disconnectBioassayDB | 0.013 | 0.005 | 0.018 | |
| dropBioassay | 0.039 | 0.010 | 0.049 | |
| dropBioassayIndex | 0.019 | 0.013 | 0.033 | |
| getAssay | 0.007 | 0.001 | 0.008 | |
| getAssays | 0.017 | 0.002 | 0.020 | |
| getBioassaySetByCids | 0.167 | 0.004 | 0.170 | |
| inactiveTargets | 0.011 | 0.002 | 0.012 | |
| loadBioassay | 0.031 | 0.009 | 0.040 | |
| loadIdMapping | 0.011 | 0.005 | 0.016 | |
| newBioassayDB | 0.011 | 0.005 | 0.016 | |
| parsePubChemBioassay | 0.011 | 0.001 | 0.012 | |
| perTargetMatrix | 0.190 | 0.006 | 0.197 | |
| queryBioassayDB | 0.020 | 0.018 | 0.038 | |
| samplebioassay | 0.002 | 0.002 | 0.005 | |
| scaleBioassaySet | 0.025 | 0.003 | 0.029 | |
| screenedAtLeast | 0.011 | 0.002 | 0.013 | |
| selectiveAgainst | 0.071 | 0.006 | 0.077 | |
| targetSelectivity | 0.018 | 0.002 | 0.021 | |
| translateTargetId | 0.012 | 0.005 | 0.017 | |
| trinarySimilarity | 0.180 | 0.004 | 0.187 | |