| Back to Mac ARM64 build report for BioC 3.18 |
|
This page was generated on 2023-12-11 17:32:20 -0500 (Mon, 11 Dec 2023).
| Hostname | OS | Arch (*) | R version | Installed pkgs |
|---|---|---|---|---|
| kjohnson1 | macOS 13.6.1 Ventura | arm64 | 4.3.2 (2023-10-31) -- "Eye Holes" | 4392 |
| Click on any hostname to see more info about the system (e.g. compilers) (*) as reported by 'uname -p', except on Windows and Mac OS X | ||||
| Package 111/2266 | Hostname | OS / Arch | INSTALL | BUILD | CHECK | BUILD BIN | ||||||||
| autonomics 1.10.2 (landing page) Aditya Bhagwat
| kjohnson1 | macOS 13.6.1 Ventura / arm64 | OK | OK | OK | OK | ||||||||
|
To the developers/maintainers of the autonomics package: - Use the following Renviron settings to reproduce errors and warnings. - If 'R CMD check' started to fail recently on the Linux builder(s) over a missing dependency, add the missing dependency to 'Suggests:' in your DESCRIPTION file. See Renviron.bioc for more information. |
| Package: autonomics |
| Version: 1.10.2 |
| Command: /Library/Frameworks/R.framework/Resources/bin/R CMD check --install=check:autonomics.install-out.txt --library=/Library/Frameworks/R.framework/Resources/library --no-vignettes --timings autonomics_1.10.2.tar.gz |
| StartedAt: 2023-12-10 05:56:23 -0500 (Sun, 10 Dec 2023) |
| EndedAt: 2023-12-10 06:07:15 -0500 (Sun, 10 Dec 2023) |
| EllapsedTime: 652.9 seconds |
| RetCode: 0 |
| Status: OK |
| CheckDir: autonomics.Rcheck |
| Warnings: 0 |
##############################################################################
##############################################################################
###
### Running command:
###
### /Library/Frameworks/R.framework/Resources/bin/R CMD check --install=check:autonomics.install-out.txt --library=/Library/Frameworks/R.framework/Resources/library --no-vignettes --timings autonomics_1.10.2.tar.gz
###
##############################################################################
##############################################################################
* using log directory ‘/Users/biocbuild/bbs-3.18-bioc-mac-arm64/meat/autonomics.Rcheck’
* using R version 4.3.2 (2023-10-31)
* using platform: aarch64-apple-darwin20 (64-bit)
* R was compiled by
Apple clang version 14.0.0 (clang-1400.0.29.202)
GNU Fortran (GCC) 12.2.0
* running under: macOS Ventura 13.6.1
* using session charset: UTF-8
* using option ‘--no-vignettes’
* checking for file ‘autonomics/DESCRIPTION’ ... OK
* checking extension type ... Package
* this is package ‘autonomics’ version ‘1.10.2’
* package encoding: UTF-8
* checking package namespace information ... OK
* checking package dependencies ... OK
* checking if this is a source package ... OK
* checking if there is a namespace ... OK
* checking for hidden files and directories ... NOTE
Found the following hidden files and directories:
.BBSoptions
These were most likely included in error. See section ‘Package
structure’ in the ‘Writing R Extensions’ manual.
* checking for portable file names ... OK
* checking for sufficient/correct file permissions ... OK
* checking whether package ‘autonomics’ can be installed ... OK
* checking installed package size ... OK
* checking package directory ... OK
* checking ‘build’ directory ... OK
* checking DESCRIPTION meta-information ... OK
* checking top-level files ... OK
* checking for left-over files ... OK
* checking index information ... OK
* checking package subdirectories ... OK
* checking R files for non-ASCII characters ... OK
* checking R files for syntax errors ... OK
* checking whether the package can be loaded ... OK
* checking whether the package can be loaded with stated dependencies ... OK
* checking whether the package can be unloaded cleanly ... OK
* checking whether the namespace can be loaded with stated dependencies ... OK
* checking whether the namespace can be unloaded cleanly ... OK
* checking dependencies in R code ... OK
* checking S3 generic/method consistency ... OK
* checking replacement functions ... OK
* checking foreign function calls ... OK
* checking R code for possible problems ... OK
* checking Rd files ... OK
* checking Rd metadata ... OK
* checking Rd cross-references ... OK
* checking for missing documentation entries ... OK
* checking for code/documentation mismatches ... OK
* checking Rd \usage sections ... OK
* checking Rd contents ... OK
* checking for unstated dependencies in examples ... OK
* checking files in ‘vignettes’ ... OK
* checking examples ... OK
Examples with CPU (user + system) or elapsed time > 5s
user system elapsed
read_rnaseq_counts 18.740 0.928 19.714
pca 16.706 0.267 16.997
read_somascan 11.715 0.228 11.976
explore_imputations 11.414 0.443 11.861
filter_medoid 11.043 0.768 11.852
is_sig 11.534 0.157 12.057
read_rectangles 9.873 0.457 10.338
plot_detections 9.434 0.463 9.913
read_metabolon 8.282 0.426 8.711
fit_limma 8.263 0.217 8.483
biplot_covariates 8.093 0.219 8.312
summarize_fit 7.473 0.487 7.998
plot_features 5.751 0.162 5.915
biplot_corrections 5.068 0.286 5.355
analyze 4.992 0.316 5.323
subtract_baseline 4.987 0.206 5.193
* checking for unstated dependencies in ‘tests’ ... OK
* checking tests ...
Running ‘testthat.R’
OK
* checking for unstated dependencies in vignettes ... OK
* checking package vignettes in ‘inst/doc’ ... OK
* checking running R code from vignettes ... SKIPPED
* checking re-building of vignette outputs ... SKIPPED
* checking PDF version of manual ... OK
* DONE
Status: 1 NOTE
See
‘/Users/biocbuild/bbs-3.18-bioc-mac-arm64/meat/autonomics.Rcheck/00check.log’
for details.
autonomics.Rcheck/00install.out
############################################################################## ############################################################################## ### ### Running command: ### ### /Library/Frameworks/R.framework/Resources/bin/R CMD INSTALL autonomics ### ############################################################################## ############################################################################## * installing to library ‘/Library/Frameworks/R.framework/Versions/4.3-arm64/Resources/library’ * installing *source* package ‘autonomics’ ... ** using staged installation ** R ** inst ** byte-compile and prepare package for lazy loading Note: wrong number of arguments to '/' ** help *** installing help indices ** building package indices ** installing vignettes ** testing if installed package can be loaded from temporary location ** testing if installed package can be loaded from final location ** testing if installed package keeps a record of temporary installation path * DONE (autonomics)
autonomics.Rcheck/tests/testthat.Rout
R version 4.3.2 (2023-10-31) -- "Eye Holes"
Copyright (C) 2023 The R Foundation for Statistical Computing
Platform: aarch64-apple-darwin20 (64-bit)
R is free software and comes with ABSOLUTELY NO WARRANTY.
You are welcome to redistribute it under certain conditions.
Type 'license()' or 'licence()' for distribution details.
R is a collaborative project with many contributors.
Type 'contributors()' for more information and
'citation()' on how to cite R or R packages in publications.
Type 'demo()' for some demos, 'help()' for on-line help, or
'help.start()' for an HTML browser interface to help.
Type 'q()' to quit R.
> library(testthat)
> library(autonomics)
Attaching package: 'autonomics'
The following object is masked from 'package:stats':
biplot
>
> test_check("autonomics")
[ FAIL 0 | WARN 0 | SKIP 0 | PASS 103 ]
>
> proc.time()
user system elapsed
112.472 5.251 119.214
autonomics.Rcheck/autonomics-Ex.timings
| name | user | system | elapsed | |
| AUTONOMICS_DATASETS | 0 | 0 | 0 | |
| MAXQUANT_PATTERNS_PEPCOUNTS | 0.000 | 0.000 | 0.001 | |
| MAXQUANT_PATTERNS_QUANTITY | 0.000 | 0.001 | 0.000 | |
| TESTS | 0 | 0 | 0 | |
| add_smiles | 2.309 | 0.237 | 3.242 | |
| analysis | 1.823 | 0.066 | 1.936 | |
| analyze | 4.992 | 0.316 | 5.323 | |
| assert_is_valid_sumexp | 1.502 | 0.284 | 1.788 | |
| biplot | 3.461 | 0.212 | 3.684 | |
| biplot_corrections | 5.068 | 0.286 | 5.355 | |
| biplot_covariates | 8.093 | 0.219 | 8.312 | |
| center | 2.200 | 0.092 | 2.362 | |
| contrast_subgroup_cols | 0.823 | 0.106 | 0.928 | |
| contrastdefs | 2.017 | 0.069 | 2.086 | |
| counts | 2.991 | 0.147 | 3.169 | |
| counts2cpm | 1.669 | 0.100 | 1.768 | |
| counts2tpm | 0.731 | 0.025 | 0.756 | |
| cpm | 2.614 | 0.075 | 2.690 | |
| create_design | 2.528 | 0.119 | 2.649 | |
| create_sfile | 1.355 | 0.068 | 1.423 | |
| default_formula | 0.908 | 0.173 | 1.082 | |
| default_sfile | 0.205 | 0.013 | 0.217 | |
| download_data | 1.524 | 0.174 | 1.705 | |
| download_gtf | 0 | 0 | 0 | |
| dt2mat | 0.003 | 0.000 | 0.003 | |
| explore_imputations | 11.414 | 0.443 | 11.861 | |
| explore_transformations | 4.547 | 0.162 | 4.746 | |
| extract_features | 1.051 | 0.050 | 1.101 | |
| extract_rectangle | 0.856 | 0.201 | 1.057 | |
| fdata | 1.136 | 0.056 | 1.193 | |
| filter_exprs_replicated_in_some_subgroup | 1.495 | 0.212 | 1.707 | |
| filter_features | 1.015 | 0.148 | 1.164 | |
| filter_medoid | 11.043 | 0.768 | 11.852 | |
| filter_replicated | 1.371 | 0.070 | 1.441 | |
| filter_samples | 1.119 | 0.185 | 1.303 | |
| fit_limma | 8.263 | 0.217 | 8.483 | |
| flevels | 1.091 | 0.048 | 1.138 | |
| fnames | 1.104 | 0.047 | 1.151 | |
| formula2str | 0.001 | 0.001 | 0.000 | |
| fvalues | 1.032 | 0.053 | 1.086 | |
| fvars | 1.030 | 0.052 | 1.082 | |
| guess_maxquant_quantity | 2.261 | 0.104 | 2.365 | |
| guess_sep | 0.001 | 0.000 | 0.001 | |
| halfnormimpute | 1.707 | 0.115 | 1.822 | |
| impute_systematic_nondetects | 2.540 | 0.132 | 2.673 | |
| invert | 1.532 | 0.069 | 1.601 | |
| is_imputed | 1.066 | 0.055 | 1.159 | |
| is_sig | 11.534 | 0.157 | 12.057 | |
| limma | 1.909 | 0.094 | 2.005 | |
| log2counts | 1.821 | 0.127 | 1.954 | |
| log2countsratios | 1.736 | 0.102 | 1.900 | |
| log2cpm | 2.678 | 0.183 | 2.872 | |
| log2cpmratios | 1.321 | 0.152 | 1.477 | |
| log2tpm | 1.628 | 0.128 | 1.761 | |
| log2tpmratios | 1.315 | 0.100 | 1.475 | |
| log2transform | 3.790 | 0.121 | 3.924 | |
| make_volcano_dt | 1.855 | 0.089 | 1.944 | |
| matrix2sumexp | 1.617 | 0.194 | 1.812 | |
| merge_sdata | 0.833 | 0.145 | 0.978 | |
| merge_sfile | 1.781 | 0.130 | 2.018 | |
| message_df | 0.002 | 0.000 | 0.002 | |
| occupancies | 1.339 | 0.060 | 1.399 | |
| pca | 16.706 | 0.267 | 16.997 | |
| plot_boxplots | 4.643 | 0.155 | 4.812 | |
| plot_contrastogram | 1.293 | 0.199 | 1.495 | |
| plot_data | 1.823 | 0.160 | 1.996 | |
| plot_densities | 2.646 | 0.208 | 2.871 | |
| plot_detections | 9.434 | 0.463 | 9.913 | |
| plot_features | 5.751 | 0.162 | 5.915 | |
| plot_venn | 4.691 | 0.170 | 4.863 | |
| plot_violins | 4.530 | 0.269 | 4.802 | |
| plot_volcano | 2.532 | 0.107 | 2.656 | |
| preprocess_rnaseq_counts | 2.669 | 0.175 | 2.850 | |
| proteingroups | 1.347 | 0.051 | 1.400 | |
| read_affymetrix | 1.092 | 0.084 | 1.177 | |
| read_metabolon | 8.282 | 0.426 | 8.711 | |
| read_proteingroups | 4.595 | 0.105 | 4.708 | |
| read_rectangles | 9.873 | 0.457 | 10.338 | |
| read_rnaseq_counts | 18.740 | 0.928 | 19.714 | |
| read_somascan | 11.715 | 0.228 | 11.976 | |
| rm_singleton_samples | 0.730 | 0.022 | 0.752 | |
| scaledlibsizes | 1.710 | 0.151 | 1.862 | |
| sdata | 1.102 | 0.060 | 1.164 | |
| slevels | 1.082 | 0.055 | 1.138 | |
| snames | 1.025 | 0.053 | 1.078 | |
| split_by_svar | 0.999 | 0.054 | 1.054 | |
| split_extract | 0.775 | 0.097 | 0.876 | |
| standardize_maxquant_snames | 0.002 | 0.001 | 0.002 | |
| subgroup_matrix | 0.792 | 0.109 | 0.902 | |
| subtract_baseline | 4.987 | 0.206 | 5.193 | |
| sumexp2mae | 2.049 | 0.237 | 2.290 | |
| sumexp_to_long_dt | 4.408 | 0.369 | 4.817 | |
| summarize_fit | 7.473 | 0.487 | 7.998 | |
| svalues | 1.083 | 0.075 | 1.166 | |
| svars | 1.027 | 0.055 | 1.086 | |
| tpm | 1.791 | 0.082 | 1.882 | |
| values | 1.090 | 0.061 | 1.157 | |
| venn_detects | 0.987 | 0.050 | 1.041 | |
| weights | 1.856 | 0.124 | 2.008 | |
| zero_to_na | 0.016 | 0.002 | 0.019 | |