| Back to Mac ARM64 build report for BioC 3.18 |
|
This page was generated on 2024-04-18 11:32:06 -0400 (Thu, 18 Apr 2024).
| Hostname | OS | Arch (*) | R version | Installed pkgs |
|---|---|---|---|---|
| kjohnson1 | macOS 13.6.1 Ventura | arm64 | 4.3.3 (2024-02-29) -- "Angel Food Cake" | 4388 |
| Click on any hostname to see more info about the system (e.g. compilers) (*) as reported by 'uname -p', except on Windows and Mac OS X | ||||
| Package 25/2266 | Hostname | OS / Arch | INSTALL | BUILD | CHECK | BUILD BIN | ||||||||
| affyContam 1.60.0 (landing page) V. Carey
| kjohnson1 | macOS 13.6.1 Ventura / arm64 | OK | OK | OK | OK | ||||||||
|
To the developers/maintainers of the affyContam package: - Use the following Renviron settings to reproduce errors and warnings. - If 'R CMD check' started to fail recently on the Linux builder(s) over a missing dependency, add the missing dependency to 'Suggests:' in your DESCRIPTION file. See Renviron.bioc for more information. |
| Package: affyContam |
| Version: 1.60.0 |
| Command: /Library/Frameworks/R.framework/Resources/bin/R CMD INSTALL affyContam |
| StartedAt: 2024-04-16 10:17:03 -0400 (Tue, 16 Apr 2024) |
| EndedAt: 2024-04-16 10:17:14 -0400 (Tue, 16 Apr 2024) |
| EllapsedTime: 11.3 seconds |
| RetCode: 0 |
| Status: OK |
##############################################################################
##############################################################################
###
### Running command:
###
### /Library/Frameworks/R.framework/Resources/bin/R CMD INSTALL affyContam
###
##############################################################################
##############################################################################
* installing to library ‘/Library/Frameworks/R.framework/Versions/4.3-arm64/Resources/library’
* installing *source* package ‘affyContam’ ...
** using staged installation
** R
** byte-compile and prepare package for lazy loading
Package
[1,] "affydata"
LibPath
[1,] "/Library/Frameworks/R.framework/Versions/4.3-arm64/Resources/library"
Item Title
[1,] "Dilution" "AffyBatch instance Dilution"
** help
*** installing help indices
** building package indices
** installing vignettes
** testing if installed package can be loaded from temporary location
Package
[1,] "affydata"
LibPath
[1,] "/Library/Frameworks/R.framework/Versions/4.3-arm64/Resources/library"
Item Title
[1,] "Dilution" "AffyBatch instance Dilution"
** testing if installed package can be loaded from final location
Package
[1,] "affydata"
LibPath
[1,] "/Library/Frameworks/R.framework/Versions/4.3-arm64/Resources/library"
Item Title
[1,] "Dilution" "AffyBatch instance Dilution"
** testing if installed package keeps a record of temporary installation path
* DONE (affyContam)