| Back to Mac ARM64 build report for BioC 3.18 |
|
This page was generated on 2024-04-18 11:32:21 -0400 (Thu, 18 Apr 2024).
| Hostname | OS | Arch (*) | R version | Installed pkgs |
|---|---|---|---|---|
| kjohnson1 | macOS 13.6.1 Ventura | arm64 | 4.3.3 (2024-02-29) -- "Angel Food Cake" | 4388 |
| Click on any hostname to see more info about the system (e.g. compilers) (*) as reported by 'uname -p', except on Windows and Mac OS X | ||||
| Package 2208/2266 | Hostname | OS / Arch | INSTALL | BUILD | CHECK | BUILD BIN | ||||||||
| Uniquorn 2.22.0 (landing page) 'Raik Otto'
| kjohnson1 | macOS 13.6.1 Ventura / arm64 | OK | OK | OK | NA | ||||||||
|
To the developers/maintainers of the Uniquorn package: - Use the following Renviron settings to reproduce errors and warnings. - If 'R CMD check' started to fail recently on the Linux builder(s) over a missing dependency, add the missing dependency to 'Suggests:' in your DESCRIPTION file. See Renviron.bioc for more information. |
| Package: Uniquorn |
| Version: 2.22.0 |
| Command: /Library/Frameworks/R.framework/Resources/bin/R CMD check --install=check:Uniquorn.install-out.txt --library=/Library/Frameworks/R.framework/Resources/library --no-vignettes --timings Uniquorn_2.22.0.tar.gz |
| StartedAt: 2024-04-18 07:11:18 -0400 (Thu, 18 Apr 2024) |
| EndedAt: 2024-04-18 07:17:49 -0400 (Thu, 18 Apr 2024) |
| EllapsedTime: 390.5 seconds |
| RetCode: 0 |
| Status: OK |
| CheckDir: Uniquorn.Rcheck |
| Warnings: 0 |
##############################################################################
##############################################################################
###
### Running command:
###
### /Library/Frameworks/R.framework/Resources/bin/R CMD check --install=check:Uniquorn.install-out.txt --library=/Library/Frameworks/R.framework/Resources/library --no-vignettes --timings Uniquorn_2.22.0.tar.gz
###
##############################################################################
##############################################################################
* using log directory ‘/Users/biocbuild/bbs-3.18-bioc-mac-arm64/meat/Uniquorn.Rcheck’
* using R version 4.3.3 (2024-02-29)
* using platform: aarch64-apple-darwin20 (64-bit)
* R was compiled by
Apple clang version 14.0.0 (clang-1400.0.29.202)
GNU Fortran (GCC) 12.2.0
* running under: macOS Ventura 13.6.1
* using session charset: UTF-8
* using option ‘--no-vignettes’
* checking for file ‘Uniquorn/DESCRIPTION’ ... OK
* checking extension type ... Package
* this is package ‘Uniquorn’ version ‘2.22.0’
* package encoding: UTF-8
* checking package namespace information ... OK
* checking package dependencies ... OK
* checking if this is a source package ... OK
* checking if there is a namespace ... OK
* checking for hidden files and directories ... OK
* checking for portable file names ... OK
* checking for sufficient/correct file permissions ... OK
* checking whether package ‘Uniquorn’ can be installed ... OK
* checking installed package size ... NOTE
installed size is 7.6Mb
sub-directories of 1Mb or more:
extdata 6.5Mb
* checking package directory ... OK
* checking ‘build’ directory ... OK
* checking DESCRIPTION meta-information ... OK
* checking top-level files ... OK
* checking for left-over files ... OK
* checking index information ... OK
* checking package subdirectories ... OK
* checking R files for non-ASCII characters ... OK
* checking R files for syntax errors ... OK
* checking whether the package can be loaded ... OK
* checking whether the package can be loaded with stated dependencies ... OK
* checking whether the package can be unloaded cleanly ... OK
* checking whether the namespace can be loaded with stated dependencies ... OK
* checking whether the namespace can be unloaded cleanly ... OK
* checking dependencies in R code ... OK
* checking S3 generic/method consistency ... OK
* checking replacement functions ... OK
* checking foreign function calls ... OK
* checking R code for possible problems ... NOTE
add_p_q_values_statistics: no visible binding for '<<-' assignment to
‘sig_vec’
add_p_q_values_statistics: no visible binding for global variable
‘sig_vec’
create_bed_file: no visible binding for global variable ‘res_table’
create_bed_file: no visible binding for global variable ‘sim_list’
identify_vcf_file: no visible binding for global variable
‘vcf_fingerprint’
identify_vcf_file: no visible binding for global variable
‘output_file_xls’
init_and_load_identification: no visible global function definition for
‘tail’
parse_ccle_genotype_data: no visible binding for global variable
‘Cell_line’
parse_ccle_genotype_data: no visible binding for global variable ‘.SD’
parse_ccle_genotype_data: no visible binding for global variable
‘Index’
parse_cosmic_genotype_data: no visible binding for global variable
‘position’
parse_cosmic_genotype_data: no visible binding for global variable
‘.SD’
parse_cosmic_genotype_data: no visible binding for global variable
‘Index’
show_contained_ccls: no visible binding for '<<-' assignment to
‘ccls_all’
show_contained_ccls: no visible binding for global variable ‘ccls_all’
write_w0_and_split_w0_into_lower_weights: no visible binding for '<<-'
assignment to ‘g_mat_exclude’
write_w0_and_split_w0_into_lower_weights: no visible binding for global
variable ‘g_mat_exclude’
Undefined global functions or variables:
.SD Cell_line Index ccls_all g_mat_exclude output_file_xls position
res_table sig_vec sim_list tail vcf_fingerprint
Consider adding
importFrom("utils", "tail")
to your NAMESPACE file.
* checking Rd files ... OK
* checking Rd metadata ... OK
* checking Rd cross-references ... OK
* checking for missing documentation entries ... OK
* checking for code/documentation mismatches ... OK
* checking Rd \usage sections ... OK
* checking Rd contents ... OK
* checking for unstated dependencies in examples ... OK
* checking files in ‘vignettes’ ... OK
* checking examples ... OK
Examples with CPU (user + system) or elapsed time > 5s
user system elapsed
add_custom_vcf_to_database 6.23 0.238 6.833
* checking for unstated dependencies in ‘tests’ ... OK
* checking tests ...
Running ‘testthat.R’
OK
* checking for unstated dependencies in vignettes ... OK
* checking package vignettes in ‘inst/doc’ ... OK
* checking running R code from vignettes ... SKIPPED
* checking re-building of vignette outputs ... SKIPPED
* checking PDF version of manual ... OK
* DONE
Status: 2 NOTEs
See
‘/Users/biocbuild/bbs-3.18-bioc-mac-arm64/meat/Uniquorn.Rcheck/00check.log’
for details.
Uniquorn.Rcheck/00install.out
############################################################################## ############################################################################## ### ### Running command: ### ### /Library/Frameworks/R.framework/Resources/bin/R CMD INSTALL Uniquorn ### ############################################################################## ############################################################################## * installing to library ‘/Library/Frameworks/R.framework/Versions/4.3-arm64/Resources/library’ * installing *source* package ‘Uniquorn’ ... ** using staged installation ** R ** inst ** byte-compile and prepare package for lazy loading ** help *** installing help indices ** building package indices ** installing vignettes ** testing if installed package can be loaded from temporary location ** testing if installed package can be loaded from final location ** testing if installed package keeps a record of temporary installation path * DONE (Uniquorn)
Uniquorn.Rcheck/tests/testthat.Rout
R version 4.3.3 (2024-02-29) -- "Angel Food Cake"
Copyright (C) 2024 The R Foundation for Statistical Computing
Platform: aarch64-apple-darwin20 (64-bit)
R is free software and comes with ABSOLUTELY NO WARRANTY.
You are welcome to redistribute it under certain conditions.
Type 'license()' or 'licence()' for distribution details.
R is a collaborative project with many contributors.
Type 'contributors()' for more information and
'citation()' on how to cite R or R packages in publications.
Type 'demo()' for some demos, 'help()' for on-line help, or
'help.start()' for an HTML browser interface to help.
Type 'q()' to quit R.
> Sys.setenv(R_TESTS="")
> library("testthat")
> library("Uniquorn")
>
> test_check("Uniquorn")
[ FAIL 0 | WARN 0 | SKIP 0 | PASS 21 ]
>
> proc.time()
user system elapsed
25.208 1.022 26.872
Uniquorn.Rcheck/Uniquorn-Ex.timings
| name | user | system | elapsed | |
| add_custom_vcf_to_database | 6.230 | 0.238 | 6.833 | |
| identify_vcf_file | 0.631 | 0.022 | 0.730 | |
| initiate_canonical_databases | 0.001 | 0.000 | 0.002 | |
| read_library_names | 0.002 | 0.001 | 0.002 | |
| remove_ccls_from_database | 0.642 | 0.010 | 0.657 | |
| remove_library_from_database | 0.002 | 0.001 | 0.003 | |
| show_contained_ccls | 0.009 | 0.003 | 0.011 | |
| show_contained_variants_for_ccl | 0.084 | 0.006 | 0.089 | |
| show_contained_variants_in_library | 0.049 | 0.003 | 0.053 | |
| show_which_ccls_contain_variant | 0.078 | 0.005 | 0.084 | |