| Back to Mac ARM64 build report for BioC 3.18 |
|
This page was generated on 2024-04-18 11:32:20 -0400 (Thu, 18 Apr 2024).
| Hostname | OS | Arch (*) | R version | Installed pkgs |
|---|---|---|---|---|
| kjohnson1 | macOS 13.6.1 Ventura | arm64 | 4.3.3 (2024-02-29) -- "Angel Food Cake" | 4388 |
| Click on any hostname to see more info about the system (e.g. compilers) (*) as reported by 'uname -p', except on Windows and Mac OS X | ||||
| Package 2109/2266 | Hostname | OS / Arch | INSTALL | BUILD | CHECK | BUILD BIN | ||||||||
| TargetSearch 2.4.2 (landing page) Alvaro Cuadros-Inostroza
| kjohnson1 | macOS 13.6.1 Ventura / arm64 | OK | OK | OK | NA | ||||||||
|
To the developers/maintainers of the TargetSearch package: - Use the following Renviron settings to reproduce errors and warnings. - If 'R CMD check' started to fail recently on the Linux builder(s) over a missing dependency, add the missing dependency to 'Suggests:' in your DESCRIPTION file. See Renviron.bioc for more information. |
| Package: TargetSearch |
| Version: 2.4.2 |
| Command: /Library/Frameworks/R.framework/Resources/bin/R CMD check --install=check:TargetSearch.install-out.txt --library=/Library/Frameworks/R.framework/Resources/library --no-vignettes --timings TargetSearch_2.4.2.tar.gz |
| StartedAt: 2024-04-18 06:00:52 -0400 (Thu, 18 Apr 2024) |
| EndedAt: 2024-04-18 06:03:45 -0400 (Thu, 18 Apr 2024) |
| EllapsedTime: 173.0 seconds |
| RetCode: 0 |
| Status: OK |
| CheckDir: TargetSearch.Rcheck |
| Warnings: 0 |
##############################################################################
##############################################################################
###
### Running command:
###
### /Library/Frameworks/R.framework/Resources/bin/R CMD check --install=check:TargetSearch.install-out.txt --library=/Library/Frameworks/R.framework/Resources/library --no-vignettes --timings TargetSearch_2.4.2.tar.gz
###
##############################################################################
##############################################################################
* using log directory ‘/Users/biocbuild/bbs-3.18-bioc-mac-arm64/meat/TargetSearch.Rcheck’
* using R version 4.3.3 (2024-02-29)
* using platform: aarch64-apple-darwin20 (64-bit)
* R was compiled by
Apple clang version 14.0.0 (clang-1400.0.29.202)
GNU Fortran (GCC) 12.2.0
* running under: macOS Ventura 13.6.1
* using session charset: UTF-8
* using option ‘--no-vignettes’
* checking for file ‘TargetSearch/DESCRIPTION’ ... OK
* checking extension type ... Package
* this is package ‘TargetSearch’ version ‘2.4.2’
* checking package namespace information ... OK
* checking package dependencies ... OK
* checking if this is a source package ... OK
* checking if there is a namespace ... OK
* checking for hidden files and directories ... OK
* checking for portable file names ... OK
* checking for sufficient/correct file permissions ... OK
* checking whether package ‘TargetSearch’ can be installed ... OK
* used C compiler: ‘Apple clang version 15.0.0 (clang-1500.0.40.1)’
* used SDK: ‘MacOSX11.3.sdk’
* checking installed package size ... OK
* checking package directory ... OK
* checking ‘build’ directory ... OK
* checking DESCRIPTION meta-information ... OK
* checking top-level files ... OK
* checking for left-over files ... OK
* checking index information ... OK
* checking package subdirectories ... OK
* checking R files for non-ASCII characters ... OK
* checking R files for syntax errors ... OK
* checking whether the package can be loaded ... OK
* checking whether the package can be loaded with stated dependencies ... OK
* checking whether the package can be unloaded cleanly ... OK
* checking whether the namespace can be loaded with stated dependencies ... OK
* checking whether the namespace can be unloaded cleanly ... OK
* checking dependencies in R code ... OK
* checking S3 generic/method consistency ... OK
* checking replacement functions ... OK
* checking foreign function calls ... OK
* checking R code for possible problems ... OK
* checking Rd files ... OK
* checking Rd metadata ... OK
* checking Rd cross-references ... OK
* checking for missing documentation entries ... OK
* checking for code/documentation mismatches ... OK
* checking Rd \usage sections ... OK
* checking Rd contents ... OK
* checking for unstated dependencies in examples ... OK
* checking contents of ‘data’ directory ... OK
* checking data for non-ASCII characters ... OK
* checking data for ASCII and uncompressed saves ... OK
* checking line endings in C/C++/Fortran sources/headers ... OK
* checking compiled code ... NOTE
Note: information on .o files is not available
* checking sizes of PDF files under ‘inst/doc’ ... OK
* checking installed files from ‘inst/doc’ ... OK
* checking files in ‘vignettes’ ... OK
* checking examples ... OK
Examples with CPU (user + system) or elapsed time > 5s
user system elapsed
RIcorrect 14.333 1.746 16.653
* checking for unstated dependencies in ‘tests’ ... OK
* checking tests ...
Running ‘tinytest.R’
OK
* checking for unstated dependencies in vignettes ... OK
* checking package vignettes in ‘inst/doc’ ... OK
* checking running R code from vignettes ... SKIPPED
* checking re-building of vignette outputs ... SKIPPED
* checking PDF version of manual ... OK
* DONE
Status: 1 NOTE
See
‘/Users/biocbuild/bbs-3.18-bioc-mac-arm64/meat/TargetSearch.Rcheck/00check.log’
for details.
TargetSearch.Rcheck/00install.out
############################################################################## ############################################################################## ### ### Running command: ### ### /Library/Frameworks/R.framework/Resources/bin/R CMD INSTALL TargetSearch ### ############################################################################## ############################################################################## * installing to library ‘/Library/Frameworks/R.framework/Versions/4.3-arm64/Resources/library’ * installing *source* package ‘TargetSearch’ ... ** using staged installation ** libs using C compiler: ‘Apple clang version 15.0.0 (clang-1500.0.40.1)’ using SDK: ‘MacOSX11.3.sdk’ clang -arch arm64 -I"/Library/Frameworks/R.framework/Resources/include" -DNDEBUG -I/opt/R/arm64/include -fPIC -falign-functions=64 -Wall -g -O2 -c Rinit.c -o Rinit.o clang -arch arm64 -I"/Library/Frameworks/R.framework/Resources/include" -DNDEBUG -I/opt/R/arm64/include -fPIC -falign-functions=64 -Wall -g -O2 -c baseline.c -o baseline.o clang -arch arm64 -I"/Library/Frameworks/R.framework/Resources/include" -DNDEBUG -I/opt/R/arm64/include -fPIC -falign-functions=64 -Wall -g -O2 -c detection.c -o detection.o clang -arch arm64 -I"/Library/Frameworks/R.framework/Resources/include" -DNDEBUG -I/opt/R/arm64/include -fPIC -falign-functions=64 -Wall -g -O2 -c file.c -o file.o clang -arch arm64 -I"/Library/Frameworks/R.framework/Resources/include" -DNDEBUG -I/opt/R/arm64/include -fPIC -falign-functions=64 -Wall -g -O2 -c find.c -o find.o clang -arch arm64 -I"/Library/Frameworks/R.framework/Resources/include" -DNDEBUG -I/opt/R/arm64/include -fPIC -falign-functions=64 -Wall -g -O2 -c get_line.c -o get_line.o clang -arch arm64 -I"/Library/Frameworks/R.framework/Resources/include" -DNDEBUG -I/opt/R/arm64/include -fPIC -falign-functions=64 -Wall -g -O2 -c hpf.c -o hpf.o clang -arch arm64 -I"/Library/Frameworks/R.framework/Resources/include" -DNDEBUG -I/opt/R/arm64/include -fPIC -falign-functions=64 -Wall -g -O2 -c matrix.c -o matrix.o clang -arch arm64 -I"/Library/Frameworks/R.framework/Resources/include" -DNDEBUG -I/opt/R/arm64/include -fPIC -falign-functions=64 -Wall -g -O2 -c ncdf.c -o ncdf.o clang -arch arm64 -I"/Library/Frameworks/R.framework/Resources/include" -DNDEBUG -I/opt/R/arm64/include -fPIC -falign-functions=64 -Wall -g -O2 -c peak.c -o peak.o clang -arch arm64 -I"/Library/Frameworks/R.framework/Resources/include" -DNDEBUG -I/opt/R/arm64/include -fPIC -falign-functions=64 -Wall -g -O2 -c spectrum.c -o spectrum.o clang -arch arm64 -I"/Library/Frameworks/R.framework/Resources/include" -DNDEBUG -I/opt/R/arm64/include -fPIC -falign-functions=64 -Wall -g -O2 -c strutils.c -o strutils.o clang -arch arm64 -I"/Library/Frameworks/R.framework/Resources/include" -DNDEBUG -I/opt/R/arm64/include -fPIC -falign-functions=64 -Wall -g -O2 -c utils.c -o utils.o clang -arch arm64 -dynamiclib -Wl,-headerpad_max_install_names -undefined dynamic_lookup -L/Library/Frameworks/R.framework/Resources/lib -L/opt/R/arm64/lib -o TargetSearch.so Rinit.o baseline.o detection.o file.o find.o get_line.o hpf.o matrix.o ncdf.o peak.o spectrum.o strutils.o utils.o -F/Library/Frameworks/R.framework/.. -framework R -Wl,-framework -Wl,CoreFoundation installing to /Library/Frameworks/R.framework/Versions/4.3-arm64/Resources/library/00LOCK-TargetSearch/00new/TargetSearch/libs ** R ** data ** inst ** byte-compile and prepare package for lazy loading ** help *** installing help indices ** building package indices ** installing vignettes ** testing if installed package can be loaded from temporary location ** checking absolute paths in shared objects and dynamic libraries ** testing if installed package can be loaded from final location ** testing if installed package keeps a record of temporary installation path * DONE (TargetSearch)
TargetSearch.Rcheck/tests/tinytest.Rout
R version 4.3.3 (2024-02-29) -- "Angel Food Cake"
Copyright (C) 2024 The R Foundation for Statistical Computing
Platform: aarch64-apple-darwin20 (64-bit)
R is free software and comes with ABSOLUTELY NO WARRANTY.
You are welcome to redistribute it under certain conditions.
Type 'license()' or 'licence()' for distribution details.
R is a collaborative project with many contributors.
Type 'contributors()' for more information and
'citation()' on how to cite R or R packages in publications.
Type 'demo()' for some demos, 'help()' for on-line help, or
'help.start()' for an HTML browser interface to help.
Type 'q()' to quit R.
> if ( requireNamespace("tinytest", quietly=TRUE) && requireNamespace("TargetSearchData", quietly=TRUE)) {
+ tinytest::test_package("TargetSearch", color=FALSE, verbose=1)
+ }
Loading required package: TargetSearchData
test_FindAllPeaks.R........... 19 tests OK 1.7s
test_file.R................... 4 tests OK 0.1s
test_ncdf4_plot_peak.R........ 7 tests OK 0.4s
test_quantMatrix.R............ 6 tests OK 78ms
test_ri_data_extract.R........ 6 tests OK 4.9s
test_ri_plot_peak.R........... 22 tests OK 0.2s
test_tsLib.R.................. 12 tests OK 17ms
test_tsRim.R.................. 6 tests OK 5ms
test_tsSample.R............... 9 tests OK 9ms
test_write_ri_file.R.......... 6 tests OK 10ms
All ok, 97 results (7.5s)
>
> proc.time()
user system elapsed
7.497 0.296 7.895
TargetSearch.Rcheck/TargetSearch-Ex.timings
| name | user | system | elapsed | |
| FAMEoutliers | 0.043 | 0.008 | 0.051 | |
| FindAllPeaks | 1.354 | 0.048 | 1.459 | |
| FindPeaks | 0.235 | 0.008 | 0.255 | |
| ImportFameSettings | 0.016 | 0.002 | 0.018 | |
| ImportLibrary | 0.026 | 0.002 | 0.035 | |
| ImportSamples | 0.014 | 0.003 | 0.019 | |
| NetCDFPeakFinding | 0.287 | 0.036 | 0.342 | |
| Profile | 0.897 | 0.030 | 0.969 | |
| ProfileCleanUp | 0.798 | 0.027 | 0.857 | |
| RIcorrect | 14.333 | 1.746 | 16.653 | |
| TSExample | 2.036 | 0.248 | 2.319 | |
| Write.Results | 0.060 | 0.011 | 0.078 | |
| baseline | 0.390 | 0.032 | 0.440 | |
| baselineCorrection | 0.398 | 0.024 | 0.424 | |
| baselineCorrectionQuant | 0.551 | 0.023 | 0.578 | |
| checkRimLim | 1.353 | 0.087 | 1.457 | |
| file | 0.096 | 0.013 | 0.109 | |
| fixRI | 1.370 | 0.091 | 1.494 | |
| medianRILib | 0.479 | 0.021 | 0.512 | |
| ncdf4Convert-method | 0.077 | 0.011 | 0.089 | |
| ncdf4_convert | 0.021 | 0.002 | 0.024 | |
| ncdf4_convert_from_path | 3.083 | 0.470 | 3.616 | |
| ncdf4_data_extract | 0.575 | 0.086 | 0.686 | |
| ncdf4_plot_peak | 1.385 | 0.242 | 1.770 | |
| ncdf4_update_ri | 0.393 | 0.062 | 0.478 | |
| peakCDFextraction | 0.684 | 0.089 | 0.826 | |
| peakFind | 0.253 | 0.014 | 0.279 | |
| plotFAME | 0.009 | 0.004 | 0.014 | |
| plotPeak | 0.289 | 0.031 | 0.339 | |
| plotPeakRI | 0.938 | 0.045 | 1.032 | |
| plotPeakSimple | 0.512 | 0.038 | 0.597 | |
| plotRIdev | 0.379 | 0.023 | 0.426 | |
| plotSpectra | 0.254 | 0.013 | 0.269 | |
| quantMatrix | 0.776 | 0.026 | 0.808 | |
| ri2rt | 0.003 | 0.000 | 0.004 | |
| riMatrix | 1.196 | 0.083 | 1.308 | |
| ri_data_extract | 0.051 | 0.005 | 0.056 | |
| ri_plot_peak | 1.371 | 0.047 | 1.452 | |
| rt2ri | 0.003 | 0.000 | 0.003 | |
| sampleRI | 0.495 | 0.018 | 0.523 | |
| tsLib-class | 0.018 | 0.002 | 0.020 | |
| tsMSdata-class | 0.012 | 0.022 | 0.033 | |
| tsProfile-class | 0.009 | 0.004 | 0.014 | |
| tsRim-class | 0.002 | 0.000 | 0.003 | |
| tsSample-class | 0.021 | 0.003 | 0.025 | |
| tsUpdate-method | 0 | 0 | 0 | |
| updateRI | 1.024 | 0.130 | 1.176 | |
| writeLibText | 0.023 | 0.002 | 0.024 | |
| writeMSP | 0.022 | 0.004 | 0.025 | |