| Back to Mac ARM64 build report for BioC 3.18 |
|
This page was generated on 2024-04-18 11:32:20 -0400 (Thu, 18 Apr 2024).
| Hostname | OS | Arch (*) | R version | Installed pkgs |
|---|---|---|---|---|
| kjohnson1 | macOS 13.6.1 Ventura | arm64 | 4.3.3 (2024-02-29) -- "Angel Food Cake" | 4388 |
| Click on any hostname to see more info about the system (e.g. compilers) (*) as reported by 'uname -p', except on Windows and Mac OS X | ||||
| Package 2117/2266 | Hostname | OS / Arch | INSTALL | BUILD | CHECK | BUILD BIN | ||||||||
| TEKRABber 1.6.0 (landing page) Yao-Chung Chen
| kjohnson1 | macOS 13.6.1 Ventura / arm64 | OK | OK | OK | NA | ||||||||
|
To the developers/maintainers of the TEKRABber package: - Use the following Renviron settings to reproduce errors and warnings. - If 'R CMD check' started to fail recently on the Linux builder(s) over a missing dependency, add the missing dependency to 'Suggests:' in your DESCRIPTION file. See Renviron.bioc for more information. |
| Package: TEKRABber |
| Version: 1.6.0 |
| Command: /Library/Frameworks/R.framework/Resources/bin/R CMD check --install=check:TEKRABber.install-out.txt --library=/Library/Frameworks/R.framework/Resources/library --no-vignettes --timings TEKRABber_1.6.0.tar.gz |
| StartedAt: 2024-04-18 06:06:53 -0400 (Thu, 18 Apr 2024) |
| EndedAt: 2024-04-18 06:15:57 -0400 (Thu, 18 Apr 2024) |
| EllapsedTime: 543.9 seconds |
| RetCode: 0 |
| Status: OK |
| CheckDir: TEKRABber.Rcheck |
| Warnings: 0 |
##############################################################################
##############################################################################
###
### Running command:
###
### /Library/Frameworks/R.framework/Resources/bin/R CMD check --install=check:TEKRABber.install-out.txt --library=/Library/Frameworks/R.framework/Resources/library --no-vignettes --timings TEKRABber_1.6.0.tar.gz
###
##############################################################################
##############################################################################
* using log directory ‘/Users/biocbuild/bbs-3.18-bioc-mac-arm64/meat/TEKRABber.Rcheck’
* using R version 4.3.3 (2024-02-29)
* using platform: aarch64-apple-darwin20 (64-bit)
* R was compiled by
Apple clang version 14.0.0 (clang-1400.0.29.202)
GNU Fortran (GCC) 12.2.0
* running under: macOS Ventura 13.6.1
* using session charset: UTF-8
* using option ‘--no-vignettes’
* checking for file ‘TEKRABber/DESCRIPTION’ ... OK
* checking extension type ... Package
* this is package ‘TEKRABber’ version ‘1.6.0’
* package encoding: UTF-8
* checking package namespace information ... OK
* checking package dependencies ... OK
* checking if this is a source package ... OK
* checking if there is a namespace ... OK
* checking for hidden files and directories ... OK
* checking for portable file names ... OK
* checking for sufficient/correct file permissions ... OK
* checking whether package ‘TEKRABber’ can be installed ... OK
* used C++ compiler: ‘Apple clang version 15.0.0 (clang-1500.0.40.1)’
* used SDK: ‘MacOSX11.3.sdk’
* checking installed package size ... OK
* checking package directory ... OK
* checking ‘build’ directory ... OK
* checking DESCRIPTION meta-information ... OK
* checking top-level files ... OK
* checking for left-over files ... OK
* checking index information ... OK
* checking package subdirectories ... NOTE
Problems with news in ‘NEWS.md’:
No news entries found.
* checking R files for non-ASCII characters ... OK
* checking R files for syntax errors ... OK
* checking whether the package can be loaded ... OK
* checking whether the package can be loaded with stated dependencies ... OK
* checking whether the package can be unloaded cleanly ... OK
* checking whether the namespace can be loaded with stated dependencies ... OK
* checking whether the namespace can be unloaded cleanly ... OK
* checking startup messages can be suppressed ... OK
* checking dependencies in R code ... OK
* checking S3 generic/method consistency ... OK
* checking replacement functions ... OK
* checking foreign function calls ... OK
* checking R code for possible problems ... NOTE
File ‘TEKRABber/R/zzz.R’:
.onLoad calls:
packageStartupMessage("Welcome to TEKRABber version 1.6.0")
See section ‘Good practice’ in '?.onAttach'.
appTEKRABber: no visible global function definition for ‘grid_page’
appTEKRABber: no visible global function definition for
‘grid_card_text’
appTEKRABber: no visible global function definition for ‘grid_card’
appTEKRABber: no visible global function definition for ‘card_header’
appTEKRABber: no visible global function definition for ‘card_body’
appTEKRABber: no visible global function definition for
‘selectizeInput’
appTEKRABber: no visible global function definition for ‘actionButton’
appTEKRABber: no visible global function definition for ‘plotlyOutput’
appTEKRABber: no visible global function definition for ‘plotOutput’
appTEKRABber : server: no visible global function definition for
‘renderPlotly’
appTEKRABber : server: no visible global function definition for
‘plot_ly’
appTEKRABber : server: no visible global function definition for
‘observeEvent’
appTEKRABber : server: no visible global function definition for
‘renderPlot’
appTEKRABber : server: no visible global function definition for
‘ggplot’
appTEKRABber : server: no visible global function definition for ‘aes’
appTEKRABber : server: no visible binding for global variable ‘gene’
appTEKRABber : server: no visible binding for global variable ‘TE’
appTEKRABber : server: no visible global function definition for
‘geom_point’
appTEKRABber : server: no visible global function definition for ‘labs’
appTEKRABber : server: no visible global function definition for
‘geom_smooth’
appTEKRABber : server: no visible global function definition for
‘theme_bw’
appTEKRABber : server: no visible global function definition for
‘ggtitle’
appTEKRABber : server: no visible global function definition for
‘ggviolin’
appTEKRABber : server: no visible global function definition for ‘ylab’
appTEKRABber : server: no visible global function definition for ‘xlab’
appTEKRABber : server: no visible global function definition for
‘theme’
appTEKRABber: no visible global function definition for ‘shinyApp’
orthologScale: no visible global function definition for ‘desc’
orthologScale: no visible binding for global variable
‘orthologyConfidence’
orthologScale: no visible binding for global variable ‘refLength’
orthologScale: no visible binding for global variable ‘compareLength’
orthologScale: no visible global function definition for ‘across’
orthologScale: no visible binding for global variable ‘refLen’
orthologScale: no visible binding for global variable ‘compareLen’
Undefined global functions or variables:
TE across actionButton aes card_body card_header compareLen
compareLength desc gene geom_point geom_smooth ggplot ggtitle
ggviolin grid_card grid_card_text grid_page labs observeEvent
orthologyConfidence plotOutput plot_ly plotlyOutput refLen refLength
renderPlot renderPlotly selectizeInput shinyApp theme theme_bw xlab
ylab
* checking Rd files ... OK
* checking Rd metadata ... OK
* checking Rd cross-references ... OK
* checking for missing documentation entries ... OK
* checking for code/documentation mismatches ... OK
* checking Rd \usage sections ... OK
* checking Rd contents ... OK
* checking for unstated dependencies in examples ... OK
* checking contents of ‘data’ directory ... OK
* checking data for non-ASCII characters ... OK
* checking data for ASCII and uncompressed saves ... OK
* checking line endings in C/C++/Fortran sources/headers ... OK
* checking compiled code ... NOTE
Note: information on .o files is not available
* checking files in ‘vignettes’ ... OK
* checking examples ... OK
Examples with CPU (user + system) or elapsed time > 5s
user system elapsed
DECorrInputs 41.657 1.055 50.232
corrOrthologTE 37.388 0.367 37.909
orthologScale 36.303 1.351 41.413
DEgeneTE 27.561 0.455 28.561
appTEKRABber 25.304 0.433 26.415
* checking for unstated dependencies in ‘tests’ ... OK
* checking tests ...
Running ‘testthat.R’
OK
* checking for unstated dependencies in vignettes ... OK
* checking package vignettes in ‘inst/doc’ ... OK
* checking running R code from vignettes ... SKIPPED
* checking re-building of vignette outputs ... SKIPPED
* checking PDF version of manual ... OK
* DONE
Status: 3 NOTEs
See
‘/Users/biocbuild/bbs-3.18-bioc-mac-arm64/meat/TEKRABber.Rcheck/00check.log’
for details.
TEKRABber.Rcheck/00install.out
############################################################################## ############################################################################## ### ### Running command: ### ### /Library/Frameworks/R.framework/Resources/bin/R CMD INSTALL TEKRABber ### ############################################################################## ############################################################################## * installing to library ‘/Library/Frameworks/R.framework/Versions/4.3-arm64/Resources/library’ * installing *source* package ‘TEKRABber’ ... ** using staged installation ** libs using C++ compiler: ‘Apple clang version 15.0.0 (clang-1500.0.40.1)’ using SDK: ‘MacOSX11.3.sdk’ clang++ -arch arm64 -std=gnu++17 -I"/Library/Frameworks/R.framework/Resources/include" -DNDEBUG -I'/Library/Frameworks/R.framework/Versions/4.3-arm64/Resources/library/Rcpp/include' -I/opt/R/arm64/include -fPIC -falign-functions=64 -Wall -g -O2 -c RcppExports.cpp -o RcppExports.o clang++ -arch arm64 -std=gnu++17 -I"/Library/Frameworks/R.framework/Resources/include" -DNDEBUG -I'/Library/Frameworks/R.framework/Versions/4.3-arm64/Resources/library/Rcpp/include' -I/opt/R/arm64/include -fPIC -falign-functions=64 -Wall -g -O2 -c rcpp_corr.cpp -o rcpp_corr.o clang++ -arch arm64 -std=gnu++17 -dynamiclib -Wl,-headerpad_max_install_names -undefined dynamic_lookup -L/Library/Frameworks/R.framework/Resources/lib -L/opt/R/arm64/lib -o TEKRABber.so RcppExports.o rcpp_corr.o -F/Library/Frameworks/R.framework/.. -framework R -Wl,-framework -Wl,CoreFoundation installing to /Library/Frameworks/R.framework/Versions/4.3-arm64/Resources/library/00LOCK-TEKRABber/00new/TEKRABber/libs ** R ** data ** byte-compile and prepare package for lazy loading ** help *** installing help indices ** building package indices ** installing vignettes ** testing if installed package can be loaded from temporary location ** checking absolute paths in shared objects and dynamic libraries ** testing if installed package can be loaded from final location ** testing if installed package keeps a record of temporary installation path * DONE (TEKRABber)
TEKRABber.Rcheck/tests/testthat.Rout
R version 4.3.3 (2024-02-29) -- "Angel Food Cake"
Copyright (C) 2024 The R Foundation for Statistical Computing
Platform: aarch64-apple-darwin20 (64-bit)
R is free software and comes with ABSOLUTELY NO WARRANTY.
You are welcome to redistribute it under certain conditions.
Type 'license()' or 'licence()' for distribution details.
R is a collaborative project with many contributors.
Type 'contributors()' for more information and
'citation()' on how to cite R or R packages in publications.
Type 'demo()' for some demos, 'help()' for on-line help, or
'help.start()' for an HTML browser interface to help.
Type 'q()' to quit R.
> library("testthat")
> library("TEKRABber")
Welcome to TEKRABber version 1.6.0
> test_check("TEKRABber")
[ FAIL 0 | WARN 0 | SKIP 1 | PASS 10 ]
══ Skipped tests (1) ═══════════════════════════════════════════════════════════
• On CRAN (1): 'test-corrOrthologTE.R:31:5'
[ FAIL 0 | WARN 0 | SKIP 1 | PASS 10 ]
>
> proc.time()
user system elapsed
129.023 2.616 140.202
TEKRABber.Rcheck/TEKRABber-Ex.timings
| name | user | system | elapsed | |
| DECorrInputs | 41.657 | 1.055 | 50.232 | |
| DEgeneTE | 27.561 | 0.455 | 28.561 | |
| appTEKRABber | 25.304 | 0.433 | 26.415 | |
| corrOrthologTE | 37.388 | 0.367 | 37.909 | |
| ctInputDE | 0.287 | 0.005 | 0.300 | |
| fetchDataHmChimp | 1.123 | 0.491 | 1.621 | |
| hg38_panTro6_rmsk | 0.110 | 0.004 | 0.114 | |
| orthologScale | 36.303 | 1.351 | 41.413 | |
| speciesCounts | 0.555 | 0.010 | 0.576 | |