| Back to Mac ARM64 build report for BioC 3.18 |
|
This page was generated on 2024-04-18 11:32:19 -0400 (Thu, 18 Apr 2024).
| Hostname | OS | Arch (*) | R version | Installed pkgs |
|---|---|---|---|---|
| kjohnson1 | macOS 13.6.1 Ventura | arm64 | 4.3.3 (2024-02-29) -- "Angel Food Cake" | 4388 |
| Click on any hostname to see more info about the system (e.g. compilers) (*) as reported by 'uname -p', except on Windows and Mac OS X | ||||
| Package 1986/2266 | Hostname | OS / Arch | INSTALL | BUILD | CHECK | BUILD BIN | ||||||||
| SMITE 1.30.0 (landing page) Neil Ari Wijetunga
| kjohnson1 | macOS 13.6.1 Ventura / arm64 | OK | OK | OK | OK | ||||||||
|
To the developers/maintainers of the SMITE package: - Use the following Renviron settings to reproduce errors and warnings. - If 'R CMD check' started to fail recently on the Linux builder(s) over a missing dependency, add the missing dependency to 'Suggests:' in your DESCRIPTION file. See Renviron.bioc for more information. |
| Package: SMITE |
| Version: 1.30.0 |
| Command: /Library/Frameworks/R.framework/Resources/bin/R CMD check --install=check:SMITE.install-out.txt --library=/Library/Frameworks/R.framework/Resources/library --no-vignettes --timings SMITE_1.30.0.tar.gz |
| StartedAt: 2024-04-18 04:23:49 -0400 (Thu, 18 Apr 2024) |
| EndedAt: 2024-04-18 04:29:57 -0400 (Thu, 18 Apr 2024) |
| EllapsedTime: 367.9 seconds |
| RetCode: 0 |
| Status: OK |
| CheckDir: SMITE.Rcheck |
| Warnings: 0 |
##############################################################################
##############################################################################
###
### Running command:
###
### /Library/Frameworks/R.framework/Resources/bin/R CMD check --install=check:SMITE.install-out.txt --library=/Library/Frameworks/R.framework/Resources/library --no-vignettes --timings SMITE_1.30.0.tar.gz
###
##############################################################################
##############################################################################
* using log directory ‘/Users/biocbuild/bbs-3.18-bioc-mac-arm64/meat/SMITE.Rcheck’
* using R version 4.3.3 (2024-02-29)
* using platform: aarch64-apple-darwin20 (64-bit)
* R was compiled by
Apple clang version 14.0.0 (clang-1400.0.29.202)
GNU Fortran (GCC) 12.2.0
* running under: macOS Ventura 13.6.1
* using session charset: UTF-8
* using option ‘--no-vignettes’
* checking for file ‘SMITE/DESCRIPTION’ ... OK
* checking extension type ... Package
* this is package ‘SMITE’ version ‘1.30.0’
* checking package namespace information ... OK
* checking package dependencies ... OK
* checking if this is a source package ... OK
* checking if there is a namespace ... OK
* checking for hidden files and directories ... OK
* checking for portable file names ... OK
* checking for sufficient/correct file permissions ... OK
* checking whether package ‘SMITE’ can be installed ... OK
* checking installed package size ... OK
* checking package directory ... OK
* checking ‘build’ directory ... OK
* checking DESCRIPTION meta-information ... OK
* checking top-level files ... OK
* checking for left-over files ... OK
* checking index information ... OK
* checking package subdirectories ... OK
* checking R files for non-ASCII characters ... OK
* checking R files for syntax errors ... OK
* checking whether the package can be loaded ... OK
* checking whether the package can be loaded with stated dependencies ... OK
* checking whether the package can be unloaded cleanly ... OK
* checking whether the namespace can be loaded with stated dependencies ... OK
* checking whether the namespace can be unloaded cleanly ... OK
* checking dependencies in R code ... OK
* checking S3 generic/method consistency ... OK
* checking replacement functions ... OK
* checking foreign function calls ... OK
* checking R code for possible problems ... OK
* checking Rd files ... OK
* checking Rd metadata ... OK
* checking Rd cross-references ... OK
* checking for missing documentation entries ... OK
* checking for code/documentation mismatches ... OK
* checking Rd \usage sections ... OK
* checking Rd contents ... OK
* checking for unstated dependencies in examples ... OK
* checking contents of ‘data’ directory ... OK
* checking data for non-ASCII characters ... OK
* checking data for ASCII and uncompressed saves ... OK
* checking sizes of PDF files under ‘inst/doc’ ... OK
* checking files in ‘vignettes’ ... OK
* checking examples ... OK
Examples with CPU (user + system) or elapsed time > 5s
user system elapsed
convertGeneIds 4.782 0.286 5.121
* checking for unstated dependencies in vignettes ... OK
* checking package vignettes in ‘inst/doc’ ... OK
* checking running R code from vignettes ... SKIPPED
* checking re-building of vignette outputs ... SKIPPED
* checking PDF version of manual ... OK
* DONE
Status: OK
SMITE.Rcheck/00install.out
############################################################################## ############################################################################## ### ### Running command: ### ### /Library/Frameworks/R.framework/Resources/bin/R CMD INSTALL SMITE ### ############################################################################## ############################################################################## * installing to library ‘/Library/Frameworks/R.framework/Versions/4.3-arm64/Resources/library’ * installing *source* package ‘SMITE’ ... ** using staged installation ** R ** data ** inst ** byte-compile and prepare package for lazy loading ** help *** installing help indices ** building package indices ** installing vignettes ** testing if installed package can be loaded from temporary location ** testing if installed package can be loaded from final location ** testing if installed package keeps a record of temporary installation path * DONE (SMITE)
SMITE.Rcheck/SMITE-Ex.timings
| name | user | system | elapsed | |
| Reactome.Symbol.Igraph | 0.130 | 0.009 | 0.140 | |
| SMITE-package | 0.601 | 0.019 | 0.624 | |
| addShadowText | 0.003 | 0.001 | 0.004 | |
| annotateExpression | 0.285 | 0.009 | 0.309 | |
| annotateModification | 0.000 | 0.001 | 0.000 | |
| convertGeneIds | 4.782 | 0.286 | 5.121 | |
| curated_expression | 0.077 | 0.002 | 0.079 | |
| extractExpression | 0.262 | 0.008 | 0.270 | |
| extractGOseq | 0.111 | 0.003 | 0.116 | |
| extractModification | 1.027 | 0.024 | 1.067 | |
| extractModules | 0.122 | 0.004 | 0.127 | |
| extractScores | 0.125 | 0.004 | 0.129 | |
| genes_for_conversiontest | 1.918 | 0.017 | 1.961 | |
| hg19_gene_bed | 0.187 | 0.004 | 0.191 | |
| highScores | 0.130 | 0.004 | 0.134 | |
| histone_h3k4me1 | 0.095 | 0.003 | 0.099 | |
| makePvalueAnnotation | 0.780 | 0.021 | 0.808 | |
| makePvalueObject | 0.087 | 0.004 | 0.092 | |
| methylationdata | 0.086 | 0.003 | 0.089 | |
| normalizePval | 0.128 | 0.003 | 0.133 | |
| plotCompareScores | 0.633 | 0.029 | 0.678 | |
| plotDensityPval | 0.167 | 0.007 | 0.176 | |
| plotModule | 0.127 | 0.004 | 0.132 | |
| removeModification | 0.088 | 0.004 | 0.096 | |
| runBioNet | 0.130 | 0.003 | 0.134 | |
| runGOseq | 0.135 | 0.003 | 0.138 | |
| runSpinglass | 0.745 | 0.049 | 0.836 | |
| scorePval | 0.128 | 0.004 | 0.138 | |
| stoufferTest | 0.002 | 0.000 | 0.002 | |
| test_annotation_score_data | 0.218 | 0.010 | 0.243 | |