| Back to Mac ARM64 build report for BioC 3.18 |
|
This page was generated on 2024-04-18 11:32:17 -0400 (Thu, 18 Apr 2024).
| Hostname | OS | Arch (*) | R version | Installed pkgs |
|---|---|---|---|---|
| kjohnson1 | macOS 13.6.1 Ventura | arm64 | 4.3.3 (2024-02-29) -- "Angel Food Cake" | 4388 |
| Click on any hostname to see more info about the system (e.g. compilers) (*) as reported by 'uname -p', except on Windows and Mac OS X | ||||
| Package 1733/2266 | Hostname | OS / Arch | INSTALL | BUILD | CHECK | BUILD BIN | ||||||||
| RgnTX 1.4.0 (landing page) Yue Wang
| kjohnson1 | macOS 13.6.1 Ventura / arm64 | OK | OK | OK | OK | ||||||||
|
To the developers/maintainers of the RgnTX package: - Use the following Renviron settings to reproduce errors and warnings. - If 'R CMD check' started to fail recently on the Linux builder(s) over a missing dependency, add the missing dependency to 'Suggests:' in your DESCRIPTION file. See Renviron.bioc for more information. |
| Package: RgnTX |
| Version: 1.4.0 |
| Command: /Library/Frameworks/R.framework/Resources/bin/R CMD check --install=check:RgnTX.install-out.txt --library=/Library/Frameworks/R.framework/Resources/library --no-vignettes --timings RgnTX_1.4.0.tar.gz |
| StartedAt: 2024-04-18 01:07:12 -0400 (Thu, 18 Apr 2024) |
| EndedAt: 2024-04-18 01:17:49 -0400 (Thu, 18 Apr 2024) |
| EllapsedTime: 636.7 seconds |
| RetCode: 0 |
| Status: OK |
| CheckDir: RgnTX.Rcheck |
| Warnings: 0 |
##############################################################################
##############################################################################
###
### Running command:
###
### /Library/Frameworks/R.framework/Resources/bin/R CMD check --install=check:RgnTX.install-out.txt --library=/Library/Frameworks/R.framework/Resources/library --no-vignettes --timings RgnTX_1.4.0.tar.gz
###
##############################################################################
##############################################################################
* using log directory ‘/Users/biocbuild/bbs-3.18-bioc-mac-arm64/meat/RgnTX.Rcheck’
* using R version 4.3.3 (2024-02-29)
* using platform: aarch64-apple-darwin20 (64-bit)
* R was compiled by
Apple clang version 14.0.0 (clang-1400.0.29.202)
GNU Fortran (GCC) 12.2.0
* running under: macOS Ventura 13.6.1
* using session charset: UTF-8
* using option ‘--no-vignettes’
* checking for file ‘RgnTX/DESCRIPTION’ ... OK
* this is package ‘RgnTX’ version ‘1.4.0’
* package encoding: UTF-8
* checking package namespace information ... OK
* checking package dependencies ... OK
* checking if this is a source package ... OK
* checking if there is a namespace ... OK
* checking for hidden files and directories ... OK
* checking for portable file names ... OK
* checking for sufficient/correct file permissions ... OK
* checking whether package ‘RgnTX’ can be installed ... OK
* checking installed package size ... OK
* checking package directory ... OK
* checking ‘build’ directory ... OK
* checking DESCRIPTION meta-information ... OK
* checking top-level files ... OK
* checking for left-over files ... OK
* checking index information ... OK
* checking package subdirectories ... OK
* checking R files for non-ASCII characters ... OK
* checking R files for syntax errors ... OK
* checking whether the package can be loaded ... OK
* checking whether the package can be loaded with stated dependencies ... OK
* checking whether the package can be unloaded cleanly ... OK
* checking whether the namespace can be loaded with stated dependencies ... OK
* checking whether the namespace can be unloaded cleanly ... OK
* checking dependencies in R code ... OK
* checking S3 generic/method consistency ... OK
* checking replacement functions ... OK
* checking foreign function calls ... OK
* checking R code for possible problems ... OK
* checking Rd files ... OK
* checking Rd metadata ... OK
* checking Rd cross-references ... OK
* checking for missing documentation entries ... OK
* checking for code/documentation mismatches ... OK
* checking Rd \usage sections ... OK
* checking Rd contents ... OK
* checking for unstated dependencies in examples ... OK
* checking files in ‘vignettes’ ... OK
* checking examples ... OK
Examples with CPU (user + system) or elapsed time > 5s
user system elapsed
shiftedZScoreTx 40.927 1.445 42.571
permTestTxIA_customPick 24.826 0.499 25.367
permTestTxIA 23.043 0.548 23.675
permTestTx 22.959 0.492 23.529
permTestTx_customPick 17.854 0.291 18.232
permTestTx_customAll 17.114 0.296 17.452
overlapCountsTxIA 10.687 0.313 11.048
distanceTx 8.703 0.175 9.153
overlapWidthTx 8.106 0.223 8.341
getStopCodon 8.181 0.143 8.359
randomizeFeaturesTx 7.317 0.127 7.454
GRangesList2GRanges 6.598 0.228 6.907
randomizeTx 4.958 0.124 5.088
getPermSpaceByTxID 4.581 0.114 5.161
* checking for unstated dependencies in ‘tests’ ... OK
* checking tests ...
Running ‘testthat.R’
OK
* checking for unstated dependencies in vignettes ... OK
* checking package vignettes in ‘inst/doc’ ... OK
* checking running R code from vignettes ... SKIPPED
* checking re-building of vignette outputs ... SKIPPED
* checking PDF version of manual ... OK
* DONE
Status: OK
RgnTX.Rcheck/00install.out
############################################################################## ############################################################################## ### ### Running command: ### ### /Library/Frameworks/R.framework/Resources/bin/R CMD INSTALL RgnTX ### ############################################################################## ############################################################################## * installing to library ‘/Library/Frameworks/R.framework/Versions/4.3-arm64/Resources/library’ * installing *source* package ‘RgnTX’ ... ** using staged installation ** R ** inst ** byte-compile and prepare package for lazy loading ** help *** installing help indices ** building package indices ** installing vignettes ** testing if installed package can be loaded from temporary location ** testing if installed package can be loaded from final location ** testing if installed package keeps a record of temporary installation path * DONE (RgnTX)
RgnTX.Rcheck/tests/testthat.Rout
R version 4.3.3 (2024-02-29) -- "Angel Food Cake"
Copyright (C) 2024 The R Foundation for Statistical Computing
Platform: aarch64-apple-darwin20 (64-bit)
R is free software and comes with ABSOLUTELY NO WARRANTY.
You are welcome to redistribute it under certain conditions.
Type 'license()' or 'licence()' for distribution details.
R is a collaborative project with many contributors.
Type 'contributors()' for more information and
'citation()' on how to cite R or R packages in publications.
Type 'demo()' for some demos, 'help()' for on-line help, or
'help.start()' for an HTML browser interface to help.
Type 'q()' to quit R.
> library(testthat)
> library(RgnTX)
>
> test_check("RgnTX")
Loading required package: GenomicFeatures
Loading required package: BiocGenerics
Attaching package: 'BiocGenerics'
The following objects are masked from 'package:stats':
IQR, mad, sd, var, xtabs
The following objects are masked from 'package:base':
Filter, Find, Map, Position, Reduce, anyDuplicated, aperm, append,
as.data.frame, basename, cbind, colnames, dirname, do.call,
duplicated, eval, evalq, get, grep, grepl, intersect, is.unsorted,
lapply, mapply, match, mget, order, paste, pmax, pmax.int, pmin,
pmin.int, rank, rbind, rownames, sapply, setdiff, sort, table,
tapply, union, unique, unsplit, which.max, which.min
Loading required package: S4Vectors
Loading required package: stats4
Attaching package: 'S4Vectors'
The following object is masked from 'package:utils':
findMatches
The following objects are masked from 'package:base':
I, expand.grid, unname
Loading required package: IRanges
Loading required package: GenomeInfoDb
Loading required package: GenomicRanges
Loading required package: AnnotationDbi
Loading required package: Biobase
Welcome to Bioconductor
Vignettes contain introductory material; view with
'browseVignettes()'. To cite Bioconductor, see
'citation("Biobase")', and for packages 'citation("pkgname")'.
[ FAIL 0 | WARN 0 | SKIP 0 | PASS 42 ]
>
> proc.time()
user system elapsed
61.205 1.683 63.213
RgnTX.Rcheck/RgnTX-Ex.timings
| name | user | system | elapsed | |
| GRanges2GRangesList | 0.228 | 0.010 | 0.246 | |
| GRangesList2GRanges | 6.598 | 0.228 | 6.907 | |
| calculateShift | 2.949 | 0.094 | 3.097 | |
| distanceTx | 8.703 | 0.175 | 9.153 | |
| extractRegions | 2.952 | 0.073 | 3.068 | |
| getPermSpaceByFeatures | 4.191 | 0.158 | 4.505 | |
| getPermSpaceByTxID | 4.581 | 0.114 | 5.161 | |
| getPermSpaceByType | 2.596 | 0.065 | 2.663 | |
| getStopCodon | 8.181 | 0.143 | 8.359 | |
| getTransInfo | 0.825 | 0.066 | 0.894 | |
| overlapCountsTx | 4.212 | 0.082 | 4.318 | |
| overlapCountsTxIA | 10.687 | 0.313 | 11.048 | |
| overlapWidthTx | 8.106 | 0.223 | 8.341 | |
| permTestTx | 22.959 | 0.492 | 23.529 | |
| permTestTxIA | 23.043 | 0.548 | 23.675 | |
| permTestTxIA_customPick | 24.826 | 0.499 | 25.367 | |
| permTestTx_customAll | 17.114 | 0.296 | 17.452 | |
| permTestTx_customPick | 17.854 | 0.291 | 18.232 | |
| plotPermResults | 0.553 | 0.011 | 0.566 | |
| plotShiftedZScoreTx | 0.134 | 0.003 | 0.137 | |
| randomizeFeaturesTx | 7.317 | 0.127 | 7.454 | |
| randomizeFeaturesTxIA | 4.794 | 0.095 | 4.897 | |
| randomizeTransByOrder | 4.681 | 0.065 | 4.747 | |
| randomizeTx | 4.958 | 0.124 | 5.088 | |
| shiftTx | 2.848 | 0.068 | 2.927 | |
| shiftedZScoreTx | 40.927 | 1.445 | 42.571 | |