| Back to Mac ARM64 build report for BioC 3.18 |
|
This page was generated on 2024-04-18 11:32:13 -0400 (Thu, 18 Apr 2024).
| Hostname | OS | Arch (*) | R version | Installed pkgs |
|---|---|---|---|---|
| kjohnson1 | macOS 13.6.1 Ventura | arm64 | 4.3.3 (2024-02-29) -- "Angel Food Cake" | 4388 |
| Click on any hostname to see more info about the system (e.g. compilers) (*) as reported by 'uname -p', except on Windows and Mac OS X | ||||
| Package 1155/2266 | Hostname | OS / Arch | INSTALL | BUILD | CHECK | BUILD BIN | ||||||||
| MassSpecWavelet 1.68.0 (landing page) Sergio Oller Moreno
| kjohnson1 | macOS 13.6.1 Ventura / arm64 | OK | OK | OK | OK | ||||||||
|
To the developers/maintainers of the MassSpecWavelet package: - Use the following Renviron settings to reproduce errors and warnings. - If 'R CMD check' started to fail recently on the Linux builder(s) over a missing dependency, add the missing dependency to 'Suggests:' in your DESCRIPTION file. See Renviron.bioc for more information. |
| Package: MassSpecWavelet |
| Version: 1.68.0 |
| Command: /Library/Frameworks/R.framework/Resources/bin/R CMD check --install=check:MassSpecWavelet.install-out.txt --library=/Library/Frameworks/R.framework/Resources/library --no-vignettes --timings MassSpecWavelet_1.68.0.tar.gz |
| StartedAt: 2024-04-17 18:19:02 -0400 (Wed, 17 Apr 2024) |
| EndedAt: 2024-04-17 18:19:41 -0400 (Wed, 17 Apr 2024) |
| EllapsedTime: 39.6 seconds |
| RetCode: 0 |
| Status: OK |
| CheckDir: MassSpecWavelet.Rcheck |
| Warnings: 0 |
##############################################################################
##############################################################################
###
### Running command:
###
### /Library/Frameworks/R.framework/Resources/bin/R CMD check --install=check:MassSpecWavelet.install-out.txt --library=/Library/Frameworks/R.framework/Resources/library --no-vignettes --timings MassSpecWavelet_1.68.0.tar.gz
###
##############################################################################
##############################################################################
* using log directory ‘/Users/biocbuild/bbs-3.18-bioc-mac-arm64/meat/MassSpecWavelet.Rcheck’
* using R version 4.3.3 (2024-02-29)
* using platform: aarch64-apple-darwin20 (64-bit)
* R was compiled by
Apple clang version 14.0.0 (clang-1400.0.29.202)
GNU Fortran (GCC) 12.2.0
* running under: macOS Ventura 13.6.1
* using session charset: UTF-8
* using option ‘--no-vignettes’
* checking for file ‘MassSpecWavelet/DESCRIPTION’ ... OK
* checking extension type ... Package
* this is package ‘MassSpecWavelet’ version ‘1.68.0’
* package encoding: UTF-8
* checking package namespace information ... OK
* checking package dependencies ... OK
* checking if this is a source package ... OK
* checking if there is a namespace ... OK
* checking for hidden files and directories ... OK
* checking for portable file names ... OK
* checking for sufficient/correct file permissions ... OK
* checking whether package ‘MassSpecWavelet’ can be installed ... OK
* used C compiler: ‘Apple clang version 15.0.0 (clang-1500.0.40.1)’
* used SDK: ‘MacOSX11.3.sdk’
* checking installed package size ... OK
* checking package directory ... OK
* checking ‘build’ directory ... OK
* checking DESCRIPTION meta-information ... OK
* checking top-level files ... OK
* checking for left-over files ... OK
* checking index information ... OK
* checking package subdirectories ... OK
* checking R files for non-ASCII characters ... OK
* checking R files for syntax errors ... OK
* checking whether the package can be loaded ... OK
* checking whether the package can be loaded with stated dependencies ... OK
* checking whether the package can be unloaded cleanly ... OK
* checking whether the namespace can be loaded with stated dependencies ... OK
* checking whether the namespace can be unloaded cleanly ... OK
* checking dependencies in R code ... OK
* checking S3 generic/method consistency ... OK
* checking replacement functions ... OK
* checking foreign function calls ... OK
* checking R code for possible problems ... OK
* checking Rd files ... NOTE
checkRd: (-1) exampleMS.Rd:16: Escaped LaTeX specials: \#
checkRd: (-1) extendNBase.Rd:13: Escaped LaTeX specials: \^
checkRd: (-1) getRidge.Rd:45: Escaped LaTeX specials: \_
* checking Rd metadata ... OK
* checking Rd cross-references ... OK
* checking for missing documentation entries ... OK
* checking for code/documentation mismatches ... OK
* checking Rd \usage sections ... OK
* checking Rd contents ... OK
* checking for unstated dependencies in examples ... OK
* checking contents of ‘data’ directory ... OK
* checking data for non-ASCII characters ... OK
* checking data for ASCII and uncompressed saves ... OK
* checking line endings in C/C++/Fortran sources/headers ... OK
* checking compiled code ... NOTE
Note: information on .o files is not available
* checking files in ‘vignettes’ ... OK
* checking examples ... OK
* checking for unstated dependencies in ‘tests’ ... OK
* checking tests ...
Running ‘runit.R’
OK
* checking for unstated dependencies in vignettes ... OK
* checking package vignettes in ‘inst/doc’ ... OK
* checking running R code from vignettes ... SKIPPED
* checking re-building of vignette outputs ... SKIPPED
* checking PDF version of manual ... OK
* DONE
Status: 2 NOTEs
See
‘/Users/biocbuild/bbs-3.18-bioc-mac-arm64/meat/MassSpecWavelet.Rcheck/00check.log’
for details.
MassSpecWavelet.Rcheck/00install.out
############################################################################## ############################################################################## ### ### Running command: ### ### /Library/Frameworks/R.framework/Resources/bin/R CMD INSTALL MassSpecWavelet ### ############################################################################## ############################################################################## * installing to library ‘/Library/Frameworks/R.framework/Versions/4.3-arm64/Resources/library’ * installing *source* package ‘MassSpecWavelet’ ... ** using staged installation ** libs using C compiler: ‘Apple clang version 15.0.0 (clang-1500.0.40.1)’ using SDK: ‘MacOSX11.3.sdk’ clang -arch arm64 -I"/Library/Frameworks/R.framework/Resources/include" -DNDEBUG -I/opt/R/arm64/include -fPIC -falign-functions=64 -Wall -g -O2 -c find_local_maximum.c -o find_local_maximum.o clang -arch arm64 -I"/Library/Frameworks/R.framework/Resources/include" -DNDEBUG -I/opt/R/arm64/include -fPIC -falign-functions=64 -Wall -g -O2 -c init.c -o init.o clang -arch arm64 -dynamiclib -Wl,-headerpad_max_install_names -undefined dynamic_lookup -L/Library/Frameworks/R.framework/Resources/lib -L/opt/R/arm64/lib -o MassSpecWavelet.so find_local_maximum.o init.o -F/Library/Frameworks/R.framework/.. -framework R -Wl,-framework -Wl,CoreFoundation installing to /Library/Frameworks/R.framework/Versions/4.3-arm64/Resources/library/00LOCK-MassSpecWavelet/00new/MassSpecWavelet/libs ** R ** data ** inst ** byte-compile and prepare package for lazy loading ** help *** installing help indices ** building package indices ** installing vignettes ** testing if installed package can be loaded from temporary location ** checking absolute paths in shared objects and dynamic libraries ** testing if installed package can be loaded from final location ** testing if installed package keeps a record of temporary installation path * DONE (MassSpecWavelet)
MassSpecWavelet.Rcheck/tests/runit.Rout
R version 4.3.3 (2024-02-29) -- "Angel Food Cake"
Copyright (C) 2024 The R Foundation for Statistical Computing
Platform: aarch64-apple-darwin20 (64-bit)
R is free software and comes with ABSOLUTELY NO WARRANTY.
You are welcome to redistribute it under certain conditions.
Type 'license()' or 'licence()' for distribution details.
R is a collaborative project with many contributors.
Type 'contributors()' for more information and
'citation()' on how to cite R or R packages in publications.
Type 'demo()' for some demos, 'help()' for on-line help, or
'help.start()' for an HTML browser interface to help.
Type 'q()' to quit R.
> stopifnot(require(RUnit, quietly = TRUE))
> stopifnot(require(MassSpecWavelet, quietly = TRUE))
> ## Define tests
> testSuite <- defineTestSuite(name = "MassSpecWavelet Unit Tests",
+ dirs = system.file("tests", package = "MassSpecWavelet"),
+ testFuncRegexp = "^[Tt]est+",
+ rngKind = "Mersenne-Twister",
+ rngNormalKind = "Inversion"
+ )
> tests <- runTestSuite(testSuite) # Run tests
Executing test function test01_cwt ... done successfully.
Executing test function test02_cwt ... done successfully.
Executing test function test01_localMaximum ... done successfully.
Executing test function test02_checkIdenticalResults_classic_vs_faster ... done successfully.
Executing test function test03_check_new_does_not_miss_maxima ... done successfully.
Executing test function test01_peakDetection ... done successfully.
Executing test function test02_peakDetection ... done successfully.
> printTextProtocol(tests) # Print results
RUNIT TEST PROTOCOL -- Wed Apr 17 18:19:31 2024
***********************************************
Number of test functions: 7
Number of errors: 0
Number of failures: 0
1 Test Suite :
MassSpecWavelet Unit Tests - 7 test functions, 0 errors, 0 failures
Details
***************************
Test Suite: MassSpecWavelet Unit Tests
Test function regexp: ^[Tt]est+
Test file regexp: ^runit.+\.[rR]$
Involved directory:
/Library/Frameworks/R.framework/Versions/4.3-arm64/Resources/library/MassSpecWavelet/tests
---------------------------
Test file: /Library/Frameworks/R.framework/Versions/4.3-arm64/Resources/library/MassSpecWavelet/tests/runit.cwt.R
test01_cwt: (1 checks) ... OK (0.01 seconds)
test02_cwt: (2 checks) ... OK (0.01 seconds)
---------------------------
Test file: /Library/Frameworks/R.framework/Versions/4.3-arm64/Resources/library/MassSpecWavelet/tests/runit.localMaximum.R
test01_localMaximum: (1 checks) ... OK (0 seconds)
test02_checkIdenticalResults_classic_vs_faster: (240 checks) ... OK (1.53 seconds)
test03_check_new_does_not_miss_maxima: (240 checks) ... OK (0.18 seconds)
---------------------------
Test file: /Library/Frameworks/R.framework/Versions/4.3-arm64/Resources/library/MassSpecWavelet/tests/runit.peakDetectionCWT.R
test01_peakDetection: (3 checks) ... OK (0.01 seconds)
test02_peakDetection: (2 checks) ... OK (0.01 seconds)
> # Return success or failure to R CMD CHECK
> if (getErrors(tests)$nFail > 0) stop("TEST FAILED!")
> if (getErrors(tests)$nErr > 0) stop("TEST HAD ERRORS!")
> if (getErrors(tests)$nTestFunc < 1) stop("NO TEST FUNCTIONS RUN!")
>
> proc.time()
user system elapsed
1.835 0.150 2.054
MassSpecWavelet.Rcheck/MassSpecWavelet-Ex.timings
| name | user | system | elapsed | |
| MassSpecWavelet-package | 0.886 | 0.071 | 0.959 | |
| cwt | 0.973 | 0.086 | 1.060 | |
| extendLength | 0 | 0 | 0 | |
| extendNBase | 0.000 | 0.001 | 0.000 | |
| getLocalMaximumCWT | 0.298 | 0.016 | 0.316 | |
| getRidge | 0.110 | 0.015 | 0.127 | |
| getRidgeLength | 0 | 0 | 0 | |
| identifyMajorPeaks | 1.824 | 0.138 | 1.986 | |
| localMaximum | 0.086 | 0.002 | 0.088 | |
| mexh | 0.001 | 0.002 | 0.002 | |
| peakDetectionCWT | 3.490 | 0.293 | 3.803 | |
| plotLocalMax | 0.119 | 0.009 | 0.127 | |
| plotPeak | 0.837 | 0.108 | 0.959 | |
| plotRidgeList | 0.186 | 0.018 | 0.205 | |
| prepareWavelets | 0.001 | 0.000 | 0.002 | |
| tuneInPeakInfo | 0.832 | 0.113 | 0.997 | |