| Back to Mac ARM64 build report for BioC 3.18 | 
  | 
This page was generated on 2024-04-18 11:32:14 -0400 (Thu, 18 Apr 2024).
| Hostname | OS | Arch (*) | R version | Installed pkgs | 
|---|---|---|---|---|
| kjohnson1 | macOS 13.6.1 Ventura | arm64 | 4.3.3 (2024-02-29) -- "Angel Food Cake" | 4388 | 
| Click on any hostname to see more info about the system (e.g. compilers) (*) as reported by 'uname -p', except on Windows and Mac OS X | ||||
| Package 1337/2266 | Hostname | OS / Arch | INSTALL | BUILD | CHECK | BUILD BIN | ||||||||
| MSnID 1.36.0  (landing page) Vlad Petyuk 
  | kjohnson1 | macOS 13.6.1 Ventura / arm64 | OK | OK | ERROR | OK | ||||||||
| 
To the developers/maintainers of the MSnID package: - Use the following Renviron settings to reproduce errors and warnings. - If 'R CMD check' started to fail recently on the Linux builder(s) over a missing dependency, add the missing dependency to 'Suggests:' in your DESCRIPTION file. See Renviron.bioc for more information.  | 
| Package: MSnID | 
| Version: 1.36.0 | 
| Command: /Library/Frameworks/R.framework/Resources/bin/R CMD check --install=check:MSnID.install-out.txt --library=/Library/Frameworks/R.framework/Resources/library --no-vignettes --timings MSnID_1.36.0.tar.gz | 
| StartedAt: 2024-04-17 20:34:19 -0400 (Wed, 17 Apr 2024) | 
| EndedAt: 2024-04-17 20:40:53 -0400 (Wed, 17 Apr 2024) | 
| EllapsedTime: 394.0 seconds | 
| RetCode: 1 | 
| Status: ERROR | 
| CheckDir: MSnID.Rcheck | 
| Warnings: NA | 
##############################################################################
##############################################################################
###
### Running command:
###
###   /Library/Frameworks/R.framework/Resources/bin/R CMD check --install=check:MSnID.install-out.txt --library=/Library/Frameworks/R.framework/Resources/library --no-vignettes --timings MSnID_1.36.0.tar.gz
###
##############################################################################
##############################################################################
* using log directory ‘/Users/biocbuild/bbs-3.18-bioc-mac-arm64/meat/MSnID.Rcheck’
* using R version 4.3.3 (2024-02-29)
* using platform: aarch64-apple-darwin20 (64-bit)
* R was compiled by
    Apple clang version 14.0.0 (clang-1400.0.29.202)
    GNU Fortran (GCC) 12.2.0
* running under: macOS Ventura 13.6.1
* using session charset: UTF-8
* using option ‘--no-vignettes’
* checking for file ‘MSnID/DESCRIPTION’ ... OK
* checking extension type ... Package
* this is package ‘MSnID’ version ‘1.36.0’
* checking package namespace information ... OK
* checking package dependencies ... OK
* checking if this is a source package ... OK
* checking if there is a namespace ... OK
* checking for hidden files and directories ... OK
* checking for portable file names ... OK
* checking for sufficient/correct file permissions ... OK
* checking whether package ‘MSnID’ can be installed ... OK
* checking installed package size ... OK
* checking package directory ... OK
* checking ‘build’ directory ... OK
* checking DESCRIPTION meta-information ... OK
* checking top-level files ... OK
* checking for left-over files ... OK
* checking index information ... OK
* checking package subdirectories ... OK
* checking R files for non-ASCII characters ... OK
* checking R files for syntax errors ... OK
* checking whether the package can be loaded ... OK
* checking whether the package can be loaded with stated dependencies ... OK
* checking whether the package can be unloaded cleanly ... OK
* checking whether the namespace can be loaded with stated dependencies ... OK
* checking whether the namespace can be unloaded cleanly ... OK
* checking dependencies in R code ... NOTE
Namespaces in Imports field not imported from:
  ‘BiocGenerics’ ‘BiocStyle’ ‘RUnit’ ‘ggplot2’ ‘msmsTests’ ‘xtable’
  All declared Imports should be used.
* checking S3 generic/method consistency ... OK
* checking replacement functions ... OK
* checking foreign function calls ... OK
* checking R code for possible problems ... NOTE
.read_mzIDs.mzR.engine.single.file: no visible binding for global
  variable ‘peptideRef’
Undefined global functions or variables:
  peptideRef
* checking Rd files ... OK
* checking Rd metadata ... OK
* checking Rd cross-references ... OK
* checking for missing documentation entries ... OK
* checking for code/documentation mismatches ... OK
* checking Rd \usage sections ... OK
* checking Rd contents ... OK
* checking for unstated dependencies in examples ... OK
* checking contents of ‘data’ directory ... OK
* checking data for non-ASCII characters ... OK
* checking LazyData ... OK
* checking data for ASCII and uncompressed saves ... OK
* checking sizes of PDF files under ‘inst/doc’ ... OK
* checking files in ‘vignettes’ ... OK
* checking examples ... OK
Examples with CPU (user + system) or elapsed time > 5s
                          user system elapsed
fetch_conversion_table  14.015  0.904  17.830
remap_fasta_entry_names  7.532  0.531   8.987
remap_accessions-method  7.242  0.459   9.012
optimize_filter          2.944  0.134  14.066
* checking for unstated dependencies in ‘tests’ ... OK
* checking tests ...
  Running ‘runTests.R’
 ERROR
Running the tests in ‘tests/runTests.R’ failed.
Last 13 lines of output:
   
  1 Test Suite : 
  MSnID RUnit Tests - 19 test functions, 0 errors, 1 failure
  FAILURE in test_data_load: Error in checkIdentical(psms(msnidObj), psms(msnid2)) : FALSE 
   
  
  Test files with failing tests
  
     test_data_load.R 
       test_data_load 
  
  
  Error in BiocGenerics:::testPackage("MSnID") : 
    unit tests failed for package MSnID
  Execution halted
* checking for unstated dependencies in vignettes ... OK
* checking package vignettes in ‘inst/doc’ ... OK
* checking running R code from vignettes ... SKIPPED
* checking re-building of vignette outputs ... SKIPPED
* checking PDF version of manual ... OK
* DONE
Status: 1 ERROR, 2 NOTEs
See
  ‘/Users/biocbuild/bbs-3.18-bioc-mac-arm64/meat/MSnID.Rcheck/00check.log’
for details.
MSnID.Rcheck/00install.out
############################################################################## ############################################################################## ### ### Running command: ### ### /Library/Frameworks/R.framework/Resources/bin/R CMD INSTALL MSnID ### ############################################################################## ############################################################################## * installing to library ‘/Library/Frameworks/R.framework/Versions/4.3-arm64/Resources/library’ * installing *source* package ‘MSnID’ ... ** using staged installation ** R ** data *** moving datasets to lazyload DB ** demo ** inst ** byte-compile and prepare package for lazy loading ** help *** installing help indices ** building package indices ** installing vignettes ** testing if installed package can be loaded from temporary location ** testing if installed package can be loaded from final location ** testing if installed package keeps a record of temporary installation path * DONE (MSnID)
MSnID.Rcheck/tests/runTests.Rout.fail
R version 4.3.3 (2024-02-29) -- "Angel Food Cake"
Copyright (C) 2024 The R Foundation for Statistical Computing
Platform: aarch64-apple-darwin20 (64-bit)
R is free software and comes with ABSOLUTELY NO WARRANTY.
You are welcome to redistribute it under certain conditions.
Type 'license()' or 'licence()' for distribution details.
R is a collaborative project with many contributors.
Type 'contributors()' for more information and
'citation()' on how to cite R or R packages in publications.
Type 'demo()' for some demos, 'help()' for on-line help, or
'help.start()' for an HTML browser interface to help.
Type 'q()' to quit R.
> BiocGenerics:::testPackage("MSnID")
Note, the anticipated/suggested columns in the
peptide-to-spectrum matching results are:
-----------------------------------------------
accession
calculatedMassToCharge
chargeState
experimentalMassToCharge
isDecoy
peptide
spectrumFile
spectrumID
Reading from mzIdentMLs ...
reading c_elegans.mzid.gz... DONE!
Reading from mzIdentMLs ...
Timing stopped at: 0.153 0.004 0.158
Error in checkIdentical(psms(msnidObj), psms(msnid2)) : FALSE 
 
In addition: There were 12 warnings (use warnings() to see them)
RUNIT TEST PROTOCOL -- Wed Apr 17 20:40:41 2024 
*********************************************** 
Number of test functions: 19 
Number of errors: 0 
Number of failures: 1 
 
1 Test Suite : 
MSnID RUnit Tests - 19 test functions, 0 errors, 1 failure
FAILURE in test_data_load: Error in checkIdentical(psms(msnidObj), psms(msnid2)) : FALSE 
 
Test files with failing tests
   test_data_load.R 
     test_data_load 
Error in BiocGenerics:::testPackage("MSnID") : 
  unit tests failed for package MSnID
Execution halted
MSnID.Rcheck/MSnID-Ex.timings
| name | user | system | elapsed | |
| MSnID-class | 0.000 | 0.001 | 0.000 | |
| MSnIDFilter-class | 0.224 | 0.012 | 0.244 | |
| accessions | 0.790 | 0.006 | 0.811 | |
| add_mod_symbol | 0.976 | 0.013 | 1.012 | |
| apply_filter | 0.275 | 0.007 | 0.286 | |
| assess_missed_cleavages | 0.222 | 0.010 | 0.240 | |
| assess_termini | 0.227 | 0.006 | 0.235 | |
| correct_peak_selection | 0.143 | 0.007 | 0.150 | |
| data | 0.126 | 0.006 | 0.132 | |
| evaluate_filter | 0.265 | 0.008 | 0.274 | |
| fetch_conversion_table | 14.015 | 0.904 | 17.830 | |
| id_quality | 0.133 | 0.004 | 0.138 | |
| infer_parsimonious_accessions | 0.912 | 0.031 | 0.944 | |
| map_mod_sites | 1.326 | 0.056 | 1.389 | |
| mass_measurement_error | 0.112 | 0.004 | 0.120 | |
| optimize_filter | 2.944 | 0.134 | 14.066 | |
| peptides | 0.111 | 0.003 | 0.115 | |
| psms | 0.145 | 0.010 | 0.155 | |
| read_mzIDs | 0 | 0 | 0 | |
| recalibrate | 0.128 | 0.005 | 0.133 | |
| remap_accessions-method | 7.242 | 0.459 | 9.012 | |
| remap_fasta_entry_names | 7.532 | 0.531 | 8.987 | |
| report_mods | 1.187 | 0.018 | 1.208 | |