| Back to Mac ARM64 build report for BioC 3.18 |
|
This page was generated on 2024-04-18 11:32:12 -0400 (Thu, 18 Apr 2024).
| Hostname | OS | Arch (*) | R version | Installed pkgs |
|---|---|---|---|---|
| kjohnson1 | macOS 13.6.1 Ventura | arm64 | 4.3.3 (2024-02-29) -- "Angel Food Cake" | 4388 |
| Click on any hostname to see more info about the system (e.g. compilers) (*) as reported by 'uname -p', except on Windows and Mac OS X | ||||
| Package 1120/2266 | Hostname | OS / Arch | INSTALL | BUILD | CHECK | BUILD BIN | ||||||||
| LymphoSeq 1.30.0 (landing page) David Coffey
| kjohnson1 | macOS 13.6.1 Ventura / arm64 | OK | OK | OK | OK | ||||||||
|
To the developers/maintainers of the LymphoSeq package: - Use the following Renviron settings to reproduce errors and warnings. - If 'R CMD check' started to fail recently on the Linux builder(s) over a missing dependency, add the missing dependency to 'Suggests:' in your DESCRIPTION file. See Renviron.bioc for more information. |
| Package: LymphoSeq |
| Version: 1.30.0 |
| Command: /Library/Frameworks/R.framework/Resources/bin/R CMD check --install=check:LymphoSeq.install-out.txt --library=/Library/Frameworks/R.framework/Resources/library --no-vignettes --timings LymphoSeq_1.30.0.tar.gz |
| StartedAt: 2024-04-17 17:57:16 -0400 (Wed, 17 Apr 2024) |
| EndedAt: 2024-04-17 18:01:11 -0400 (Wed, 17 Apr 2024) |
| EllapsedTime: 234.5 seconds |
| RetCode: 0 |
| Status: OK |
| CheckDir: LymphoSeq.Rcheck |
| Warnings: 0 |
##############################################################################
##############################################################################
###
### Running command:
###
### /Library/Frameworks/R.framework/Resources/bin/R CMD check --install=check:LymphoSeq.install-out.txt --library=/Library/Frameworks/R.framework/Resources/library --no-vignettes --timings LymphoSeq_1.30.0.tar.gz
###
##############################################################################
##############################################################################
* using log directory ‘/Users/biocbuild/bbs-3.18-bioc-mac-arm64/meat/LymphoSeq.Rcheck’
* using R version 4.3.3 (2024-02-29)
* using platform: aarch64-apple-darwin20 (64-bit)
* R was compiled by
Apple clang version 14.0.0 (clang-1400.0.29.202)
GNU Fortran (GCC) 12.2.0
* running under: macOS Ventura 13.6.1
* using session charset: UTF-8
* using option ‘--no-vignettes’
* checking for file ‘LymphoSeq/DESCRIPTION’ ... OK
* this is package ‘LymphoSeq’ version ‘1.30.0’
* checking package namespace information ... OK
* checking package dependencies ... OK
* checking if this is a source package ... OK
* checking if there is a namespace ... OK
* checking for hidden files and directories ... OK
* checking for portable file names ... OK
* checking for sufficient/correct file permissions ... OK
* checking whether package ‘LymphoSeq’ can be installed ... OK
* checking installed package size ... NOTE
installed size is 5.7Mb
sub-directories of 1Mb or more:
extdata 5.5Mb
* checking package directory ... OK
* checking ‘build’ directory ... OK
* checking DESCRIPTION meta-information ... OK
* checking top-level files ... OK
* checking for left-over files ... OK
* checking index information ... OK
* checking package subdirectories ... OK
* checking R files for non-ASCII characters ... OK
* checking R files for syntax errors ... OK
* checking whether the package can be loaded ... OK
* checking whether the package can be loaded with stated dependencies ... OK
* checking whether the package can be unloaded cleanly ... OK
* checking whether the namespace can be loaded with stated dependencies ... OK
* checking whether the namespace can be unloaded cleanly ... OK
* checking dependencies in R code ... OK
* checking S3 generic/method consistency ... OK
* checking replacement functions ... OK
* checking foreign function calls ... OK
* checking R code for possible problems ... OK
* checking Rd files ... OK
* checking Rd metadata ... OK
* checking Rd cross-references ... OK
* checking for missing documentation entries ... OK
* checking for code/documentation mismatches ... OK
* checking Rd \usage sections ... OK
* checking Rd contents ... OK
* checking for unstated dependencies in examples ... OK
* checking files in ‘vignettes’ ... OK
* checking examples ... OK
Examples with CPU (user + system) or elapsed time > 5s
user system elapsed
cloneTrack 38.630 0.752 39.593
productiveSeq 21.823 0.907 22.848
* checking for unstated dependencies in vignettes ... OK
* checking package vignettes in ‘inst/doc’ ... OK
* checking running R code from vignettes ... SKIPPED
* checking re-building of vignette outputs ... SKIPPED
* checking PDF version of manual ... OK
* DONE
Status: 1 NOTE
See
‘/Users/biocbuild/bbs-3.18-bioc-mac-arm64/meat/LymphoSeq.Rcheck/00check.log’
for details.
LymphoSeq.Rcheck/00install.out
############################################################################## ############################################################################## ### ### Running command: ### ### /Library/Frameworks/R.framework/Resources/bin/R CMD INSTALL LymphoSeq ### ############################################################################## ############################################################################## * installing to library ‘/Library/Frameworks/R.framework/Versions/4.3-arm64/Resources/library’ * installing *source* package ‘LymphoSeq’ ... ** using staged installation ** R ** inst ** byte-compile and prepare package for lazy loading ** help *** installing help indices ** building package indices ** installing vignettes ** testing if installed package can be loaded from temporary location ** testing if installed package can be loaded from final location ** testing if installed package keeps a record of temporary installation path * DONE (LymphoSeq)
LymphoSeq.Rcheck/LymphoSeq-Ex.timings
| name | user | system | elapsed | |
| alignSeq | 1.230 | 0.021 | 1.284 | |
| bhattacharyyaCoefficient | 0.206 | 0.017 | 0.232 | |
| bhattacharyyaMatrix | 0.312 | 0.011 | 0.325 | |
| chordDiagramVDJ | 0.574 | 0.026 | 0.614 | |
| clonalRelatedness | 2.075 | 0.006 | 2.091 | |
| clonality | 0.037 | 0.004 | 0.041 | |
| cloneTrack | 38.630 | 0.752 | 39.593 | |
| commonSeqs | 0.198 | 0.016 | 0.215 | |
| commonSeqsBar | 0.863 | 0.085 | 0.979 | |
| commonSeqsPlot | 0.200 | 0.027 | 0.233 | |
| commonSeqsVenn | 0.412 | 0.054 | 0.476 | |
| differentialAbundance | 2.669 | 0.055 | 2.732 | |
| exportFasta | 0.275 | 0.022 | 0.299 | |
| geneFreq | 1.061 | 0.033 | 1.099 | |
| lorenzCurve | 0.922 | 0.049 | 0.975 | |
| mergeFiles | 0.102 | 0.007 | 0.110 | |
| pairwisePlot | 1.748 | 0.023 | 1.786 | |
| phyloTree | 3.083 | 0.024 | 3.183 | |
| productive | 0.080 | 0.005 | 0.087 | |
| productiveSeq | 21.823 | 0.907 | 22.848 | |
| readImmunoSeq | 0.059 | 0.004 | 0.062 | |
| removeSeq | 1.012 | 0.049 | 1.102 | |
| searchPublished | 0.191 | 0.009 | 0.202 | |
| searchSeq | 0.842 | 0.010 | 0.858 | |
| seqMatrix | 1.997 | 0.072 | 2.076 | |
| similarityMatrix | 0.211 | 0.016 | 0.227 | |
| similarityScore | 0.193 | 0.012 | 0.207 | |
| topFreq | 1.578 | 0.050 | 1.631 | |
| topSeqs | 0.197 | 0.006 | 0.202 | |
| topSeqsPlot | 0.428 | 0.037 | 0.467 | |
| uniqueSeqs | 1.224 | 0.036 | 1.260 | |