| Back to Mac ARM64 build report for BioC 3.18 |
|
This page was generated on 2024-04-18 11:32:12 -0400 (Thu, 18 Apr 2024).
| Hostname | OS | Arch (*) | R version | Installed pkgs |
|---|---|---|---|---|
| kjohnson1 | macOS 13.6.1 Ventura | arm64 | 4.3.3 (2024-02-29) -- "Angel Food Cake" | 4388 |
| Click on any hostname to see more info about the system (e.g. compilers) (*) as reported by 'uname -p', except on Windows and Mac OS X | ||||
| Package 1098/2266 | Hostname | OS / Arch | INSTALL | BUILD | CHECK | BUILD BIN | ||||||||
| LinkHD 1.16.0 (landing page) "Laura M Zingaretti"
| kjohnson1 | macOS 13.6.1 Ventura / arm64 | OK | OK | OK | OK | ||||||||
|
To the developers/maintainers of the LinkHD package: - Use the following Renviron settings to reproduce errors and warnings. - If 'R CMD check' started to fail recently on the Linux builder(s) over a missing dependency, add the missing dependency to 'Suggests:' in your DESCRIPTION file. See Renviron.bioc for more information. |
| Package: LinkHD |
| Version: 1.16.0 |
| Command: /Library/Frameworks/R.framework/Resources/bin/R CMD check --install=check:LinkHD.install-out.txt --library=/Library/Frameworks/R.framework/Resources/library --no-vignettes --timings LinkHD_1.16.0.tar.gz |
| StartedAt: 2024-04-17 17:48:38 -0400 (Wed, 17 Apr 2024) |
| EndedAt: 2024-04-17 17:52:34 -0400 (Wed, 17 Apr 2024) |
| EllapsedTime: 235.5 seconds |
| RetCode: 0 |
| Status: OK |
| CheckDir: LinkHD.Rcheck |
| Warnings: 0 |
##############################################################################
##############################################################################
###
### Running command:
###
### /Library/Frameworks/R.framework/Resources/bin/R CMD check --install=check:LinkHD.install-out.txt --library=/Library/Frameworks/R.framework/Resources/library --no-vignettes --timings LinkHD_1.16.0.tar.gz
###
##############################################################################
##############################################################################
* using log directory ‘/Users/biocbuild/bbs-3.18-bioc-mac-arm64/meat/LinkHD.Rcheck’
* using R version 4.3.3 (2024-02-29)
* using platform: aarch64-apple-darwin20 (64-bit)
* R was compiled by
Apple clang version 14.0.0 (clang-1400.0.29.202)
GNU Fortran (GCC) 12.2.0
* running under: macOS Ventura 13.6.1
* using session charset: UTF-8
* using option ‘--no-vignettes’
* checking for file ‘LinkHD/DESCRIPTION’ ... OK
* checking extension type ... Package
* this is package ‘LinkHD’ version ‘1.16.0’
* package encoding: UTF-8
* checking package namespace information ... OK
* checking package dependencies ... OK
* checking if this is a source package ... OK
* checking if there is a namespace ... OK
* checking for hidden files and directories ... OK
* checking for portable file names ... OK
* checking for sufficient/correct file permissions ... OK
* checking whether package ‘LinkHD’ can be installed ... OK
* checking installed package size ... OK
* checking package directory ... OK
* checking ‘build’ directory ... OK
* checking DESCRIPTION meta-information ... OK
* checking top-level files ... OK
* checking for left-over files ... OK
* checking index information ... OK
* checking package subdirectories ... OK
* checking R files for non-ASCII characters ... OK
* checking R files for syntax errors ... OK
* checking whether the package can be loaded ... OK
* checking whether the package can be loaded with stated dependencies ... OK
* checking whether the package can be unloaded cleanly ... OK
* checking whether the namespace can be loaded with stated dependencies ... OK
* checking whether the namespace can be unloaded cleanly ... OK
* checking dependencies in R code ... OK
* checking S3 generic/method consistency ... OK
* checking replacement functions ... OK
* checking foreign function calls ... OK
* checking R code for possible problems ... OK
* checking Rd files ... OK
* checking Rd metadata ... OK
* checking Rd cross-references ... OK
* checking for missing documentation entries ... OK
* checking for code/documentation mismatches ... OK
* checking Rd \usage sections ... OK
* checking Rd contents ... OK
* checking for unstated dependencies in examples ... OK
* checking contents of ‘data’ directory ... OK
* checking data for non-ASCII characters ... OK
* checking LazyData ... OK
* checking data for ASCII and uncompressed saves ... OK
* checking files in ‘vignettes’ ... OK
* checking examples ... OK
* checking for unstated dependencies in vignettes ... OK
* checking package vignettes in ‘inst/doc’ ... OK
* checking running R code from vignettes ... SKIPPED
* checking re-building of vignette outputs ... SKIPPED
* checking PDF version of manual ... OK
* DONE
Status: OK
LinkHD.Rcheck/00install.out
############################################################################## ############################################################################## ### ### Running command: ### ### /Library/Frameworks/R.framework/Resources/bin/R CMD INSTALL LinkHD ### ############################################################################## ############################################################################## * installing to library ‘/Library/Frameworks/R.framework/Versions/4.3-arm64/Resources/library’ * installing *source* package ‘LinkHD’ ... ** using staged installation ** R ** data *** moving datasets to lazyload DB ** byte-compile and prepare package for lazy loading ** help *** installing help indices ** building package indices ** installing vignettes ** testing if installed package can be loaded from temporary location ** testing if installed package can be loaded from final location ** testing if installed package keeps a record of temporary installation path * DONE (LinkHD)
LinkHD.Rcheck/LinkHD-Ex.timings
| name | user | system | elapsed | |
| Compromise_matrix-methods | 0.541 | 0.113 | 0.655 | |
| DataProcessing | 0.015 | 0.003 | 0.018 | |
| DistStatis-Class | 0.001 | 0.001 | 0.001 | |
| DistStatis-CompromisePlot | 0.697 | 0.023 | 0.719 | |
| DistStatis-CorrelationPlot | 1.483 | 0.033 | 1.518 | |
| DistStatis-GlobalPlot | 0.789 | 0.031 | 0.821 | |
| Euclid_Im-methods | 0.368 | 0.009 | 0.378 | |
| Inertia_RV-methods | 0.415 | 0.011 | 0.426 | |
| Inertia_comp-methods | 0.386 | 0.011 | 0.398 | |
| LinkData-LinkData | 0.392 | 0.022 | 0.413 | |
| OTU2Taxa-OTU2Taxa | 2.371 | 0.029 | 2.421 | |
| RQO-methods | 0.216 | 0.012 | 0.230 | |
| Read_Data | 0 | 0 | 0 | |
| Ruminotypes | 0.001 | 0.001 | 0.002 | |
| Taraoceans | 0.001 | 0.001 | 0.001 | |
| Trajectories-methods | 0.624 | 0.297 | 0.944 | |
| VarSelection-Class | 0.000 | 0.001 | 0.001 | |
| VarSelection | 2.364 | 0.035 | 2.399 | |
| VarTable-methods | 1.566 | 0.029 | 1.595 | |
| Var_coordinates-methods | 1.596 | 0.042 | 1.639 | |
| Variables-methods | 1.582 | 0.034 | 1.617 | |
| compromise_coords-methods | 0.384 | 0.017 | 0.402 | |
| correl-methods | 0.407 | 0.012 | 0.420 | |
| dAB-dAB | 0.697 | 0.020 | 0.717 | |
| sign_values-methods | 1.557 | 0.031 | 1.587 | |