| Back to Mac ARM64 build report for BioC 3.18 |
|
This page was generated on 2024-04-18 11:32:11 -0400 (Thu, 18 Apr 2024).
| Hostname | OS | Arch (*) | R version | Installed pkgs |
|---|---|---|---|---|
| kjohnson1 | macOS 13.6.1 Ventura | arm64 | 4.3.3 (2024-02-29) -- "Angel Food Cake" | 4388 |
| Click on any hostname to see more info about the system (e.g. compilers) (*) as reported by 'uname -p', except on Windows and Mac OS X | ||||
| Package 864/2266 | Hostname | OS / Arch | INSTALL | BUILD | CHECK | BUILD BIN | ||||||||
| GladiaTOX 1.18.0 (landing page) PMP S.A. R Support
| kjohnson1 | macOS 13.6.1 Ventura / arm64 | OK | OK | OK | OK | ||||||||
|
To the developers/maintainers of the GladiaTOX package: - Use the following Renviron settings to reproduce errors and warnings. - If 'R CMD check' started to fail recently on the Linux builder(s) over a missing dependency, add the missing dependency to 'Suggests:' in your DESCRIPTION file. See Renviron.bioc for more information. |
| Package: GladiaTOX |
| Version: 1.18.0 |
| Command: /Library/Frameworks/R.framework/Resources/bin/R CMD check --install=check:GladiaTOX.install-out.txt --library=/Library/Frameworks/R.framework/Resources/library --no-vignettes --timings GladiaTOX_1.18.0.tar.gz |
| StartedAt: 2024-04-17 15:16:40 -0400 (Wed, 17 Apr 2024) |
| EndedAt: 2024-04-17 15:18:52 -0400 (Wed, 17 Apr 2024) |
| EllapsedTime: 132.3 seconds |
| RetCode: 0 |
| Status: OK |
| CheckDir: GladiaTOX.Rcheck |
| Warnings: 0 |
##############################################################################
##############################################################################
###
### Running command:
###
### /Library/Frameworks/R.framework/Resources/bin/R CMD check --install=check:GladiaTOX.install-out.txt --library=/Library/Frameworks/R.framework/Resources/library --no-vignettes --timings GladiaTOX_1.18.0.tar.gz
###
##############################################################################
##############################################################################
* using log directory ‘/Users/biocbuild/bbs-3.18-bioc-mac-arm64/meat/GladiaTOX.Rcheck’
* using R version 4.3.3 (2024-02-29)
* using platform: aarch64-apple-darwin20 (64-bit)
* R was compiled by
Apple clang version 14.0.0 (clang-1400.0.29.202)
GNU Fortran (GCC) 12.2.0
* running under: macOS Ventura 13.6.1
* using session charset: UTF-8
* using option ‘--no-vignettes’
* checking for file ‘GladiaTOX/DESCRIPTION’ ... OK
* checking extension type ... Package
* this is package ‘GladiaTOX’ version ‘1.18.0’
* checking package namespace information ... OK
* checking package dependencies ... OK
* checking if this is a source package ... OK
* checking if there is a namespace ... OK
* checking for hidden files and directories ... OK
* checking for portable file names ... OK
* checking for sufficient/correct file permissions ... OK
* checking whether package ‘GladiaTOX’ can be installed ... OK
* checking installed package size ... NOTE
installed size is 5.3Mb
sub-directories of 1Mb or more:
sql 3.8Mb
* checking package directory ... OK
* checking ‘build’ directory ... OK
* checking DESCRIPTION meta-information ... OK
* checking top-level files ... OK
* checking for left-over files ... OK
* checking index information ... OK
* checking package subdirectories ... OK
* checking R files for non-ASCII characters ... OK
* checking R files for syntax errors ... OK
* checking whether the package can be loaded ... OK
* checking whether the package can be loaded with stated dependencies ... OK
* checking whether the package can be unloaded cleanly ... OK
* checking whether the namespace can be loaded with stated dependencies ... OK
* checking whether the namespace can be unloaded cleanly ... OK
* checking startup messages can be suppressed ... OK
* checking dependencies in R code ... OK
* checking S3 generic/method consistency ... OK
* checking replacement functions ... OK
* checking foreign function calls ... OK
* checking R code for possible problems ... NOTE
glCheckInput: no visible global function definition for ‘read.csv’
glLoadInput: no visible global function definition for ‘read.csv’
glPlotPosCtrlMEC: no visible binding for global variable ‘aenm_wrap’
glPlotPosCtrlMEC: no visible binding for global variable ‘modl_acc’
Undefined global functions or variables:
aenm_wrap modl_acc read.csv
Consider adding
importFrom("utils", "read.csv")
to your NAMESPACE file.
* checking Rd files ... OK
* checking Rd metadata ... OK
* checking Rd cross-references ... OK
* checking for missing documentation entries ... OK
* checking for code/documentation mismatches ... OK
* checking Rd \usage sections ... OK
* checking Rd contents ... OK
* checking for unstated dependencies in examples ... OK
* checking files in ‘vignettes’ ... OK
* checking examples ... OK
Examples with CPU (user + system) or elapsed time > 5s
user system elapsed
gtoxRun 22.716 16.881 21.171
assignDefaultMthds 19.183 10.318 16.468
* checking for unstated dependencies in ‘tests’ ... OK
* checking tests ...
Running ‘testthat.R’
OK
* checking for unstated dependencies in vignettes ... OK
* checking package vignettes in ‘inst/doc’ ... OK
* checking running R code from vignettes ... SKIPPED
* checking re-building of vignette outputs ... SKIPPED
* checking PDF version of manual ... OK
* DONE
Status: 2 NOTEs
See
‘/Users/biocbuild/bbs-3.18-bioc-mac-arm64/meat/GladiaTOX.Rcheck/00check.log’
for details.
GladiaTOX.Rcheck/00install.out
############################################################################## ############################################################################## ### ### Running command: ### ### /Library/Frameworks/R.framework/Resources/bin/R CMD INSTALL GladiaTOX ### ############################################################################## ############################################################################## * installing to library ‘/Library/Frameworks/R.framework/Versions/4.3-arm64/Resources/library’ * installing *source* package ‘GladiaTOX’ ... ** using staged installation ** R ** inst ** byte-compile and prepare package for lazy loading ** help *** installing help indices ** building package indices ** installing vignettes ** testing if installed package can be loaded from temporary location ** testing if installed package can be loaded from final location ** testing if installed package keeps a record of temporary installation path * DONE (GladiaTOX)
GladiaTOX.Rcheck/tests/testthat.Rout
R version 4.3.3 (2024-02-29) -- "Angel Food Cake"
Copyright (C) 2024 The R Foundation for Statistical Computing
Platform: aarch64-apple-darwin20 (64-bit)
R is free software and comes with ABSOLUTELY NO WARRANTY.
You are welcome to redistribute it under certain conditions.
Type 'license()' or 'licence()' for distribution details.
R is a collaborative project with many contributors.
Type 'contributors()' for more information and
'citation()' on how to cite R or R packages in publications.
Type 'demo()' for some demos, 'help()' for on-line help, or
'help.start()' for an HTML browser interface to help.
Type 'q()' to quit R.
> library(testthat)
> library(GladiaTOX)
Loading required package: data.table
GladiaTOX (v1.18.0) loaded with the following settings:
TCPL_DB: /Library/Frameworks/R.framework/Versions/4.3-arm64/Resources/library/GladiaTOX/sql/gladiatoxdb.sqlite
TCPL_USER: NA
TCPL_HOST: NA
TCPL_DRVR: SQLite
Default settings stored in gtox config file. See ?gtoxConf for more information.
>
> options(testthat.junit.output_file="tests-out.xml")
> test_dir("testthat")
✔ | F W S OK | Context
⠏ | 0 | assignDefaultMthds
⠋ | 1 | assignDefaultMthds
✔ | 1 | assignDefaultMthds
⠏ | 0 | exportResultTable
⠙ | 2 | exportResultTable
✔ | 2 | exportResultTable
⠏ | 0 | getsplit
⠏ | 0 | getsplit
✔ | 1 | getsplit
⠏ | 0 | glComputeToxInd
⠋ | 1 | glComputeToxInd
✔ | 1 | glComputeToxInd
⠏ | 0 | gtoxAICProb
✔ | 1 | gtoxAICProb
⠏ | 0 | gtoxCalcVmad
⠏ | 0 | Calculate Vmad
✔ | 1 | Calculate Vmad
⠏ | 0 | gtoxLoadAcid
⠏ | 0 | Check assay component table
⠙ | 2 | Check assay component table
✔ | 2 | Check assay component table
⠏ | 0 | gtoxLoadAeid
⠏ | 0 | Check assay endpoint table
⠙ | 2 | Check assay endpoint table
✔ | 2 | Check assay endpoint table
⠏ | 0 | gtoxLoadAid
✔ | 1 | gtoxLoadAid
⠏ | 0 | gtoxLoadApid
⠏ | 0 | Check assay plate table
✔ | 2 | Check assay plate table
⠏ | 0 | gtoxLoadAsid
✔ | 3 | gtoxLoadAsid
⠏ | 0 | gtoxLoadChem
⠏ | 0 | Check assay chemical table
✔ | 3 | Check assay chemical table
⠏ | 0 | gtoxLoadWaid
⠏ | 0 | Check assay well table
✔ | 2 | Check assay well table
⠏ | 0 | is.odd
✔ | 2 | is.odd
⠏ | 0 | lu
✔ | 1 | lu
⠏ | 0 | lw
✔ | 1 | lw
⠏ | 0 | mc2
✔ | 1 | mc2
⠏ | 0 | mc3
✔ | 1 | mc3
⠏ | 0 | mc5
✔ | 1 | mc5
⠏ | 0 | mc6
✔ | 1 | mc6
⠏ | 0 | sc1
✔ | 1 | sc1
⠏ | 0 | sc2
✔ | 1 | sc2
══ Results ═════════════════════════════════════════════════════════════════════
Duration: 2.0 s
[ FAIL 0 | WARN 0 | SKIP 0 | PASS 32 ]
> test_check("GladiaTOX")
[ FAIL 0 | WARN 0 | SKIP 0 | PASS 32 ]
>
> proc.time()
user system elapsed
6.120 0.573 6.711
GladiaTOX.Rcheck/GladiaTOX-Ex.timings
| name | user | system | elapsed | |
| Models | 0.133 | 0.020 | 0.160 | |
| assay_funcs | 0.436 | 0.053 | 0.498 | |
| assignDefaultMthds | 19.183 | 10.318 | 16.468 | |
| buildAssayTab | 0.041 | 0.008 | 0.050 | |
| config_funcs | 0.008 | 0.004 | 0.012 | |
| deleteStudy | 0.000 | 0.001 | 0.000 | |
| exportResultForToxpiGUI | 0.334 | 0.074 | 0.408 | |
| exportResultTable | 0.133 | 0.012 | 0.145 | |
| glComputeToxInd | 0.268 | 0.023 | 0.291 | |
| glPlotPie | 1.379 | 0.051 | 1.432 | |
| glPlotPieLogo | 0.720 | 0.007 | 0.730 | |
| glPlotPosCtrl | 0.881 | 0.027 | 0.908 | |
| glPlotPosCtrlMEC | 0.423 | 0.041 | 0.464 | |
| glPlotStat | 0.789 | 0.025 | 0.815 | |
| glPlotToxInd | 0.516 | 0.024 | 0.541 | |
| gtoxAICProb | 0.001 | 0.000 | 0.001 | |
| gtoxAddModel | 0.475 | 0.012 | 0.487 | |
| gtoxCalcVmad | 0.028 | 0.003 | 0.031 | |
| gtoxCode2CASN | 0.001 | 0.000 | 0.001 | |
| gtoxFit | 0.354 | 0.004 | 0.358 | |
| gtoxImportThermoDB | 0.001 | 0.001 | 0.001 | |
| gtoxListFlds | 0.006 | 0.001 | 0.007 | |
| gtoxLoadApid | 0.011 | 0.002 | 0.013 | |
| gtoxLoadChem | 0.065 | 0.010 | 0.076 | |
| gtoxLoadClib | 0.006 | 0.002 | 0.008 | |
| gtoxLoadData | 0.101 | 0.010 | 0.111 | |
| gtoxLoadVehicle | 0.007 | 0.001 | 0.009 | |
| gtoxLoadVmad | 0.008 | 0.002 | 0.010 | |
| gtoxLoadWaid | 0.027 | 0.003 | 0.029 | |
| gtoxMakeAeidPlts | 0.417 | 0.041 | 0.467 | |
| gtoxPlotErrBar | 0.291 | 0.019 | 0.312 | |
| gtoxPlotFitc | 0.236 | 0.009 | 0.245 | |
| gtoxPlotFits | 0.130 | 0.015 | 0.159 | |
| gtoxPlotM4ID | 0.584 | 0.058 | 0.645 | |
| gtoxPlotPie | 0.162 | 0.012 | 0.173 | |
| gtoxPlotPieLgnd | 0.009 | 0.001 | 0.011 | |
| gtoxPlotPlate | 0.208 | 0.020 | 0.230 | |
| gtoxPlotWin | 0.001 | 0.000 | 0.000 | |
| gtoxPrepOtpt | 0.154 | 0.010 | 0.165 | |
| gtoxReport | 0 | 0 | 0 | |
| gtoxRun | 22.716 | 16.881 | 21.171 | |
| gtoxSetWllq | 0.159 | 0.070 | 0.229 | |
| gtoxSubsetChid | 0.096 | 0.012 | 0.109 | |
| gtoxWriteData | 0 | 0 | 0 | |
| hill_utils | 0.001 | 0.000 | 0.001 | |
| loadAnnot | 0.000 | 0.000 | 0.001 | |
| lu | 0.000 | 0.000 | 0.001 | |
| lw | 0.000 | 0.000 | 0.001 | |
| mthd_funcs | 0.017 | 0.003 | 0.021 | |
| prepareDatForDB | 0.000 | 0.001 | 0.001 | |
| query_funcs | 0.019 | 0.003 | 0.021 | |
| rgstr_funcs | 0.280 | 0.032 | 0.313 | |