| Back to Mac ARM64 build report for BioC 3.18 |
|
This page was generated on 2023-06-21 11:30:18 -0400 (Wed, 21 Jun 2023).
| Hostname | OS | Arch (*) | R version | Installed pkgs |
|---|---|---|---|---|
| kjohnson1 | macOS 13.3.1 Ventura | arm64 | 4.3.0 (2023-04-21) -- "Already Tomorrow" | 4263 |
| Click on any hostname to see more info about the system (e.g. compilers) (*) as reported by 'uname -p', except on Windows and Mac OS X | ||||
| Package 855/2199 | Hostname | OS / Arch | INSTALL | BUILD | CHECK | BUILD BIN | ||||||||
| GOsummaries 2.37.0 (landing page) Raivo Kolde
| kjohnson1 | macOS 13.3.1 Ventura / arm64 | OK | OK | ERROR | ERROR | ||||||||
|
To the developers/maintainers of the GOsummaries package: - Use the following Renviron settings to reproduce errors and warnings. - If 'R CMD check' started to fail recently on the Linux builder(s) over a missing dependency, add the missing dependency to 'Suggests:' in your DESCRIPTION file. See Renviron.bioc for more information. |
| Package: GOsummaries |
| Version: 2.37.0 |
| Command: rm -rf GOsummaries.buildbin-libdir && mkdir GOsummaries.buildbin-libdir && /Users/biocbuild/BBS/utils/build-universal.sh GOsummaries_2.37.0.tar.gz /Library/Frameworks/R.framework/Resources/bin/R GOsummaries.buildbin-libdir |
| StartedAt: 2023-06-20 14:16:53 -0400 (Tue, 20 Jun 2023) |
| EndedAt: 2023-06-20 14:16:54 -0400 (Tue, 20 Jun 2023) |
| EllapsedTime: 1.2 seconds |
| RetCode: 1 |
| Status: ERROR |
| PackageFile: None |
| PackageFileSize: NA |
############################################################################## ############################################################################## ### ### Running command: ### ### rm -rf GOsummaries.buildbin-libdir && mkdir GOsummaries.buildbin-libdir && /Users/biocbuild/BBS/utils/build-universal.sh GOsummaries_2.37.0.tar.gz /Library/Frameworks/R.framework/Resources/bin/R GOsummaries.buildbin-libdir ### ############################################################################## ############################################################################## >>>>>>> >>>>>>> INSTALLATION WITH 'R CMD INSTALL --preclean --no-multiarch --library=GOsummaries.buildbin-libdir GOsummaries_2.37.0.tar.gz' >>>>>>> ERROR: dependencies ‘plyr’, ‘gProfileR’, ‘reshape2’, ‘limma’, ‘ggplot2’, ‘gtable’ are not available for package ‘GOsummaries’ * removing ‘/Users/biocbuild/bbs-3.18-bioc-mac-arm64/meat/GOsummaries.buildbin-libdir/GOsummaries’