| Back to Mac ARM64 build report for BioC 3.18 |
|
This page was generated on 2024-04-18 11:32:10 -0400 (Thu, 18 Apr 2024).
| Hostname | OS | Arch (*) | R version | Installed pkgs |
|---|---|---|---|---|
| kjohnson1 | macOS 13.6.1 Ventura | arm64 | 4.3.3 (2024-02-29) -- "Angel Food Cake" | 4388 |
| Click on any hostname to see more info about the system (e.g. compilers) (*) as reported by 'uname -p', except on Windows and Mac OS X | ||||
| Package 711/2266 | Hostname | OS / Arch | INSTALL | BUILD | CHECK | BUILD BIN | ||||||||
| FindIT2 1.8.0 (landing page) Guandong Shang
| kjohnson1 | macOS 13.6.1 Ventura / arm64 | OK | OK | OK | OK | ||||||||
|
To the developers/maintainers of the FindIT2 package: - Use the following Renviron settings to reproduce errors and warnings. - If 'R CMD check' started to fail recently on the Linux builder(s) over a missing dependency, add the missing dependency to 'Suggests:' in your DESCRIPTION file. See Renviron.bioc for more information. |
| Package: FindIT2 |
| Version: 1.8.0 |
| Command: /Library/Frameworks/R.framework/Resources/bin/R CMD check --install=check:FindIT2.install-out.txt --library=/Library/Frameworks/R.framework/Resources/library --no-vignettes --timings FindIT2_1.8.0.tar.gz |
| StartedAt: 2024-04-17 13:45:24 -0400 (Wed, 17 Apr 2024) |
| EndedAt: 2024-04-17 13:52:34 -0400 (Wed, 17 Apr 2024) |
| EllapsedTime: 429.8 seconds |
| RetCode: 0 |
| Status: OK |
| CheckDir: FindIT2.Rcheck |
| Warnings: 0 |
##############################################################################
##############################################################################
###
### Running command:
###
### /Library/Frameworks/R.framework/Resources/bin/R CMD check --install=check:FindIT2.install-out.txt --library=/Library/Frameworks/R.framework/Resources/library --no-vignettes --timings FindIT2_1.8.0.tar.gz
###
##############################################################################
##############################################################################
* using log directory ‘/Users/biocbuild/bbs-3.18-bioc-mac-arm64/meat/FindIT2.Rcheck’
* using R version 4.3.3 (2024-02-29)
* using platform: aarch64-apple-darwin20 (64-bit)
* R was compiled by
Apple clang version 14.0.0 (clang-1400.0.29.202)
GNU Fortran (GCC) 12.2.0
* running under: macOS Ventura 13.6.1
* using session charset: UTF-8
* using option ‘--no-vignettes’
* checking for file ‘FindIT2/DESCRIPTION’ ... OK
* this is package ‘FindIT2’ version ‘1.8.0’
* package encoding: UTF-8
* checking package namespace information ... OK
* checking package dependencies ... OK
* checking if this is a source package ... OK
* checking if there is a namespace ... OK
* checking for hidden files and directories ... OK
* checking for portable file names ... OK
* checking for sufficient/correct file permissions ... OK
* checking whether package ‘FindIT2’ can be installed ... OK
* checking installed package size ... OK
* checking package directory ... OK
* checking ‘build’ directory ... OK
* checking DESCRIPTION meta-information ... OK
* checking top-level files ... OK
* checking for left-over files ... OK
* checking index information ... OK
* checking package subdirectories ... OK
* checking R files for non-ASCII characters ... OK
* checking R files for syntax errors ... OK
* checking whether the package can be loaded ... OK
* checking whether the package can be loaded with stated dependencies ... OK
* checking whether the package can be unloaded cleanly ... OK
* checking whether the namespace can be loaded with stated dependencies ... OK
* checking whether the namespace can be unloaded cleanly ... OK
* checking dependencies in R code ... OK
* checking S3 generic/method consistency ... OK
* checking replacement functions ... OK
* checking foreign function calls ... OK
* checking R code for possible problems ... OK
* checking Rd files ... OK
* checking Rd metadata ... OK
* checking Rd cross-references ... OK
* checking for missing documentation entries ... OK
* checking for code/documentation mismatches ... OK
* checking Rd \usage sections ... OK
* checking Rd contents ... OK
* checking for unstated dependencies in examples ... OK
* checking contents of ‘data’ directory ... OK
* checking data for non-ASCII characters ... OK
* checking data for ASCII and uncompressed saves ... OK
* checking files in ‘vignettes’ ... OK
* checking examples ... OK
Examples with CPU (user + system) or elapsed time > 5s
user system elapsed
findIT_regionRP 6.304 0.179 6.546
calcRP_coverage 5.197 0.858 6.146
calcRP_region 5.109 0.171 5.288
* checking for unstated dependencies in ‘tests’ ... OK
* checking tests ...
Running ‘testthat.R’
OK
* checking for unstated dependencies in vignettes ... OK
* checking package vignettes in ‘inst/doc’ ... OK
* checking running R code from vignettes ... SKIPPED
* checking re-building of vignette outputs ... SKIPPED
* checking PDF version of manual ... OK
* DONE
Status: OK
FindIT2.Rcheck/00install.out
############################################################################## ############################################################################## ### ### Running command: ### ### /Library/Frameworks/R.framework/Resources/bin/R CMD INSTALL FindIT2 ### ############################################################################## ############################################################################## * installing to library ‘/Library/Frameworks/R.framework/Versions/4.3-arm64/Resources/library’ * installing *source* package ‘FindIT2’ ... ** using staged installation ** R ** data ** inst ** byte-compile and prepare package for lazy loading ** help *** installing help indices ** building package indices ** installing vignettes ** testing if installed package can be loaded from temporary location ** testing if installed package can be loaded from final location ** testing if installed package keeps a record of temporary installation path * DONE (FindIT2)
FindIT2.Rcheck/tests/testthat.Rout
R version 4.3.3 (2024-02-29) -- "Angel Food Cake"
Copyright (C) 2024 The R Foundation for Statistical Computing
Platform: aarch64-apple-darwin20 (64-bit)
R is free software and comes with ABSOLUTELY NO WARRANTY.
You are welcome to redistribute it under certain conditions.
Type 'license()' or 'licence()' for distribution details.
R is a collaborative project with many contributors.
Type 'contributors()' for more information and
'citation()' on how to cite R or R packages in publications.
Type 'demo()' for some demos, 'help()' for on-line help, or
'help.start()' for an HTML browser interface to help.
Type 'q()' to quit R.
> library(testthat)
> library(FindIT2)
Loading required package: GenomicRanges
Loading required package: stats4
Loading required package: BiocGenerics
Attaching package: 'BiocGenerics'
The following objects are masked from 'package:stats':
IQR, mad, sd, var, xtabs
The following objects are masked from 'package:base':
Filter, Find, Map, Position, Reduce, anyDuplicated, aperm, append,
as.data.frame, basename, cbind, colnames, dirname, do.call,
duplicated, eval, evalq, get, grep, grepl, intersect, is.unsorted,
lapply, mapply, match, mget, order, paste, pmax, pmax.int, pmin,
pmin.int, rank, rbind, rownames, sapply, setdiff, sort, table,
tapply, union, unique, unsplit, which.max, which.min
Loading required package: S4Vectors
Attaching package: 'S4Vectors'
The following object is masked from 'package:utils':
findMatches
The following objects are masked from 'package:base':
I, expand.grid, unname
Loading required package: IRanges
Loading required package: GenomeInfoDb
> if (!requireNamespace("TxDb.Athaliana.BioMart.plantsmart28")) {
+ stop("unable to load TxDb.Athaliana.BioMart.plantsmart28")
+ }
Loading required namespace: TxDb.Athaliana.BioMart.plantsmart28
>
> test_check("FindIT2")
>> preparing gene features information... 2024-04-17 13:51:23
>> some scan range may cross Chr bound, trimming... 2024-04-17 13:51:26
>> preparing weight info... 2024-04-17 13:51:26
>> loading E50h_sampleChr5.bw info... 2024-04-17 13:51:26
------------
>> extracting and calcluating Chr5 signal... 2024-04-17 13:51:26
>> dealing with Chr5 left gene signal... 2024-04-17 13:51:31
>> norming Chr5RP accoring to the whole Chr RP... 2024-04-17 13:51:31
>> merging all Chr RP together... 2024-04-17 13:51:31
>> done 2024-04-17 13:51:31
>> checking seqlevels match... 2024-04-17 13:51:31
>> your peak_GR seqlevel:Chr5...
>> your Txdb seqlevel:Chr1 Chr2 Chr3 Chr4 Chr5 ChrM ChrC...
Good, your Chrs in peak_GR is all in Txdb
------------
annotatePeak using geneScan mode begins
>> preparing gene features information and scan region... 2024-04-17 13:51:31
>> some scan range may cross Chr bound, trimming... 2024-04-17 13:51:32
>> finding overlap peak in gene scan region... 2024-04-17 13:51:32
>> dealing with left peak not your gene scan region... 2024-04-17 13:51:32
>> merging two set peaks... 2024-04-17 13:51:33
>> calculating distance and dealing with gene strand... 2024-04-17 13:51:33
>> merging all info together ... 2024-04-17 13:51:33
>> done 2024-04-17 13:51:33
>> calculating peakCenter to TSS using peak-gene pair... 2024-04-17 13:51:33
>> pre-filling 1356 noAssoc peak gene's RP with 0... 2024-04-17 13:51:34
>> calculating RP using centerToTSS and peak score2024-04-17 13:51:34
>> merging all info together 2024-04-17 13:51:36
>> done 2024-04-17 13:51:37
>> calculating peakCenter to TSS using peak-gene pair... 2024-04-17 13:51:37
>> pre-filling 1356 noAssoc peak gene's RP with 0... 2024-04-17 13:51:38
>> calculating RP using centerToTSS and peak score2024-04-17 13:51:38
>> merging all info together 2024-04-17 13:51:40
>> done 2024-04-17 13:51:41
>> checking seqlevels match... 2024-04-17 13:51:41
>> your peak_GR seqlevel:Chr5...
>> your Txdb seqlevel:Chr1 Chr2 Chr3 Chr4 Chr5 ChrM ChrC...
Good, your Chrs in peak_GR is all in Txdb
------------
annotatePeak using geneScan mode begins
>> preparing gene features information and scan region... 2024-04-17 13:51:41
>> some scan range may cross Chr bound, trimming... 2024-04-17 13:51:42
>> finding overlap peak in gene scan region... 2024-04-17 13:51:42
>> dealing with left peak not your gene scan region... 2024-04-17 13:51:42
>> merging two set peaks... 2024-04-17 13:51:42
>> calculating distance and dealing with gene strand... 2024-04-17 13:51:42
>> merging all info together ... 2024-04-17 13:51:42
>> done 2024-04-17 13:51:42
>> calculating peakCenter to TSS using peak-gene pair... 2024-04-17 13:51:42
>> calculating RP using centerToTSS and TF hit 2024-04-17 13:51:43
>> merging all info together 2024-04-17 13:51:43
>> done 2024-04-17 13:51:43
>> calculating peakCenter to TSS using peak-gene pair... 2024-04-17 13:51:43
>> calculating RP using centerToTSS and TF hit 2024-04-17 13:51:44
>> merging all info together 2024-04-17 13:51:44
>> done 2024-04-17 13:51:44
>> checking seqlevels match... 2024-04-17 13:51:45
>> your peak_GR seqlevel:Chr5...
>> your Txdb seqlevel:Chr1 Chr2 Chr3 Chr4 Chr5 ChrM ChrC...
Good, your Chrs in peak_GR is all in Txdb
------------
annotatePeak using geneScan mode begins
>> preparing gene features information and scan region... 2024-04-17 13:51:45
>> some scan range may cross Chr bound, trimming... 2024-04-17 13:51:45
>> finding overlap peak in gene scan region... 2024-04-17 13:51:45
>> dealing with left peak not your gene scan region... 2024-04-17 13:51:45
>> merging two set peaks... 2024-04-17 13:51:47
>> calculating distance and dealing with gene strand... 2024-04-17 13:51:47
>> merging all info together ... 2024-04-17 13:51:47
>> done 2024-04-17 13:51:47
>> calculating peakCenter to TSS using peak-gene pair... 2024-04-17 13:51:47
>> pre-filling 1356 noAssoc peak gene's RP with 0... 2024-04-17 13:51:48
>> calculating RP using centerToTSS and peak score2024-04-17 13:51:48
>> merging all info together 2024-04-17 13:51:50
>> done 2024-04-17 13:51:50
>> extracting RP info from regionRP... 2024-04-17 13:51:51
>> dealing with TF_GR_databse... 2024-04-17 13:51:51
>> calculating percent and p-value... 2024-04-17 13:51:51
>> dealing withE5_0h_R1... 2024-04-17 13:51:51
>> dealing withE5_0h_R2... 2024-04-17 13:51:51
>> dealing withE5_4h_R1... 2024-04-17 13:51:51
>> dealing withE5_4h_R2... 2024-04-17 13:51:51
>> dealing withE5_8h_R1... 2024-04-17 13:51:51
>> dealing withE5_8h_R2... 2024-04-17 13:51:51
>> dealing withE5_16h_R1... 2024-04-17 13:51:51
>> dealing withE5_16h_R2... 2024-04-17 13:51:51
>> dealing withE5_24h_R1... 2024-04-17 13:51:51
>> dealing withE5_24h_R2... 2024-04-17 13:51:51
>> dealing withE5_48h_R1... 2024-04-17 13:51:51
>> dealing withE5_48h_R2... 2024-04-17 13:51:51
>> dealing withE5_48h_R3... 2024-04-17 13:51:52
>> dealing withE5_72h_R1... 2024-04-17 13:51:52
>> dealing withE5_72h_R2... 2024-04-17 13:51:52
>> dealing withE5_72h_R3... 2024-04-17 13:51:52
>> merging all info together... 2024-04-17 13:51:52
>> done 2024-04-17 13:51:52
>> preparing gene features information... 2024-04-17 13:51:52
>> some scan range may cross Chr bound, trimming... 2024-04-17 13:51:53
>> calculating p-value for each TF, which may be time consuming... 2024-04-17 13:51:53
>> merging all info together... 2024-04-17 13:51:53
>> done 2024-04-17 13:51:53
>> dealing with TF_GR_database... 2024-04-17 13:51:53
>> calculating coef and converting into z-score using INT... 2024-04-17 13:51:53
>> dealing with E5_0h_R1... 2024-04-17 13:51:53
>> dealing with E5_0h_R2... 2024-04-17 13:51:53
>> dealing with E5_4h_R1... 2024-04-17 13:51:53
>> dealing with E5_4h_R2... 2024-04-17 13:51:53
>> dealing with E5_8h_R1... 2024-04-17 13:51:54
>> dealing with E5_8h_R2... 2024-04-17 13:51:54
>> dealing with E5_16h_R1... 2024-04-17 13:51:54
>> dealing with E5_16h_R2... 2024-04-17 13:51:54
>> dealing with E5_24h_R1... 2024-04-17 13:51:54
>> dealing with E5_24h_R2... 2024-04-17 13:51:54
>> dealing with E5_48h_R1... 2024-04-17 13:51:54
>> dealing with E5_48h_R2... 2024-04-17 13:51:54
>> dealing with E5_48h_R3... 2024-04-17 13:51:54
>> dealing with E5_72h_R1... 2024-04-17 13:51:54
>> dealing with E5_72h_R2... 2024-04-17 13:51:54
>> dealing with E5_72h_R3... 2024-04-17 13:51:54
>> merging all info together... 2024-04-17 13:51:54
>> done 2024-04-17 13:51:54
>> checking seqlevels match... 2024-04-17 13:51:55
>> your peak_GR seqlevel:Chr5...
>> your Txdb seqlevel:Chr1 Chr2 Chr3 Chr4 Chr5 ChrM ChrC...
Good, your Chrs in peak_GR is all in Txdb
------------
annotatePeak using geneScan mode begins
>> preparing gene features information and scan region... 2024-04-17 13:51:55
>> some scan range may cross Chr bound, trimming... 2024-04-17 13:51:55
>> finding overlap peak in gene scan region... 2024-04-17 13:51:55
>> dealing with left peak not your gene scan region... 2024-04-17 13:51:55
>> merging two set peaks... 2024-04-17 13:51:56
>> calculating distance and dealing with gene strand... 2024-04-17 13:51:56
>> merging all info together ... 2024-04-17 13:51:56
>> done 2024-04-17 13:51:56
>> calculating peakCenter to TSS using peak-gene pair... 2024-04-17 13:51:56
>> calculating RP using centerToTSS and TF hit 2024-04-17 13:51:57
>> merging all info together 2024-04-17 13:51:57
>> done 2024-04-17 13:51:57
>> checking seqlevels match... 2024-04-17 13:51:57
>> your peak_GR seqlevel:5...
>> your Txdb seqlevel:Chr1 Chr2 Chr3 Chr4 Chr5 ChrM ChrC...
>> checking seqlevels match... 2024-04-17 13:51:57
>> your peak_GR seqlevel:Chr5 Chr6...
>> your Txdb seqlevel:Chr1 Chr2 Chr3 Chr4 Chr5 ChrM ChrC...
>> checking seqlevels match... 2024-04-17 13:52:00
>> your peak_GR seqlevel:Chr5...
>> your Txdb seqlevel:Chr1 Chr2 Chr3 Chr4 Chr5 ChrM ChrC...
Good, your Chrs in peak_GR is all in Txdb
>> checking seqlevels match... 2024-04-17 13:52:00
>> your peak_GR seqlevel:Chr5...
>> your Txdb seqlevel:Chr1 Chr2 Chr3 Chr4 Chr5 ChrM ChrC...
Good, your Chrs in peak_GR is all in Txdb
------------
annotating Peak using nearest gene mode begins
>> preparing gene features information... 2024-04-17 13:52:00
>> finding nearest gene and calculating distance... 2024-04-17 13:52:01
>> dealing with gene strand ... 2024-04-17 13:52:01
>> merging all info together ... 2024-04-17 13:52:01
>> done 2024-04-17 13:52:01
>> checking seqlevels match... 2024-04-17 13:52:01
>> your peak_GR seqlevel:Chr5...
>> your Txdb seqlevel:Chr1 Chr2 Chr3 Chr4 Chr5 ChrM ChrC...
Good, your Chrs in peak_GR is all in Txdb
>> checking seqlevels match... 2024-04-17 13:52:01
>> your peak_GR seqlevel:Chr5...
>> your Txdb seqlevel:Chr1 Chr2 Chr3 Chr4 Chr5 ChrM ChrC...
Good, your Chrs in peak_GR is all in Txdb
------------
annotating Peak using nearest gene mode begins
>> preparing gene features information... 2024-04-17 13:52:02
>> finding nearest gene and calculating distance... 2024-04-17 13:52:02
>> dealing with gene strand ... 2024-04-17 13:52:02
>> merging all info together ... 2024-04-17 13:52:02
>> done 2024-04-17 13:52:02
>> checking seqlevels match... 2024-04-17 13:52:03
>> your peak_GR seqlevel:Chr5...
>> your Txdb seqlevel:Chr1 Chr2 Chr3 Chr4 Chr5 ChrM ChrC...
Good, your Chrs in peak_GR is all in Txdb
>> checking seqlevels match... 2024-04-17 13:52:03
>> your peak_GR seqlevel:Chr5...
>> your Txdb seqlevel:Chr1 Chr2 Chr3 Chr4 Chr5 ChrM ChrC...
Good, your Chrs in peak_GR is all in Txdb
------------
annotating Peak using nearest gene mode begins
>> preparing gene features information... 2024-04-17 13:52:03
>> finding nearest gene and calculating distance... 2024-04-17 13:52:04
>> dealing with gene strand ... 2024-04-17 13:52:04
>> merging all info together ... 2024-04-17 13:52:04
>> done 2024-04-17 13:52:04
>> checking seqlevels match... 2024-04-17 13:52:05
>> your peak_GR seqlevel:Chr5...
>> your Txdb seqlevel:Chr1 Chr2 Chr3 Chr4 Chr5 ChrM ChrC...
Good, your Chrs in peak_GR is all in Txdb
>> checking seqlevels match... 2024-04-17 13:52:05
>> your peak_GR seqlevel:Chr5...
>> your Txdb seqlevel:Chr1 Chr2 Chr3 Chr4 Chr5 ChrM ChrC...
Good, your Chrs in peak_GR is all in Txdb
------------
annotating Peak using nearest gene mode begins
>> preparing gene features information... 2024-04-17 13:52:05
>> finding nearest gene and calculating distance... 2024-04-17 13:52:06
>> dealing with gene strand ... 2024-04-17 13:52:06
>> merging all info together ... 2024-04-17 13:52:06
>> done 2024-04-17 13:52:06
It seems that there 1 genes have not been annotated by nearestGene mode
>> checking seqlevels match... 2024-04-17 13:52:07
>> your peak_GR seqlevel:Chr5...
>> your Txdb seqlevel:Chr1 Chr2 Chr3 Chr4 Chr5 ChrM ChrC...
Good, your Chrs in peak_GR is all in Txdb
>> checking seqlevels match... 2024-04-17 13:52:07
>> your peak_GR seqlevel:Chr5...
>> your Txdb seqlevel:Chr1 Chr2 Chr3 Chr4 Chr5 ChrM ChrC...
Good, your Chrs in peak_GR is all in Txdb
------------
annotating Peak using nearest gene mode begins
>> preparing gene features information... 2024-04-17 13:52:07
>> finding nearest gene and calculating distance... 2024-04-17 13:52:08
>> dealing with gene strand ... 2024-04-17 13:52:08
>> merging all info together ... 2024-04-17 13:52:08
>> done 2024-04-17 13:52:08
It seems that there 1 genes have not been annotated by nearestGene mode
>> checking seqlevels match... 2024-04-17 13:52:09
>> your peak_GR seqlevel:Chr5...
>> your Txdb seqlevel:Chr1 Chr2 Chr3 Chr4 Chr5 ChrM ChrC...
Good, your Chrs in peak_GR is all in Txdb
>> checking seqlevels match... 2024-04-17 13:52:10
>> your peak_GR seqlevel:Chr5...
>> your Txdb seqlevel:Chr1 Chr2 Chr3 Chr4 Chr5 ChrM ChrC...
Good, your Chrs in peak_GR is all in Txdb
>> some scan range may cross Chr bound, trimming... 2024-04-17 13:52:11
>> checking seqlevels match... 2024-04-17 13:52:12
>> your peak_GR seqlevel:Chr5...
>> your Txdb seqlevel:Chr1 Chr2 Chr3 Chr4 Chr5 ChrM ChrC...
Good, your Chrs in peak_GR is all in Txdb
>> some scan range may cross Chr bound, trimming... 2024-04-17 13:52:13
Good, your two matrix colnames matchs
>> calculating cor and pvalue, which may be time consuming... 2024-04-17 13:52:14
>> merging all info together... 2024-04-17 13:52:14
>> done 2024-04-17 13:52:14
>> checking seqlevels match... 2024-04-17 13:52:14
>> your peak_GR seqlevel:Chr5...
>> your Txdb seqlevel:Chr1 Chr2 Chr3 Chr4 Chr5 ChrM ChrC...
Good, your Chrs in peak_GR is all in Txdb
>> using scanPromoter parameter to scan promoter for each gene... 2024-04-17 13:52:14
>> checking seqlevels match... 2024-04-17 13:52:14
>> your peak_GR seqlevel:Chr5...
>> your Txdb seqlevel:Chr1 Chr2 Chr3 Chr4 Chr5 ChrM ChrC...
Good, your Chrs in peak_GR is all in Txdb
>> some scan range may cross Chr bound, trimming... 2024-04-17 13:52:15
>> there are 85 gene have scaned promoter
>> using scanEnhancer parameter to scan Enhancer for each gene... 2024-04-17 13:52:15
>> checking seqlevels match... 2024-04-17 13:52:15
>> your peak_GR seqlevel:Chr5...
>> your Txdb seqlevel:Chr1 Chr2 Chr3 Chr4 Chr5 ChrM ChrC...
Good, your Chrs in peak_GR is all in Txdb
>> some scan range may cross Chr bound, trimming... 2024-04-17 13:52:16
>> calculating cor and pvalue, which may be time consuming... 2024-04-17 13:52:16
>> merging all info together... 2024-04-17 13:52:16
>> done 2024-04-17 13:52:16
Good, your two matrix colnames matchs
>> calculating cor and pvalue, which may be time consuming... 2024-04-17 13:52:16
>> merging all info together... 2024-04-17 13:52:17
>> done 2024-04-17 13:52:17
>> checking seqlevels match... 2024-04-17 13:52:17
>> your peak_GR seqlevel:Chr5...
>> your Txdb seqlevel:Chr1 Chr2 Chr3 Chr4 Chr5 ChrM ChrC...
Good, your Chrs in peak_GR is all in Txdb
------------
annotatePeak using geneScan mode begins
>> preparing gene features information and scan region... 2024-04-17 13:52:17
>> some scan range may cross Chr bound, trimming... 2024-04-17 13:52:18
>> finding overlap peak in gene scan region... 2024-04-17 13:52:18
>> dealing with left peak not your gene scan region... 2024-04-17 13:52:18
>> merging two set peaks... 2024-04-17 13:52:18
>> calculating distance and dealing with gene strand... 2024-04-17 13:52:18
>> merging all info together ... 2024-04-17 13:52:18
>> done 2024-04-17 13:52:18
Good, your two matrix colnames matchs
>> calculating cor and pvalue, which may be time consuming... 2024-04-17 13:52:19
>> merging all info together... 2024-04-17 13:52:19
>> done 2024-04-17 13:52:19
>> checking seqlevels match... 2024-04-17 13:52:19
>> your peak_GR seqlevel:Chr5...
>> your Txdb seqlevel:Chr1 Chr2 Chr3 Chr4 Chr5 ChrM ChrC...
Good, your Chrs in peak_GR is all in Txdb
>> using scanPromoter parameter to scan promoter for each gene... 2024-04-17 13:52:19
>> checking seqlevels match... 2024-04-17 13:52:19
>> your peak_GR seqlevel:Chr5...
>> your Txdb seqlevel:Chr1 Chr2 Chr3 Chr4 Chr5 ChrM ChrC...
Good, your Chrs in peak_GR is all in Txdb
>> some scan range may cross Chr bound, trimming... 2024-04-17 13:52:20
>> there are 85 gene have scaned promoter
>> using scanEnhancer parameter to scan Enhancer for each gene... 2024-04-17 13:52:20
>> checking seqlevels match... 2024-04-17 13:52:20
>> your peak_GR seqlevel:Chr5...
>> your Txdb seqlevel:Chr1 Chr2 Chr3 Chr4 Chr5 ChrM ChrC...
Good, your Chrs in peak_GR is all in Txdb
>> some scan range may cross Chr bound, trimming... 2024-04-17 13:52:22
>> calculating cor and pvalue, which may be time consuming... 2024-04-17 13:52:23
>> merging all info together... 2024-04-17 13:52:23
>> done 2024-04-17 13:52:23
Joining with `by = join_by(feature_id)`
Joining with `by = join_by(feature_id)`
`geom_smooth()` using formula = 'y ~ x'
Joining with `by = join_by(feature_id)`
Joining with `by = join_by(feature_id)`
`geom_smooth()` using formula = 'y ~ x'
[ FAIL 0 | WARN 0 | SKIP 0 | PASS 65 ]
>
> proc.time()
user system elapsed
72.478 2.865 75.637
FindIT2.Rcheck/FindIT2-Ex.timings
| name | user | system | elapsed | |
| TF_target_database | 0.000 | 0.000 | 0.001 | |
| calcRP_TFHit | 4.184 | 0.134 | 4.352 | |
| calcRP_coverage | 5.197 | 0.858 | 6.146 | |
| calcRP_region | 5.109 | 0.171 | 5.288 | |
| enhancerPromoterCor | 2.992 | 0.084 | 3.076 | |
| findIT_MARA | 0.602 | 0.035 | 0.638 | |
| findIT_TFHit | 1.040 | 0.043 | 1.082 | |
| findIT_TTPair | 0.087 | 0.006 | 0.093 | |
| findIT_enrichFisher | 0.159 | 0.004 | 0.163 | |
| findIT_enrichWilcox | 0.179 | 0.004 | 0.184 | |
| findIT_regionRP | 6.304 | 0.179 | 6.546 | |
| getAssocPairNumber | 1.318 | 0.048 | 1.379 | |
| integrate_ChIP_RNA | 2.378 | 0.104 | 2.498 | |
| integrate_replicates | 0.002 | 0.000 | 0.002 | |
| jaccard_findIT_TTpair | 0.115 | 0.006 | 0.121 | |
| jaccard_findIT_enrichFisher | 0.242 | 0.009 | 0.252 | |
| loadPeakFile | 0.066 | 0.001 | 0.067 | |
| mm_geneBound | 1.354 | 0.033 | 1.399 | |
| mm_geneScan | 1.047 | 0.025 | 1.077 | |
| mm_nearestGene | 1.182 | 0.042 | 1.227 | |
| peakGeneCor | 2.430 | 0.053 | 2.484 | |
| plot_annoDistance | 1.587 | 0.065 | 1.652 | |
| plot_peakGeneAlias_summary | 1.479 | 0.054 | 1.533 | |
| plot_peakGeneCor | 4.186 | 0.137 | 4.329 | |
| test_geneSet | 0 | 0 | 0 | |