| Back to Mac ARM64 build report for BioC 3.18 |
|
This page was generated on 2024-04-18 11:32:07 -0400 (Thu, 18 Apr 2024).
| Hostname | OS | Arch (*) | R version | Installed pkgs |
|---|---|---|---|---|
| kjohnson1 | macOS 13.6.1 Ventura | arm64 | 4.3.3 (2024-02-29) -- "Angel Food Cake" | 4388 |
| Click on any hostname to see more info about the system (e.g. compilers) (*) as reported by 'uname -p', except on Windows and Mac OS X | ||||
| Package 259/2266 | Hostname | OS / Arch | INSTALL | BUILD | CHECK | BUILD BIN | ||||||||
| CAGEfightR 1.22.0 (landing page) Malte Thodberg
| kjohnson1 | macOS 13.6.1 Ventura / arm64 | OK | OK | OK | OK | ||||||||
|
To the developers/maintainers of the CAGEfightR package: - Use the following Renviron settings to reproduce errors and warnings. - If 'R CMD check' started to fail recently on the Linux builder(s) over a missing dependency, add the missing dependency to 'Suggests:' in your DESCRIPTION file. See Renviron.bioc for more information. |
| Package: CAGEfightR |
| Version: 1.22.0 |
| Command: /Library/Frameworks/R.framework/Resources/bin/R CMD check --install=check:CAGEfightR.install-out.txt --library=/Library/Frameworks/R.framework/Resources/library --no-vignettes --timings CAGEfightR_1.22.0.tar.gz |
| StartedAt: 2024-04-17 07:56:58 -0400 (Wed, 17 Apr 2024) |
| EndedAt: 2024-04-17 08:04:47 -0400 (Wed, 17 Apr 2024) |
| EllapsedTime: 468.9 seconds |
| RetCode: 0 |
| Status: OK |
| CheckDir: CAGEfightR.Rcheck |
| Warnings: 0 |
##############################################################################
##############################################################################
###
### Running command:
###
### /Library/Frameworks/R.framework/Resources/bin/R CMD check --install=check:CAGEfightR.install-out.txt --library=/Library/Frameworks/R.framework/Resources/library --no-vignettes --timings CAGEfightR_1.22.0.tar.gz
###
##############################################################################
##############################################################################
* using log directory ‘/Users/biocbuild/bbs-3.18-bioc-mac-arm64/meat/CAGEfightR.Rcheck’
* using R version 4.3.3 (2024-02-29)
* using platform: aarch64-apple-darwin20 (64-bit)
* R was compiled by
Apple clang version 14.0.0 (clang-1400.0.29.202)
GNU Fortran (GCC) 12.2.0
* running under: macOS Ventura 13.6.1
* using session charset: UTF-8
* using option ‘--no-vignettes’
* checking for file ‘CAGEfightR/DESCRIPTION’ ... OK
* checking extension type ... Package
* this is package ‘CAGEfightR’ version ‘1.22.0’
* package encoding: UTF-8
* checking package namespace information ... OK
* checking package dependencies ... OK
* checking if this is a source package ... OK
* checking if there is a namespace ... OK
* checking for hidden files and directories ... OK
* checking for portable file names ... OK
* checking for sufficient/correct file permissions ... OK
* checking whether package ‘CAGEfightR’ can be installed ... OK
* checking installed package size ... OK
* checking package directory ... OK
* checking ‘build’ directory ... OK
* checking DESCRIPTION meta-information ... OK
* checking top-level files ... OK
* checking for left-over files ... OK
* checking index information ... OK
* checking package subdirectories ... OK
* checking R files for non-ASCII characters ... OK
* checking R files for syntax errors ... OK
* checking whether the package can be loaded ... OK
* checking whether the package can be loaded with stated dependencies ... OK
* checking whether the package can be unloaded cleanly ... OK
* checking whether the namespace can be loaded with stated dependencies ... OK
* checking whether the namespace can be unloaded cleanly ... OK
* checking startup messages can be suppressed ... OK
* checking dependencies in R code ... OK
* checking S3 generic/method consistency ... OK
* checking replacement functions ... OK
* checking foreign function calls ... OK
* checking R code for possible problems ... OK
* checking Rd files ... OK
* checking Rd metadata ... OK
* checking Rd cross-references ... OK
* checking for missing documentation entries ... OK
* checking for code/documentation mismatches ... OK
* checking Rd \usage sections ... OK
* checking Rd contents ... OK
* checking for unstated dependencies in examples ... OK
* checking contents of ‘data’ directory ... OK
* checking data for non-ASCII characters ... OK
* checking LazyData ... OK
* checking data for ASCII and uncompressed saves ... OK
* checking files in ‘vignettes’ ... OK
* checking examples ... OK
Examples with CPU (user + system) or elapsed time > 5s
user system elapsed
findLinks 7.573 1.001 8.223
* checking for unstated dependencies in vignettes ... OK
* checking package vignettes in ‘inst/doc’ ... OK
* checking running R code from vignettes ... SKIPPED
* checking re-building of vignette outputs ... SKIPPED
* checking PDF version of manual ... OK
* DONE
Status: OK
CAGEfightR.Rcheck/00install.out
############################################################################## ############################################################################## ### ### Running command: ### ### /Library/Frameworks/R.framework/Resources/bin/R CMD INSTALL CAGEfightR ### ############################################################################## ############################################################################## * installing to library ‘/Library/Frameworks/R.framework/Versions/4.3-arm64/Resources/library’ * installing *source* package ‘CAGEfightR’ ... ** using staged installation ** R ** data *** moving datasets to lazyload DB ** inst ** byte-compile and prepare package for lazy loading ** help *** installing help indices ** building package indices ** installing vignettes ** testing if installed package can be loaded from temporary location ** testing if installed package can be loaded from final location ** testing if installed package keeps a record of temporary installation path * DONE (CAGEfightR)
CAGEfightR.Rcheck/CAGEfightR-Ex.timings
| name | user | system | elapsed | |
| assignGeneID | 4.556 | 0.130 | 4.771 | |
| assignMissingID | 1.236 | 0.046 | 1.293 | |
| assignTxID | 1.087 | 0.031 | 1.128 | |
| assignTxType | 0.000 | 0.001 | 0.000 | |
| balanceBC | 0.001 | 0.001 | 0.001 | |
| balanceD | 0.001 | 0.000 | 0.001 | |
| bwCommonGenome | 0.040 | 0.007 | 0.048 | |
| bwGenomeCompatibility | 0.021 | 0.004 | 0.025 | |
| bwValid | 0.010 | 0.003 | 0.013 | |
| calcBidirectionality | 0.525 | 0.029 | 0.556 | |
| calcComposition | 1.498 | 0.058 | 1.569 | |
| calcPooled | 0.111 | 0.010 | 0.122 | |
| calcShape | 3.726 | 0.120 | 3.885 | |
| calcSupport | 0.131 | 0.009 | 0.140 | |
| calcTPM | 0.138 | 0.008 | 0.147 | |
| calcTotalTags | 0.076 | 0.007 | 0.084 | |
| checkCTSSs | 0.273 | 0.010 | 0.291 | |
| checkPeaked | 0.082 | 0.007 | 0.090 | |
| checkPooled | 0.064 | 0.008 | 0.073 | |
| clusterBidirectionally | 0.000 | 0.001 | 0.001 | |
| clusterUnidirectionally | 1.312 | 0.035 | 1.361 | |
| combineClusters | 0.802 | 0.030 | 0.838 | |
| convertBAM2BigWig | 0.001 | 0.000 | 0.000 | |
| convertBED2BigWig | 0 | 0 | 0 | |
| convertGRanges2GPos | 0.083 | 0.001 | 0.086 | |
| exampleDesign | 0.005 | 0.011 | 0.016 | |
| findLinks | 7.573 | 1.001 | 8.223 | |
| findStretches | 0.424 | 0.201 | 0.629 | |
| quantifyCTSSs | 0.000 | 0.000 | 0.001 | |
| quantifyCTSSs2 | 0.000 | 0.000 | 0.001 | |
| quantifyClusters | 0.472 | 0.132 | 0.614 | |
| quantifyGenes | 1.466 | 0.291 | 1.785 | |
| quickEnhancers | 0 | 0 | 0 | |
| quickGenes | 0 | 0 | 0 | |
| quickTSSs | 0 | 0 | 0 | |
| shapeEntropy | 0.000 | 0.001 | 0.000 | |
| shapeIQR | 0.001 | 0.000 | 0.001 | |
| shapeMean | 0.001 | 0.000 | 0.001 | |
| shapeMultimodality | 0 | 0 | 0 | |
| subsetByBidirectionality | 0.440 | 0.043 | 0.486 | |
| subsetByComposition | 1.356 | 0.072 | 1.440 | |
| subsetBySupport | 0.072 | 0.013 | 0.088 | |
| swapRanges | 0.243 | 0.019 | 0.265 | |
| swapScores | 0.100 | 0.012 | 0.114 | |
| trackBalance | 0 | 0 | 0 | |
| trackCTSS | 3.753 | 0.428 | 4.221 | |
| trackClusters | 2.472 | 0.032 | 2.536 | |
| trackLinks | 1.002 | 0.562 | 1.385 | |
| trimToPeak | 0.779 | 0.220 | 1.007 | |
| trimToPercentiles | 1.758 | 0.059 | 1.833 | |
| tuneTagClustering | 0.000 | 0.000 | 0.001 | |
| utilsAggregateRows | 0.410 | 0.393 | 0.812 | |
| utilsDeStrand | 0.112 | 0.004 | 0.119 | |
| utilsScoreOverlaps | 0.063 | 0.001 | 0.065 | |
| utilsSimplifyTxDb | 0.000 | 0.001 | 0.001 | |