| Back to Mac ARM64 build report for BioC 3.18 |
|
This page was generated on 2024-04-18 11:32:06 -0400 (Thu, 18 Apr 2024).
| Hostname | OS | Arch (*) | R version | Installed pkgs |
|---|---|---|---|---|
| kjohnson1 | macOS 13.6.1 Ventura | arm64 | 4.3.3 (2024-02-29) -- "Angel Food Cake" | 4388 |
| Click on any hostname to see more info about the system (e.g. compilers) (*) as reported by 'uname -p', except on Windows and Mac OS X | ||||
| Package 186/2266 | Hostname | OS / Arch | INSTALL | BUILD | CHECK | BUILD BIN | ||||||||
| BiocPkgTools 1.20.0 (landing page) Sean Davis
| kjohnson1 | macOS 13.6.1 Ventura / arm64 | OK | OK | OK | OK | ||||||||
|
To the developers/maintainers of the BiocPkgTools package: - Use the following Renviron settings to reproduce errors and warnings. - If 'R CMD check' started to fail recently on the Linux builder(s) over a missing dependency, add the missing dependency to 'Suggests:' in your DESCRIPTION file. See Renviron.bioc for more information. |
| Package: BiocPkgTools |
| Version: 1.20.0 |
| Command: /Library/Frameworks/R.framework/Resources/bin/R CMD check --install=check:BiocPkgTools.install-out.txt --library=/Library/Frameworks/R.framework/Resources/library --no-vignettes --timings BiocPkgTools_1.20.0.tar.gz |
| StartedAt: 2024-04-17 07:04:33 -0400 (Wed, 17 Apr 2024) |
| EndedAt: 2024-04-17 07:09:34 -0400 (Wed, 17 Apr 2024) |
| EllapsedTime: 301.4 seconds |
| RetCode: 0 |
| Status: OK |
| CheckDir: BiocPkgTools.Rcheck |
| Warnings: 0 |
##############################################################################
##############################################################################
###
### Running command:
###
### /Library/Frameworks/R.framework/Resources/bin/R CMD check --install=check:BiocPkgTools.install-out.txt --library=/Library/Frameworks/R.framework/Resources/library --no-vignettes --timings BiocPkgTools_1.20.0.tar.gz
###
##############################################################################
##############################################################################
* using log directory ‘/Users/biocbuild/bbs-3.18-bioc-mac-arm64/meat/BiocPkgTools.Rcheck’
* using R version 4.3.3 (2024-02-29)
* using platform: aarch64-apple-darwin20 (64-bit)
* R was compiled by
Apple clang version 14.0.0 (clang-1400.0.29.202)
GNU Fortran (GCC) 12.2.0
* running under: macOS Ventura 13.6.1
* using session charset: UTF-8
* using option ‘--no-vignettes’
* checking for file ‘BiocPkgTools/DESCRIPTION’ ... OK
* checking extension type ... Package
* this is package ‘BiocPkgTools’ version ‘1.20.0’
* package encoding: UTF-8
* checking package namespace information ... OK
* checking package dependencies ... OK
* checking if this is a source package ... OK
* checking if there is a namespace ... OK
* checking for hidden files and directories ... OK
* checking for portable file names ... OK
* checking for sufficient/correct file permissions ... OK
* checking whether package ‘BiocPkgTools’ can be installed ... OK
* checking installed package size ... OK
* checking package directory ... OK
* checking ‘build’ directory ... OK
* checking DESCRIPTION meta-information ... OK
* checking top-level files ... OK
* checking for left-over files ... OK
* checking index information ... OK
* checking package subdirectories ... OK
* checking R files for non-ASCII characters ... OK
* checking R files for syntax errors ... OK
* checking whether the package can be loaded ... OK
* checking whether the package can be loaded with stated dependencies ... OK
* checking whether the package can be unloaded cleanly ... OK
* checking whether the namespace can be loaded with stated dependencies ... OK
* checking whether the namespace can be unloaded cleanly ... OK
* checking dependencies in R code ... NOTE
Unexported objects imported by ':::' calls:
‘BiocManager:::.repositories’ ‘BiocManager:::.repositories_base’
‘BiocManager:::.repositories_bioc’
‘BiocManager:::.repository_container_version’
‘BiocManager:::.version_bioc’
See the note in ?`:::` about the use of this operator.
* checking S3 generic/method consistency ... OK
* checking replacement functions ... OK
* checking foreign function calls ... OK
* checking R code for possible problems ... OK
* checking Rd files ... OK
* checking Rd metadata ... OK
* checking Rd cross-references ... OK
* checking for missing documentation entries ... OK
* checking for code/documentation mismatches ... OK
* checking Rd \usage sections ... OK
* checking Rd contents ... OK
* checking for unstated dependencies in examples ... OK
* checking files in ‘vignettes’ ... OK
* checking examples ... OK
Examples with CPU (user + system) or elapsed time > 5s
user system elapsed
biocBuildReport 6.908 24.468 34.303
get_bioc_data 14.101 0.449 15.184
firstInBioc 13.793 0.379 14.495
biocDownloadStats 12.675 0.350 13.618
class-dependencies 7.376 0.272 7.665
pkgCombDependencyGain 6.943 0.209 7.989
pkgDepMetrics 6.428 0.146 7.584
* checking for unstated dependencies in ‘tests’ ... OK
* checking tests ...
Running ‘testthat.R’
OK
* checking for unstated dependencies in vignettes ... OK
* checking package vignettes in ‘inst/doc’ ... OK
* checking running R code from vignettes ... SKIPPED
* checking re-building of vignette outputs ... SKIPPED
* checking PDF version of manual ... OK
* DONE
Status: 1 NOTE
See
‘/Users/biocbuild/bbs-3.18-bioc-mac-arm64/meat/BiocPkgTools.Rcheck/00check.log’
for details.
BiocPkgTools.Rcheck/00install.out
############################################################################## ############################################################################## ### ### Running command: ### ### /Library/Frameworks/R.framework/Resources/bin/R CMD INSTALL BiocPkgTools ### ############################################################################## ############################################################################## * installing to library ‘/Library/Frameworks/R.framework/Versions/4.3-arm64/Resources/library’ * installing *source* package ‘BiocPkgTools’ ... ** using staged installation ** R ** inst ** byte-compile and prepare package for lazy loading ** help *** installing help indices ** building package indices ** installing vignettes ** testing if installed package can be loaded from temporary location ** testing if installed package can be loaded from final location ** testing if installed package keeps a record of temporary installation path * DONE (BiocPkgTools)
BiocPkgTools.Rcheck/tests/testthat.Rout
R version 4.3.3 (2024-02-29) -- "Angel Food Cake"
Copyright (C) 2024 The R Foundation for Statistical Computing
Platform: aarch64-apple-darwin20 (64-bit)
R is free software and comes with ABSOLUTELY NO WARRANTY.
You are welcome to redistribute it under certain conditions.
Type 'license()' or 'licence()' for distribution details.
R is a collaborative project with many contributors.
Type 'contributors()' for more information and
'citation()' on how to cite R or R packages in publications.
Type 'demo()' for some demos, 'help()' for on-line help, or
'help.start()' for an HTML browser interface to help.
Type 'q()' to quit R.
> library(testthat)
> library(BiocPkgTools)
Loading required package: htmlwidgets
>
> test_check("BiocPkgTools")
trying URL 'https://bioconductor.org/packages/3.18/bioc/vignettes/a4/inst/doc/a4vignette.pdf'
Content type 'application/pdf' length 1305938 bytes (1.2 MB)
==================================================
downloaded 1.2 MB
[ FAIL 0 | WARN 0 | SKIP 0 | PASS 27 ]
>
> proc.time()
user system elapsed
27.072 25.113 58.720
BiocPkgTools.Rcheck/BiocPkgTools-Ex.timings
| name | user | system | elapsed | |
| activitySince | 0.000 | 0.000 | 0.001 | |
| anacondaDownloadStats | 1.778 | 0.038 | 3.643 | |
| biocBuildReport | 6.908 | 24.468 | 34.303 | |
| biocDownloadStats | 12.675 | 0.350 | 13.618 | |
| biocMaintained | 1.792 | 0.115 | 2.253 | |
| biocPkgList | 1.258 | 0.045 | 1.339 | |
| biocPkgRanges | 0 | 0 | 0 | |
| biocRevDepEmail | 2.361 | 0.141 | 4.996 | |
| buildPkgDependencyDataFrame | 2.635 | 0.077 | 2.823 | |
| buildPkgDependencyIgraph | 1.587 | 0.054 | 1.682 | |
| class-dependencies | 7.376 | 0.272 | 7.665 | |
| firstInBioc | 13.793 | 0.379 | 14.495 | |
| generateBiocPkgDOI | 0 | 0 | 0 | |
| getBiocVignette | 1.018 | 0.044 | 2.003 | |
| get_bioc_data | 14.101 | 0.449 | 15.184 | |
| get_cre_orcids | 0.008 | 0.001 | 0.009 | |
| githubDetails | 2.516 | 0.361 | 3.741 | |
| githubURLParts | 1.358 | 0.019 | 1.571 | |
| inducedSubgraphByPkgs | 1.556 | 0.043 | 1.635 | |
| latestPkgStats | 0 | 0 | 0 | |
| orcid_table | 0 | 0 | 0 | |
| pkgBiocDeps | 1.595 | 0.083 | 1.715 | |
| pkgBiocRevDeps | 1.962 | 0.080 | 2.126 | |
| pkgCombDependencyGain | 6.943 | 0.209 | 7.989 | |
| pkgDepImports | 0.144 | 0.001 | 0.146 | |
| pkgDepMetrics | 6.428 | 0.146 | 7.584 | |
| pkgDownloadRank | 1.760 | 0.099 | 3.115 | |
| pkgDownloadStats | 0.034 | 0.004 | 0.425 | |
| problemPage | 0 | 0 | 0 | |
| repositoryStats | 0.086 | 0.004 | 0.090 | |
| subgraphByDegree | 1.165 | 0.023 | 1.271 | |