| Back to Mac ARM64 build report for BioC 3.18 |
|
This page was generated on 2024-04-18 11:32:07 -0400 (Thu, 18 Apr 2024).
| Hostname | OS | Arch (*) | R version | Installed pkgs |
|---|---|---|---|---|
| kjohnson1 | macOS 13.6.1 Ventura | arm64 | 4.3.3 (2024-02-29) -- "Angel Food Cake" | 4388 |
| Click on any hostname to see more info about the system (e.g. compilers) (*) as reported by 'uname -p', except on Windows and Mac OS X | ||||
| Package 252/2266 | Hostname | OS / Arch | INSTALL | BUILD | CHECK | BUILD BIN | ||||||||
| BUS 1.58.0 (landing page) Yuanhua Liu
| kjohnson1 | macOS 13.6.1 Ventura / arm64 | OK | OK | OK | OK | ||||||||
|
To the developers/maintainers of the BUS package: - Use the following Renviron settings to reproduce errors and warnings. - If 'R CMD check' started to fail recently on the Linux builder(s) over a missing dependency, add the missing dependency to 'Suggests:' in your DESCRIPTION file. See Renviron.bioc for more information. |
| Package: BUS |
| Version: 1.58.0 |
| Command: /Library/Frameworks/R.framework/Resources/bin/R CMD check --install=check:BUS.install-out.txt --library=/Library/Frameworks/R.framework/Resources/library --no-vignettes --timings BUS_1.58.0.tar.gz |
| StartedAt: 2024-04-17 07:52:03 -0400 (Wed, 17 Apr 2024) |
| EndedAt: 2024-04-17 07:52:32 -0400 (Wed, 17 Apr 2024) |
| EllapsedTime: 29.3 seconds |
| RetCode: 0 |
| Status: OK |
| CheckDir: BUS.Rcheck |
| Warnings: 0 |
##############################################################################
##############################################################################
###
### Running command:
###
### /Library/Frameworks/R.framework/Resources/bin/R CMD check --install=check:BUS.install-out.txt --library=/Library/Frameworks/R.framework/Resources/library --no-vignettes --timings BUS_1.58.0.tar.gz
###
##############################################################################
##############################################################################
* using log directory ‘/Users/biocbuild/bbs-3.18-bioc-mac-arm64/meat/BUS.Rcheck’
* using R version 4.3.3 (2024-02-29)
* using platform: aarch64-apple-darwin20 (64-bit)
* R was compiled by
Apple clang version 14.0.0 (clang-1400.0.29.202)
GNU Fortran (GCC) 12.2.0
* running under: macOS Ventura 13.6.1
* using session charset: UTF-8
* using option ‘--no-vignettes’
* checking for file ‘BUS/DESCRIPTION’ ... OK
* checking extension type ... Package
* this is package ‘BUS’ version ‘1.58.0’
* checking package namespace information ... OK
* checking package dependencies ... OK
* checking if this is a source package ... OK
* checking if there is a namespace ... OK
* checking for hidden files and directories ... OK
* checking for portable file names ... OK
* checking for sufficient/correct file permissions ... OK
* checking whether package ‘BUS’ can be installed ... OK
* used C++ compiler: ‘Apple clang version 15.0.0 (clang-1500.0.40.1)’
* used SDK: ‘MacOSX11.3.sdk’
* checking installed package size ... OK
* checking package directory ... OK
* checking ‘build’ directory ... OK
* checking DESCRIPTION meta-information ... OK
* checking top-level files ... OK
* checking for left-over files ... OK
* checking index information ... OK
* checking package subdirectories ... OK
* checking R files for non-ASCII characters ... OK
* checking R files for syntax errors ... OK
* checking whether the package can be loaded ... OK
* checking whether the package can be loaded with stated dependencies ... OK
* checking whether the package can be unloaded cleanly ... OK
* checking whether the namespace can be loaded with stated dependencies ... OK
* checking whether the namespace can be unloaded cleanly ... OK
* checking dependencies in R code ... NOTE
Package in Depends field not imported from: ‘minet’
These packages need to be imported from (in the NAMESPACE file)
for when this namespace is loaded but not attached.
* checking S3 generic/method consistency ... OK
* checking replacement functions ... OK
* checking foreign function calls ... NOTE
Call with DUP:
.Call("MINempirical", mat, nat, N, n1, n2, DUP = FALSE)
DUP is no longer supported and will be ignored.
* checking R code for possible problems ... NOTE
gene.pvalue : fi: warning in matrix(1:nrow(EXP), nc = 1): partial
argument match of 'nc' to 'ncol'
gene.pvalue: warning in matrix(1:nrow(EXP), nc = 1): partial argument
match of 'nc' to 'ncol'
gene.pvalue : fi: warning in matrix(1:ncol(real), nc = 1): partial
argument match of 'nc' to 'ncol'
gene.pvalue: warning in matrix(1:nrow(real), nc = 1): partial argument
match of 'nc' to 'ncol'
gene.pvalue : fi1: warning in matrix(1:ncol(real), nc = 1): partial
argument match of 'nc' to 'ncol'
gene.trait.pvalue: warning in matrix(0, nr = nrow(EXP), nc =
nrow(trait)): partial argument match of 'nr' to 'nrow'
gene.trait.pvalue: warning in matrix(0, nr = nrow(EXP), nc =
nrow(trait)): partial argument match of 'nc' to 'ncol'
gene.trait.pvalue : fi: warning in matrix(1:nrow(trait), nc = 1):
partial argument match of 'nc' to 'ncol'
gene.trait.pvalue: warning in matrix(1:nrow(EXP), nc = 1): partial
argument match of 'nc' to 'ncol'
gene.trait.pvalue : fi: warning in matrix(1:ncol(real), nc = 1):
partial argument match of 'nc' to 'ncol'
gene.trait.pvalue: warning in matrix(1:nrow(real), nc = 1): partial
argument match of 'nc' to 'ncol'
gene.trait.pvalue : fj: warning in matrix(1:nrow(real), nc = 1):
partial argument match of 'nc' to 'ncol'
gene.trait.pvalue: warning in matrix(1:ncol(real), nc = 1): partial
argument match of 'nc' to 'ncol'
gene.pvalue: multiple local function definitions for ‘fi’ with
different formal arguments
gene.similarity : s.similarity: no visible global function definition
for ‘build.mim’
gene.similarity : s.similarity: no visible global function definition
for ‘mrnet’
gene.similarity : s.similarity: no visible global function definition
for ‘aracne’
gene.similarity : s.similarity: no visible global function definition
for ‘clr’
gene.trait.pvalue: multiple local function definitions for ‘fi’ with
different formal arguments
Undefined global functions or variables:
aracne build.mim clr mrnet
* checking Rd files ... OK
* checking Rd metadata ... OK
* checking Rd cross-references ... OK
* checking for missing documentation entries ... OK
* checking for code/documentation mismatches ... OK
* checking Rd \usage sections ... OK
* checking Rd contents ... OK
* checking for unstated dependencies in examples ... OK
* checking contents of ‘data’ directory ... OK
* checking data for non-ASCII characters ... OK
* checking data for ASCII and uncompressed saves ... OK
* checking line endings in C/C++/Fortran sources/headers ... OK
* checking compiled code ... NOTE
Note: information on .o files is not available
* checking sizes of PDF files under ‘inst/doc’ ... OK
* checking files in ‘vignettes’ ... OK
* checking examples ... OK
* checking for unstated dependencies in vignettes ... OK
* checking package vignettes in ‘inst/doc’ ... OK
* checking running R code from vignettes ... SKIPPED
* checking re-building of vignette outputs ... SKIPPED
* checking PDF version of manual ... OK
* DONE
Status: 4 NOTEs
See
‘/Users/biocbuild/bbs-3.18-bioc-mac-arm64/meat/BUS.Rcheck/00check.log’
for details.
BUS.Rcheck/00install.out
############################################################################## ############################################################################## ### ### Running command: ### ### /Library/Frameworks/R.framework/Resources/bin/R CMD INSTALL BUS ### ############################################################################## ############################################################################## * installing to library ‘/Library/Frameworks/R.framework/Versions/4.3-arm64/Resources/library’ * installing *source* package ‘BUS’ ... ** using staged installation ** libs using C++ compiler: ‘Apple clang version 15.0.0 (clang-1500.0.40.1)’ using SDK: ‘MacOSX11.3.sdk’ clang++ -arch arm64 -std=gnu++17 -I"/Library/Frameworks/R.framework/Resources/include" -DNDEBUG -I/opt/R/arm64/include -fPIC -falign-functions=64 -Wall -g -O2 -c BUS.cpp -o BUS.o clang++ -arch arm64 -std=gnu++17 -dynamiclib -Wl,-headerpad_max_install_names -undefined dynamic_lookup -L/Library/Frameworks/R.framework/Resources/lib -L/opt/R/arm64/lib -o BUS.so BUS.o -F/Library/Frameworks/R.framework/.. -framework R -Wl,-framework -Wl,CoreFoundation installing to /Library/Frameworks/R.framework/Versions/4.3-arm64/Resources/library/00LOCK-BUS/00new/BUS/libs ** R ** data ** inst ** byte-compile and prepare package for lazy loading ** help *** installing help indices ** building package indices ** installing vignettes ** testing if installed package can be loaded from temporary location ** checking absolute paths in shared objects and dynamic libraries ** testing if installed package can be loaded from final location ** testing if installed package keeps a record of temporary installation path * DONE (BUS)
BUS.Rcheck/BUS-Ex.timings
| name | user | system | elapsed | |
| BUS | 0.048 | 0.007 | 0.057 | |
| gene.pvalue | 0.786 | 0.054 | 0.846 | |
| gene.similarity | 0.004 | 0.002 | 0.005 | |
| gene.trait.pvalue | 0.686 | 0.010 | 0.703 | |
| gene.trait.similarity | 0.019 | 0.004 | 0.024 | |
| pred.network | 0.811 | 0.041 | 0.862 | |
| tumors.mRNA | 0.015 | 0.003 | 0.018 | |
| tumors.miRNA | 0.001 | 0.002 | 0.004 | |