| Back to Mac ARM64 build report for BioC 3.18 |
|
This page was generated on 2024-04-18 11:32:06 -0400 (Thu, 18 Apr 2024).
| Hostname | OS | Arch (*) | R version | Installed pkgs |
|---|---|---|---|---|
| kjohnson1 | macOS 13.6.1 Ventura | arm64 | 4.3.3 (2024-02-29) -- "Angel Food Cake" | 4388 |
| Click on any hostname to see more info about the system (e.g. compilers) (*) as reported by 'uname -p', except on Windows and Mac OS X | ||||
| Package 157/2266 | Hostname | OS / Arch | INSTALL | BUILD | CHECK | BUILD BIN | ||||||||
Alex Lewin
| kjohnson1 | macOS 13.6.1 Ventura / arm64 | ERROR | ERROR | skipped | skipped | ||||||||
|
To the developers/maintainers of the BGmix package: - Use the following Renviron settings to reproduce errors and warnings. - If 'R CMD check' started to fail recently on the Linux builder(s) over a missing dependency, add the missing dependency to 'Suggests:' in your DESCRIPTION file. See Renviron.bioc for more information. |
| Package: BGmix |
| Version: 1.62.0 |
| Command: /Library/Frameworks/R.framework/Resources/bin/R CMD build --keep-empty-dirs --no-resave-data BGmix |
| StartedAt: 2024-04-16 14:06:35 -0400 (Tue, 16 Apr 2024) |
| EndedAt: 2024-04-16 14:06:45 -0400 (Tue, 16 Apr 2024) |
| EllapsedTime: 9.2 seconds |
| RetCode: 1 |
| Status: ERROR |
| PackageFile: None |
| PackageFileSize: NA |
##############################################################################
##############################################################################
###
### Running command:
###
### /Library/Frameworks/R.framework/Resources/bin/R CMD build --keep-empty-dirs --no-resave-data BGmix
###
##############################################################################
##############################################################################
* checking for file ‘BGmix/DESCRIPTION’ ... OK
* preparing ‘BGmix’:
* checking DESCRIPTION meta-information ... OK
* cleaning src
* installing the package to build vignettes
-----------------------------------
* installing *source* package ‘BGmix’ ...
** using staged installation
checking for gcc... clang -arch arm64
checking for C compiler default output file name... rm: a.out.dSYM: is a directory
a.out
checking whether the C compiler works... yes
checking whether we are cross compiling... no
checking for suffix of executables...
checking for suffix of object files... o
checking whether we are using the GNU C compiler... yes
checking whether clang -arch arm64 accepts -g... yes
checking for clang -arch arm64 option to accept ISO C89... none needed
checking for clang -arch arm64 option to accept ISO C99... none needed
checking for cos in -lm... yes
checking for an ANSI C-conforming const... yes
checking for inline... inline
configure: creating ./config.status
config.status: creating src/Makevars
** libs
using C++ compiler: ‘Apple clang version 15.0.0 (clang-1500.0.40.1)’
using SDK: ‘MacOSX11.3.sdk’
clang++ -arch arm64 -std=gnu++17 -I"/Library/Frameworks/R.framework/Resources/include" -DNDEBUG -I ../boostIncl -I/opt/R/arm64/include -fPIC -falign-functions=64 -Wall -g -O2 -falign-functions=64 -Wall -g -O2 -DUSING_R -c BGmix_main.cpp -o BGmix_main.o
In file included from BGmix_main.cpp:25:
In file included from ./updates_BGmix.h:1:
In file included from ./rand.hh:32:
In file included from ../boostIncl/boost/random.hpp:70:
../boostIncl/boost/random/uniform_on_sphere.hpp:55:25: error: no member named 'bind2nd' in namespace 'std'
std::bind2nd(std::divides<RealType>(), sqrt(sqsum)));
~~~~~^
1 error generated.
make: *** [BGmix_main.o] Error 1
ERROR: compilation failed for package ‘BGmix’
* removing ‘/private/tmp/RtmpQpxqHA/Rinst19aae0e218f/BGmix’
-----------------------------------
ERROR: package installation failed