| Back to Multiple platform build/check report for BioC 3.18: simplified long |
|
This page was generated on 2024-04-17 11:36:29 -0400 (Wed, 17 Apr 2024).
| Hostname | OS | Arch (*) | R version | Installed pkgs |
|---|---|---|---|---|
| nebbiolo2 | Linux (Ubuntu 22.04.3 LTS) | x86_64 | 4.3.3 (2024-02-29) -- "Angel Food Cake" | 4676 |
| palomino4 | Windows Server 2022 Datacenter | x64 | 4.3.3 (2024-02-29 ucrt) -- "Angel Food Cake" | 4414 |
| merida1 | macOS 12.7.1 Monterey | x86_64 | 4.3.3 (2024-02-29) -- "Angel Food Cake" | 4437 |
| Click on any hostname to see more info about the system (e.g. compilers) (*) as reported by 'uname -p', except on Windows and Mac OS X | ||||
| Package 2190/2266 | Hostname | OS / Arch | INSTALL | BUILD | CHECK | BUILD BIN | ||||||||
| ttgsea 1.10.0 (landing page) Dongmin Jung
| nebbiolo2 | Linux (Ubuntu 22.04.3 LTS) / x86_64 | OK | OK | OK | |||||||||
| palomino4 | Windows Server 2022 Datacenter / x64 | OK | OK | OK | OK | |||||||||
| merida1 | macOS 12.7.1 Monterey / x86_64 | OK | OK | OK | OK | |||||||||
| kjohnson1 | macOS 13.6.1 Ventura / arm64 | see weekly results here | ||||||||||||
|
To the developers/maintainers of the ttgsea package: - Allow up to 24 hours (and sometimes 48 hours) for your latest push to git@git.bioconductor.org:packages/ttgsea.git to reflect on this report. See Troubleshooting Build Report for more information. - Use the following Renviron settings to reproduce errors and warnings. - If 'R CMD check' started to fail recently on the Linux builder(s) over a missing dependency, add the missing dependency to 'Suggests:' in your DESCRIPTION file. See Renviron.bioc for more information. |
| Package: ttgsea |
| Version: 1.10.0 |
| Command: /home/biocbuild/bbs-3.18-bioc/R/bin/R CMD check --install=check:ttgsea.install-out.txt --library=/home/biocbuild/bbs-3.18-bioc/R/site-library --timings ttgsea_1.10.0.tar.gz |
| StartedAt: 2024-04-16 04:59:36 -0400 (Tue, 16 Apr 2024) |
| EndedAt: 2024-04-16 05:03:01 -0400 (Tue, 16 Apr 2024) |
| EllapsedTime: 204.8 seconds |
| RetCode: 0 |
| Status: OK |
| CheckDir: ttgsea.Rcheck |
| Warnings: 0 |
##############################################################################
##############################################################################
###
### Running command:
###
### /home/biocbuild/bbs-3.18-bioc/R/bin/R CMD check --install=check:ttgsea.install-out.txt --library=/home/biocbuild/bbs-3.18-bioc/R/site-library --timings ttgsea_1.10.0.tar.gz
###
##############################################################################
##############################################################################
* using log directory ‘/home/biocbuild/bbs-3.18-bioc/meat/ttgsea.Rcheck’
* using R version 4.3.3 (2024-02-29)
* using platform: x86_64-pc-linux-gnu (64-bit)
* R was compiled by
gcc (Ubuntu 11.4.0-1ubuntu1~22.04) 11.4.0
GNU Fortran (Ubuntu 11.4.0-1ubuntu1~22.04) 11.4.0
* running under: Ubuntu 22.04.4 LTS
* using session charset: UTF-8
* checking for file ‘ttgsea/DESCRIPTION’ ... OK
* checking extension type ... Package
* this is package ‘ttgsea’ version ‘1.10.0’
* checking package namespace information ... OK
* checking package dependencies ... OK
* checking if this is a source package ... OK
* checking if there is a namespace ... OK
* checking for hidden files and directories ... OK
* checking for portable file names ... OK
* checking for sufficient/correct file permissions ... OK
* checking whether package ‘ttgsea’ can be installed ... OK
* checking installed package size ... OK
* checking package directory ... OK
* checking ‘build’ directory ... OK
* checking DESCRIPTION meta-information ... OK
* checking top-level files ... OK
* checking for left-over files ... OK
* checking index information ... OK
* checking package subdirectories ... OK
* checking R files for non-ASCII characters ... OK
* checking R files for syntax errors ... OK
* checking whether the package can be loaded ... OK
* checking whether the package can be loaded with stated dependencies ... OK
* checking whether the package can be unloaded cleanly ... OK
* checking whether the namespace can be loaded with stated dependencies ... OK
* checking whether the namespace can be unloaded cleanly ... OK
* checking loading without being on the library search path ... OK
* checking dependencies in R code ... OK
* checking S3 generic/method consistency ... OK
* checking replacement functions ... OK
* checking foreign function calls ... OK
* checking R code for possible problems ... OK
* checking Rd files ... OK
* checking Rd metadata ... OK
* checking Rd cross-references ... OK
* checking for missing documentation entries ... OK
* checking for code/documentation mismatches ... OK
* checking Rd \usage sections ... OK
* checking Rd contents ... OK
* checking for unstated dependencies in examples ... OK
* checking files in ‘vignettes’ ... OK
* checking examples ... OK
Examples with CPU (user + system) or elapsed time > 5s
user system elapsed
predict_model 24.531 1.704 13.845
fit_model 23.758 1.471 14.836
token_vector 9.637 0.339 6.199
text_token 9.519 0.393 6.107
* checking for unstated dependencies in ‘tests’ ... OK
* checking tests ...
Running ‘testthat.R’
OK
* checking for unstated dependencies in vignettes ... OK
* checking package vignettes in ‘inst/doc’ ... OK
* checking running R code from vignettes ...
‘ttgsea.Rmd’ using ‘UTF-8’... OK
OK
* checking re-building of vignette outputs ... OK
* checking PDF version of manual ... OK
* DONE
Status: OK
ttgsea.Rcheck/00install.out
############################################################################## ############################################################################## ### ### Running command: ### ### /home/biocbuild/bbs-3.18-bioc/R/bin/R CMD INSTALL ttgsea ### ############################################################################## ############################################################################## * installing to library ‘/home/biocbuild/bbs-3.18-bioc/R/site-library’ * installing *source* package ‘ttgsea’ ... ** using staged installation ** R ** byte-compile and prepare package for lazy loading ** help *** installing help indices ** building package indices ** installing vignettes ** testing if installed package can be loaded from temporary location ** testing if installed package can be loaded from final location ** testing if installed package keeps a record of temporary installation path * DONE (ttgsea)
ttgsea.Rcheck/tests/testthat.Rout
R version 4.3.3 (2024-02-29) -- "Angel Food Cake"
Copyright (C) 2024 The R Foundation for Statistical Computing
Platform: x86_64-pc-linux-gnu (64-bit)
R is free software and comes with ABSOLUTELY NO WARRANTY.
You are welcome to redistribute it under certain conditions.
Type 'license()' or 'licence()' for distribution details.
R is a collaborative project with many contributors.
Type 'contributors()' for more information and
'citation()' on how to cite R or R packages in publications.
Type 'demo()' for some demos, 'help()' for on-line help, or
'help.start()' for an HTML browser interface to help.
Type 'q()' to quit R.
> library(testthat)
> library(ttgsea)
Loading required package: keras
>
> test_check("ttgsea")
2024-04-16 05:01:27.771644: I tensorflow/core/util/port.cc:110] oneDNN custom operations are on. You may see slightly different numerical results due to floating-point round-off errors from different computation orders. To turn them off, set the environment variable `TF_ENABLE_ONEDNN_OPTS=0`.
2024-04-16 05:01:27.774372: I tensorflow/tsl/cuda/cudart_stub.cc:28] Could not find cuda drivers on your machine, GPU will not be used.
2024-04-16 05:01:27.828906: I tensorflow/tsl/cuda/cudart_stub.cc:28] Could not find cuda drivers on your machine, GPU will not be used.
2024-04-16 05:01:27.829458: I tensorflow/core/platform/cpu_feature_guard.cc:182] This TensorFlow binary is optimized to use available CPU instructions in performance-critical operations.
To enable the following instructions: AVX2 AVX512F AVX512_VNNI FMA, in other operations, rebuild TensorFlow with the appropriate compiler flags.
2024-04-16 05:01:28.911941: W tensorflow/compiler/tf2tensorrt/utils/py_utils.cc:38] TF-TRT Warning: Could not find TensorRT
1/45 [..............................] - ETA: 2:25 - loss: 1.9582 - pearson_correlation: -0.2897
5/45 [==>...........................] - ETA: 0s - loss: 1.5216 - pearson_correlation: -0.0579
8/45 [====>.........................] - ETA: 0s - loss: 1.5091 - pearson_correlation: -0.0289
10/45 [=====>........................] - ETA: 0s - loss: 1.5128 - pearson_correlation: -0.0210
12/45 [=======>......................] - ETA: 0s - loss: 1.5363 - pearson_correlation: -0.0201
15/45 [=========>....................] - ETA: 0s - loss: 1.5238 - pearson_correlation: -0.0279
17/45 [==========>...................] - ETA: 0s - loss: 1.5224 - pearson_correlation: -0.0207
20/45 [============>.................] - ETA: 0s - loss: 1.5269 - pearson_correlation: -0.0184
22/45 [=============>................] - ETA: 0s - loss: 1.5311 - pearson_correlation: -0.0090
24/45 [===============>..............] - ETA: 0s - loss: 1.5298 - pearson_correlation: 0.0093
27/45 [=================>............] - ETA: 0s - loss: 1.5456 - pearson_correlation: 0.0169
29/45 [==================>...........] - ETA: 0s - loss: 1.5445 - pearson_correlation: 0.0336
31/45 [===================>..........] - ETA: 0s - loss: 1.5514 - pearson_correlation: 0.0417
33/45 [=====================>........] - ETA: 0s - loss: 1.5456 - pearson_correlation: 0.0432
35/45 [======================>.......] - ETA: 0s - loss: 1.5448 - pearson_correlation: 0.0494
37/45 [=======================>......] - ETA: 0s - loss: 1.5502 - pearson_correlation: 0.0532
39/45 [=========================>....] - ETA: 0s - loss: 1.5574 - pearson_correlation: 0.0634
41/45 [==========================>...] - ETA: 0s - loss: 1.5532 - pearson_correlation: 0.0732
44/45 [============================>.] - ETA: 0s - loss: 1.5632 - pearson_correlation: 0.0828
45/45 [==============================] - 5s 29ms/step - loss: 1.5635 - pearson_correlation: 0.0835
1/4 [======>.......................] - ETA: 1s
4/4 [==============================] - 0s 4ms/step
1/1 [==============================] - ETA: 0s
1/1 [==============================] - 0s 24ms/step
1/32 [..............................] - ETA: 0s
12/32 [==========>...................] - ETA: 0s
22/32 [===================>..........] - ETA: 0s
31/32 [============================>.] - ETA: 0s
32/32 [==============================] - 0s 5ms/step
1/32 [..............................] - ETA: 0s
13/32 [===========>..................] - ETA: 0s
23/32 [====================>.........] - ETA: 0s
31/32 [============================>.] - ETA: 0s
32/32 [==============================] - 0s 5ms/step
1/1 [==============================] - ETA: 0s
1/1 [==============================] - 0s 25ms/step
1/32 [..............................] - ETA: 0s
14/32 [============>.................] - ETA: 0s
25/32 [======================>.......] - ETA: 0s
32/32 [==============================] - 0s 4ms/step
1/32 [..............................] - ETA: 0s
13/32 [===========>..................] - ETA: 0s
22/32 [===================>..........] - ETA: 0s
31/32 [============================>.] - ETA: 0s
32/32 [==============================] - 0s 5ms/step
1/32 [..............................] - ETA: 0s
13/32 [===========>..................] - ETA: 0s
22/32 [===================>..........] - ETA: 0s
31/32 [============================>.] - ETA: 0s
32/32 [==============================] - 0s 5ms/step
1/32 [..............................] - ETA: 0s
13/32 [===========>..................] - ETA: 0s
23/32 [====================>.........] - ETA: 0s
32/32 [==============================] - 0s 5ms/step
[ FAIL 0 | WARN 0 | SKIP 0 | PASS 13 ]
>
> proc.time()
user system elapsed
25.403 2.267 18.929
ttgsea.Rcheck/ttgsea-Ex.timings
| name | user | system | elapsed | |
| bi_gru | 3.476 | 0.704 | 4.157 | |
| bi_lstm | 0.212 | 0.000 | 0.210 | |
| fit_model | 23.758 | 1.471 | 14.836 | |
| metric_pearson_correlation | 0.012 | 0.000 | 0.011 | |
| plot_model | 0.192 | 0.004 | 0.189 | |
| predict_model | 24.531 | 1.704 | 13.845 | |
| sampling_generator | 0.001 | 0.000 | 0.000 | |
| text_token | 9.519 | 0.393 | 6.107 | |
| token_vector | 9.637 | 0.339 | 6.199 | |