| Back to Multiple platform build/check report for BioC 3.18: simplified long |
|
This page was generated on 2024-04-17 11:36:28 -0400 (Wed, 17 Apr 2024).
| Hostname | OS | Arch (*) | R version | Installed pkgs |
|---|---|---|---|---|
| nebbiolo2 | Linux (Ubuntu 22.04.3 LTS) | x86_64 | 4.3.3 (2024-02-29) -- "Angel Food Cake" | 4676 |
| palomino4 | Windows Server 2022 Datacenter | x64 | 4.3.3 (2024-02-29 ucrt) -- "Angel Food Cake" | 4414 |
| merida1 | macOS 12.7.1 Monterey | x86_64 | 4.3.3 (2024-02-29) -- "Angel Food Cake" | 4437 |
| Click on any hostname to see more info about the system (e.g. compilers) (*) as reported by 'uname -p', except on Windows and Mac OS X | ||||
| Package 2165/2266 | Hostname | OS / Arch | INSTALL | BUILD | CHECK | BUILD BIN | ||||||||
| tRanslatome 1.40.0 (landing page) Toma Tebaldi
| nebbiolo2 | Linux (Ubuntu 22.04.3 LTS) / x86_64 | OK | OK | OK | |||||||||
| palomino4 | Windows Server 2022 Datacenter / x64 | OK | OK | OK | OK | |||||||||
| merida1 | macOS 12.7.1 Monterey / x86_64 | OK | OK | OK | OK | |||||||||
| kjohnson1 | macOS 13.6.1 Ventura / arm64 | see weekly results here | ||||||||||||
|
To the developers/maintainers of the tRanslatome package: - Allow up to 24 hours (and sometimes 48 hours) for your latest push to git@git.bioconductor.org:packages/tRanslatome.git to reflect on this report. See Troubleshooting Build Report for more information. - Use the following Renviron settings to reproduce errors and warnings. - If 'R CMD check' started to fail recently on the Linux builder(s) over a missing dependency, add the missing dependency to 'Suggests:' in your DESCRIPTION file. See Renviron.bioc for more information. |
| Package: tRanslatome |
| Version: 1.40.0 |
| Command: /home/biocbuild/bbs-3.18-bioc/R/bin/R CMD check --install=check:tRanslatome.install-out.txt --library=/home/biocbuild/bbs-3.18-bioc/R/site-library --timings tRanslatome_1.40.0.tar.gz |
| StartedAt: 2024-04-16 04:52:26 -0400 (Tue, 16 Apr 2024) |
| EndedAt: 2024-04-16 04:58:51 -0400 (Tue, 16 Apr 2024) |
| EllapsedTime: 384.3 seconds |
| RetCode: 0 |
| Status: OK |
| CheckDir: tRanslatome.Rcheck |
| Warnings: 0 |
##############################################################################
##############################################################################
###
### Running command:
###
### /home/biocbuild/bbs-3.18-bioc/R/bin/R CMD check --install=check:tRanslatome.install-out.txt --library=/home/biocbuild/bbs-3.18-bioc/R/site-library --timings tRanslatome_1.40.0.tar.gz
###
##############################################################################
##############################################################################
* using log directory ‘/home/biocbuild/bbs-3.18-bioc/meat/tRanslatome.Rcheck’
* using R version 4.3.3 (2024-02-29)
* using platform: x86_64-pc-linux-gnu (64-bit)
* R was compiled by
gcc (Ubuntu 11.4.0-1ubuntu1~22.04) 11.4.0
GNU Fortran (Ubuntu 11.4.0-1ubuntu1~22.04) 11.4.0
* running under: Ubuntu 22.04.4 LTS
* using session charset: UTF-8
* checking for file ‘tRanslatome/DESCRIPTION’ ... OK
* checking extension type ... Package
* this is package ‘tRanslatome’ version ‘1.40.0’
* checking package namespace information ... OK
* checking package dependencies ... NOTE
Depends: includes the non-default packages:
'limma', 'anota', 'DESeq2', 'edgeR', 'RankProd', 'topGO',
'org.Hs.eg.db', 'GOSemSim', 'Heatplus', 'gplots', 'plotrix',
'Biobase'
Adding so many packages to the search path is excessive and importing
selectively is preferable.
* checking if this is a source package ... OK
* checking if there is a namespace ... OK
* checking for hidden files and directories ... OK
* checking for portable file names ... OK
* checking for sufficient/correct file permissions ... OK
* checking whether package ‘tRanslatome’ can be installed ... OK
* checking installed package size ... OK
* checking package directory ... OK
* checking ‘build’ directory ... OK
* checking DESCRIPTION meta-information ... OK
* checking top-level files ... OK
* checking for left-over files ... OK
* checking index information ... OK
* checking package subdirectories ... OK
* checking R files for non-ASCII characters ... OK
* checking R files for syntax errors ... OK
* checking whether the package can be loaded ... OK
* checking whether the package can be loaded with stated dependencies ... OK
* checking whether the package can be unloaded cleanly ... OK
* checking whether the namespace can be loaded with stated dependencies ... OK
* checking whether the namespace can be unloaded cleanly ... OK
* checking loading without being on the library search path ... OK
* checking dependencies in R code ... OK
* checking S3 generic/method consistency ... OK
* checking replacement functions ... OK
* checking foreign function calls ... OK
* checking R code for possible problems ... NOTE
methodLimma: no visible global function definition for ‘lmFit’
methodTTest: no visible global function definition for ‘calcTStatFast’
GOEnrichment,DEGs: no visible global function definition for ‘toTable’
Undefined global functions or variables:
calcTStatFast lmFit toTable
* checking Rd files ... OK
* checking Rd metadata ... OK
* checking Rd cross-references ... OK
* checking for missing documentation entries ... OK
* checking for code/documentation mismatches ... OK
* checking Rd \usage sections ... OK
* checking Rd contents ... OK
* checking for unstated dependencies in examples ... OK
* checking contents of ‘data’ directory ... OK
* checking data for non-ASCII characters ... OK
* checking data for ASCII and uncompressed saves ... OK
* checking files in ‘vignettes’ ... OK
* checking examples ... OK
Examples with CPU (user + system) or elapsed time > 5s
user system elapsed
GOComparison 11.767 0.659 12.427
GOEnrichment 11.364 0.132 11.496
* checking for unstated dependencies in vignettes ... OK
* checking package vignettes in ‘inst/doc’ ... OK
* checking running R code from vignettes ...
‘tRanslatome_package.Rnw’ using ‘UTF-8’... OK
OK
* checking re-building of vignette outputs ... OK
* checking PDF version of manual ... OK
* DONE
Status: 2 NOTEs
See
‘/home/biocbuild/bbs-3.18-bioc/meat/tRanslatome.Rcheck/00check.log’
for details.
tRanslatome.Rcheck/00install.out
############################################################################## ############################################################################## ### ### Running command: ### ### /home/biocbuild/bbs-3.18-bioc/R/bin/R CMD INSTALL tRanslatome ### ############################################################################## ############################################################################## * installing to library ‘/home/biocbuild/bbs-3.18-bioc/R/site-library’ * installing *source* package ‘tRanslatome’ ... ** using staged installation ** R ** data ** byte-compile and prepare package for lazy loading groupGOTerms: GOBPTerm, GOMFTerm, GOCCTerm environments built. ** help *** installing help indices ** building package indices ** installing vignettes ** testing if installed package can be loaded from temporary location groupGOTerms: GOBPTerm, GOMFTerm, GOCCTerm environments built. ** testing if installed package can be loaded from final location groupGOTerms: GOBPTerm, GOMFTerm, GOCCTerm environments built. ** testing if installed package keeps a record of temporary installation path * DONE (tRanslatome)
tRanslatome.Rcheck/tRanslatome-Ex.timings
| name | user | system | elapsed | |
| CVplot | 0.104 | 0.000 | 0.104 | |
| DEGs | 0.000 | 0.000 | 0.001 | |
| DEGs.table | 0.064 | 0.052 | 0.116 | |
| EnrichedSets | 0.001 | 0.000 | 0.001 | |
| FC.threshold | 0.049 | 0.000 | 0.049 | |
| GOComparison | 11.767 | 0.659 | 12.427 | |
| GOEnrichment | 11.364 | 0.132 | 11.496 | |
| GOsets | 0.001 | 0.000 | 0.000 | |
| GOsims | 0 | 0 | 0 | |
| Heatmap | 0.119 | 0.000 | 0.119 | |
| Histogram | 0.055 | 0.000 | 0.055 | |
| IdentityPlot | 0.046 | 0.003 | 0.050 | |
| MAplot | 0.083 | 0.000 | 0.084 | |
| Radar | 0.097 | 0.001 | 0.097 | |
| RegulatoryEnrichment | 1.232 | 0.040 | 1.272 | |
| SDplot | 0.083 | 0.000 | 0.083 | |
| Scatterplot | 0.114 | 0.000 | 0.114 | |
| SimilarityPlot | 0.048 | 0.003 | 0.051 | |
| TranslatomeDataset | 0.001 | 0.001 | 0.000 | |
| average.similarity.scores | 0.049 | 0.000 | 0.050 | |
| computeDEGs | 0.320 | 0.003 | 0.323 | |
| enriched.table | 0.048 | 0.005 | 0.052 | |
| getConditionA | 0.05 | 0.00 | 0.05 | |
| getConditionB | 0.049 | 0.000 | 0.050 | |
| getConditionC | 0.05 | 0.00 | 0.05 | |
| getConditionD | 0.046 | 0.003 | 0.050 | |
| getConditionLabels | 0.050 | 0.000 | 0.049 | |
| getDEGs | 0.046 | 0.004 | 0.050 | |
| getDEGsMethod | 0.050 | 0.001 | 0.050 | |
| getDataType | 0.042 | 0.007 | 0.050 | |
| getExprMatrix | 0.059 | 0.024 | 0.083 | |
| getLevelLabels | 0.050 | 0.001 | 0.050 | |
| identity.matrix | 0.051 | 0.004 | 0.055 | |
| label.condition | 0.047 | 0.003 | 0.050 | |
| label.level.DEGs | 0.046 | 0.004 | 0.050 | |
| label.level.enriched | 0.050 | 0.001 | 0.051 | |
| newTranslatomeDataset | 0.051 | 0.000 | 0.052 | |
| significance.threshold | 0.05 | 0.00 | 0.05 | |
| similarity.matrix | 0.051 | 0.000 | 0.050 | |
| tRanslatomeSampleData | 0.046 | 0.004 | 0.050 | |