| Back to Multiple platform build/check report for BioC 3.18: simplified long |
|
This page was generated on 2024-04-17 11:37:23 -0400 (Wed, 17 Apr 2024).
| Hostname | OS | Arch (*) | R version | Installed pkgs |
|---|---|---|---|---|
| nebbiolo2 | Linux (Ubuntu 22.04.3 LTS) | x86_64 | 4.3.3 (2024-02-29) -- "Angel Food Cake" | 4676 |
| palomino4 | Windows Server 2022 Datacenter | x64 | 4.3.3 (2024-02-29 ucrt) -- "Angel Food Cake" | 4414 |
| merida1 | macOS 12.7.1 Monterey | x86_64 | 4.3.3 (2024-02-29) -- "Angel Food Cake" | 4437 |
| Click on any hostname to see more info about the system (e.g. compilers) (*) as reported by 'uname -p', except on Windows and Mac OS X | ||||
| Package 2098/2266 | Hostname | OS / Arch | INSTALL | BUILD | CHECK | BUILD BIN | ||||||||
| syntenet 1.4.2 (landing page) FabrÃcio Almeida-Silva
| nebbiolo2 | Linux (Ubuntu 22.04.3 LTS) / x86_64 | OK | OK | OK | |||||||||
| palomino4 | Windows Server 2022 Datacenter / x64 | OK | OK | OK | OK | |||||||||
| merida1 | macOS 12.7.1 Monterey / x86_64 | OK | OK | OK | OK | |||||||||
| kjohnson1 | macOS 13.6.1 Ventura / arm64 | see weekly results here | ||||||||||||
|
To the developers/maintainers of the syntenet package: - Allow up to 24 hours (and sometimes 48 hours) for your latest push to git@git.bioconductor.org:packages/syntenet.git to reflect on this report. See Troubleshooting Build Report for more information. - Use the following Renviron settings to reproduce errors and warnings. - If 'R CMD check' started to fail recently on the Linux builder(s) over a missing dependency, add the missing dependency to 'Suggests:' in your DESCRIPTION file. See Renviron.bioc for more information. |
| Package: syntenet |
| Version: 1.4.2 |
| Command: F:\biocbuild\bbs-3.18-bioc\R\bin\R.exe CMD check --no-multiarch --install=check:syntenet.install-out.txt --library=F:\biocbuild\bbs-3.18-bioc\R\library --no-vignettes --timings syntenet_1.4.2.tar.gz |
| StartedAt: 2024-04-16 05:43:08 -0400 (Tue, 16 Apr 2024) |
| EndedAt: 2024-04-16 05:48:45 -0400 (Tue, 16 Apr 2024) |
| EllapsedTime: 336.9 seconds |
| RetCode: 0 |
| Status: OK |
| CheckDir: syntenet.Rcheck |
| Warnings: 0 |
##############################################################################
##############################################################################
###
### Running command:
###
### F:\biocbuild\bbs-3.18-bioc\R\bin\R.exe CMD check --no-multiarch --install=check:syntenet.install-out.txt --library=F:\biocbuild\bbs-3.18-bioc\R\library --no-vignettes --timings syntenet_1.4.2.tar.gz
###
##############################################################################
##############################################################################
* using log directory 'F:/biocbuild/bbs-3.18-bioc/meat/syntenet.Rcheck'
* using R version 4.3.3 (2024-02-29 ucrt)
* using platform: x86_64-w64-mingw32 (64-bit)
* R was compiled by
gcc.exe (GCC) 12.3.0
GNU Fortran (GCC) 12.3.0
* running under: Windows Server 2022 x64 (build 20348)
* using session charset: UTF-8
* using option '--no-vignettes'
* checking for file 'syntenet/DESCRIPTION' ... OK
* this is package 'syntenet' version '1.4.2'
* package encoding: UTF-8
* checking package namespace information ... OK
* checking package dependencies ... OK
* checking if this is a source package ... OK
* checking if there is a namespace ... OK
* checking for hidden files and directories ... OK
* checking for portable file names ... OK
* checking whether package 'syntenet' can be installed ... OK
* used C++ compiler: 'G__~1.EXE (GCC) 12.3.0'
* checking installed package size ... OK
* checking package directory ... OK
* checking 'build' directory ... OK
* checking DESCRIPTION meta-information ... OK
* checking top-level files ... OK
* checking for left-over files ... OK
* checking index information ... OK
* checking package subdirectories ... OK
* checking R files for non-ASCII characters ... OK
* checking R files for syntax errors ... OK
* checking whether the package can be loaded ... OK
* checking whether the package can be loaded with stated dependencies ... OK
* checking whether the package can be unloaded cleanly ... OK
* checking whether the namespace can be loaded with stated dependencies ... OK
* checking whether the namespace can be unloaded cleanly ... OK
* checking dependencies in R code ... OK
* checking S3 generic/method consistency ... OK
* checking replacement functions ... OK
* checking foreign function calls ... OK
* checking R code for possible problems ... OK
* checking Rd files ... OK
* checking Rd metadata ... OK
* checking Rd cross-references ... OK
* checking for missing documentation entries ... OK
* checking for code/documentation mismatches ... OK
* checking Rd \usage sections ... OK
* checking Rd contents ... OK
* checking for unstated dependencies in examples ... OK
* checking contents of 'data' directory ... OK
* checking data for non-ASCII characters ... OK
* checking data for ASCII and uncompressed saves ... OK
* checking line endings in C/C++/Fortran sources/headers ... OK
* checking compiled code ... NOTE
Note: information on .o files for x64 is not available
File 'F:/biocbuild/bbs-3.18-bioc/R/library/syntenet/libs/x64/syntenet.dll':
Found 'abort', possibly from 'abort' (C), 'runtime' (Fortran)
Found 'exit', possibly from 'exit' (C), 'stop' (Fortran)
Compiled code should not call entry points which might terminate R nor
write to stdout/stderr instead of to the console, nor use Fortran I/O
nor system RNGs nor [v]sprintf. The detected symbols are linked into
the code but might come from libraries and not actually be called.
See 'Writing portable packages' in the 'Writing R Extensions' manual.
* checking files in 'vignettes' ... OK
* checking examples ... OK
Examples with CPU (user + system) or elapsed time > 5s
user system elapsed
plot_profiles 7.63 0.05 7.68
find_GS_clusters 6.27 0.16 6.44
* checking for unstated dependencies in 'tests' ... OK
* checking tests ...
Running 'testthat.R'
OK
* checking for unstated dependencies in vignettes ... OK
* checking package vignettes in 'inst/doc' ... OK
* checking running R code from vignettes ... SKIPPED
* checking re-building of vignette outputs ... SKIPPED
* checking PDF version of manual ... OK
* DONE
Status: 1 NOTE
See
'F:/biocbuild/bbs-3.18-bioc/meat/syntenet.Rcheck/00check.log'
for details.
syntenet.Rcheck/00install.out
############################################################################## ############################################################################## ### ### Running command: ### ### F:\biocbuild\bbs-3.18-bioc\R\bin\R.exe CMD INSTALL syntenet ### ############################################################################## ############################################################################## * installing to library 'F:/biocbuild/bbs-3.18-bioc/R/library' * installing *source* package 'syntenet' ... ** using staged installation ** libs using C++ compiler: 'G__~1.EXE (GCC) 12.3.0' g++ -std=gnu++17 -I"F:/biocbuild/bbs-3.18-bioc/R/include" -DNDEBUG -I'F:/biocbuild/bbs-3.18-bioc/R/library/Rcpp/include' -I'F:/biocbuild/bbs-3.18-bioc/R/library/testthat/include' -I"C:/rtools43/x86_64-w64-mingw32.static.posix/include" -O2 -Wall -mfpmath=sse -msse2 -mstackrealign -c RcppExports.cpp -o RcppExports.o g++ -std=gnu++17 -I"F:/biocbuild/bbs-3.18-bioc/R/include" -DNDEBUG -I'F:/biocbuild/bbs-3.18-bioc/R/library/Rcpp/include' -I'F:/biocbuild/bbs-3.18-bioc/R/library/testthat/include' -I"C:/rtools43/x86_64-w64-mingw32.static.posix/include" -O2 -Wall -mfpmath=sse -msse2 -mstackrealign -c mcscanxr.cpp -o mcscanxr.o g++ -std=gnu++17 -I"F:/biocbuild/bbs-3.18-bioc/R/include" -DNDEBUG -I'F:/biocbuild/bbs-3.18-bioc/R/library/Rcpp/include' -I'F:/biocbuild/bbs-3.18-bioc/R/library/testthat/include' -I"C:/rtools43/x86_64-w64-mingw32.static.posix/include" -O2 -Wall -mfpmath=sse -msse2 -mstackrealign -c test-runner.cpp -o test-runner.o g++ -std=gnu++17 -shared -s -static-libgcc -o syntenet.dll tmp.def RcppExports.o mcscanxr.o test-runner.o -LC:/rtools43/x86_64-w64-mingw32.static.posix/lib/x64 -LC:/rtools43/x86_64-w64-mingw32.static.posix/lib -LF:/biocbuild/bbs-3.18-bioc/R/bin/x64 -lR installing to F:/biocbuild/bbs-3.18-bioc/R/library/00LOCK-syntenet/00new/syntenet/libs/x64 ** R ** data ** inst ** byte-compile and prepare package for lazy loading ** help *** installing help indices *** copying figures ** building package indices ** installing vignettes ** testing if installed package can be loaded from temporary location ** testing if installed package can be loaded from final location ** testing if installed package keeps a record of temporary installation path * DONE (syntenet)
syntenet.Rcheck/tests/testthat.Rout
R version 4.3.3 (2024-02-29 ucrt) -- "Angel Food Cake"
Copyright (C) 2024 The R Foundation for Statistical Computing
Platform: x86_64-w64-mingw32/x64 (64-bit)
R is free software and comes with ABSOLUTELY NO WARRANTY.
You are welcome to redistribute it under certain conditions.
Type 'license()' or 'licence()' for distribution details.
R is a collaborative project with many contributors.
Type 'contributors()' for more information and
'citation()' on how to cite R or R packages in publications.
Type 'demo()' for some demos, 'help()' for on-line help, or
'help.start()' for an HTML browser interface to help.
Type 'q()' to quit R.
> library(testthat)
> library(syntenet)
>
> test_check("syntenet")
Reading GFF file and pre-processing
Reading BLAST file and pre-processing
Generating BLAST list
match_list.size: 172
172 matches imported (171 discarded)
6 pairwise comparisons
0 alignments generated
Pairwise collinear blocks written to Olucimarinus.collinearity
Done!
Reading GFF file and pre-processing
Reading BLAST file and pre-processing
Generating BLAST list
match_list.size: 172
172 matches imported (171 discarded)
6 pairwise comparisons
0 alignments generated
Pairwise collinear blocks written to Olucimarinus.collinearity
Done!
Reading GFF file and pre-processing
Reading BLAST file and pre-processing
Generating BLAST list
match_list.size: 19
19 matches imported (17 discarded)
6 pairwise comparisons
0 alignments generated
Pairwise collinear blocks written to OspRCC809.collinearity
Done!
Reading GFF file and pre-processing
Reading BLAST file and pre-processing
Generating BLAST list
match_list.size: 1267
1267 matches imported (1257 discarded)
9 pairwise comparisons
8 alignments generated
Pairwise collinear blocks written to Olucimarinus_OspRCC809.collinearity
Done!
Reading GFF file and pre-processing
Reading BLAST file and pre-processing
Generating BLAST list
match_list.size: 172
172 matches imported (171 discarded)
6 pairwise comparisons
0 alignments generated
Pairwise collinear blocks written to Olucimarinus.collinearity
Tandem pairs written to Olucimarinus.tandem
Writing multiple syntenic blocks to HTML files
Olu_Chr_1.html
Olu_Chr_2.html
Olu_Chr_3.html
Done!
Reading GFF file and pre-processing
Reading BLAST file and pre-processing
Generating BLAST list
match_list.size: 19
19 matches imported (17 discarded)
6 pairwise comparisons
0 alignments generated
Pairwise collinear blocks written to OspRCC809.collinearity
Writing multiple syntenic blocks to HTML files
Osp_chr_1.html
Osp_chr_2.html
Osp_chr_3.html
Done!
Reading GFF file and pre-processing
Reading BLAST file and pre-processing
Generating BLAST list
match_list.size: 1267
1267 matches imported (1257 discarded)
9 pairwise comparisons
8 alignments generated
Pairwise collinear blocks written to Olucimarinus_OspRCC809.collinearity
Writing multiple syntenic blocks to HTML files
Olu_Chr_1.html
Olu_Chr_2.html
Olu_Chr_3.html
Osp_chr_1.html
Osp_chr_2.html
Osp_chr_3.html
Done!
[ FAIL 0 | WARN 0 | SKIP 0 | PASS 102 ]
>
> proc.time()
user system elapsed
40.68 3.81 44.87
syntenet.Rcheck/syntenet-Ex.timings
| name | user | system | elapsed | |
| angiosperm_phylogeny | 0.02 | 0.00 | 0.01 | |
| annotation | 0 | 0 | 0 | |
| binarize_and_transpose | 0.22 | 0.00 | 0.22 | |
| blast_list | 0.02 | 0.00 | 0.01 | |
| check_input | 0.19 | 0.01 | 0.21 | |
| cluster_network | 0.26 | 0.00 | 0.26 | |
| clusters | 0.02 | 0.02 | 0.03 | |
| collapse_protein_ids | 0.44 | 0.01 | 0.45 | |
| create_species_id_table | 0.08 | 0.00 | 0.08 | |
| diamond_is_installed | 0 | 0 | 0 | |
| edges | 0.00 | 0.02 | 0.02 | |
| export_sequences | 0.39 | 0.01 | 0.40 | |
| fasta2AAStringSetlist | 0.00 | 0.00 | 0.03 | |
| find_GS_clusters | 6.27 | 0.16 | 6.44 | |
| gff2GRangesList | 0.21 | 0.00 | 0.24 | |
| infer_microsynteny_phylogeny | 0.21 | 0.00 | 0.20 | |
| infer_syntenet | 1.29 | 0.57 | 1.93 | |
| interspecies_synteny | 0.63 | 0.08 | 0.72 | |
| intraspecies_synteny | 1.98 | 1.30 | 3.28 | |
| iqtree_is_installed | 0.02 | 0.00 | 0.02 | |
| iqtree_version | 0 | 0 | 0 | |
| last_is_installed | 0.00 | 0.02 | 0.01 | |
| network | 0.39 | 0.00 | 0.39 | |
| parse_collinearity | 0.02 | 0.00 | 0.02 | |
| phylogenomic_profile | 0.18 | 0.00 | 0.19 | |
| plot_network | 2.50 | 0.04 | 2.54 | |
| plot_profiles | 7.63 | 0.05 | 7.68 | |
| process_input | 0.17 | 0.01 | 0.18 | |
| profiles2phylip | 0.31 | 0.00 | 0.32 | |
| proteomes | 0.08 | 0.02 | 0.09 | |
| read_diamond | 0 | 0 | 0 | |
| run_diamond | 0.17 | 0.02 | 0.19 | |
| run_last | 0.19 | 0.03 | 0.22 | |
| scerevisiae_annot | 0.02 | 0.00 | 0.01 | |
| scerevisiae_diamond | 0.03 | 0.00 | 0.03 | |